BEGIN:VCALENDAR
VERSION:2.0
PRODID:IEEE vTools.Events//EN
CALSCALE:GREGORIAN
BEGIN:VTIMEZONE
TZID:America/Halifax
BEGIN:DAYLIGHT
DTSTART:20210314T030000
TZOFFSETFROM:-0400
TZOFFSETTO:-0300
RRULE:FREQ=YEARLY;BYDAY=2SU;BYMONTH=3
TZNAME:ADT
END:DAYLIGHT
BEGIN:STANDARD
DTSTART:20211107T010000
TZOFFSETFROM:-0300
TZOFFSETTO:-0400
RRULE:FREQ=YEARLY;BYDAY=1SU;BYMONTH=11
TZNAME:AST
END:STANDARD
END:VTIMEZONE
BEGIN:VEVENT
DTSTAMP:20210609T183136Z
UID:099BB05C-FBF2-4019-9985-E74C29375BCA
DTSTART;TZID=America/Halifax:20210603T174500
DTEND;TZID=America/Halifax:20210603T191500
DESCRIPTION:Public speaking can often be intimidating and technical present
 ations can be difficult to prepare and perform. Join us in this special ev
 ent in collaboration with Dalhousie Toastmasters to learn how to overcome 
 the fear of public speaking and how to prepare for a presentation in your 
 engineering career.\n\nDalhousie Toastmasters Club is a group of post-seco
 ndary students\, graduate students\, and professionals. The club aims to i
 mprove public speaking and leadership skills through prepared\, impromptu 
 and evaluation speeches. The supportive and collaborative environment of t
 he club offers a safe and fun space to develop your communication skills\,
  self-confidence\, and creativity. More information can be found on their 
 Facebook page at Dalhousie Toastmasters and on [www.toastmasters.org](http
 ://www.toastmasters.org/)\n\nThis is a free virtual event and open to anyo
 ne interested!\n\n*WebEx meeting link will be provided prior to the event 
 to all registered attendees.\n\nAgenda: \n6.00 - 6.05 - Introduction\n\n6.
 05 - 6.45 - Presentation\n\n6.45 - 7.00 - Q&amp;A\n\nHalifax\, Nova Scotia\, C
 anada\, Virtual: https://events.vtools.ieee.org/m/272366
LOCATION:Halifax\, Nova Scotia\, Canada\, Virtual: https://events.vtools.ie
 ee.org/m/272366
ORGANIZER:mishika.hannedige@ieee.org
SEQUENCE:14
SUMMARY:Mastering Public Speaking
URL;VALUE=URI:https://events.vtools.ieee.org/m/272366
X-ALT-DESC:Description: &lt;br /&gt;&lt;p&gt;&lt;span style=&quot;font-weight: 400\;&quot;&gt;Public sp
 eaking can often be intimidating and technical presentations can be diffic
 ult to prepare and perform. Join us in this special event in collaboration
  with Dalhousie Toastmasters to learn how to overcome the fear of public s
 peaking and how to prepare for a presentation in your engineering career.&lt;
 /span&gt;&lt;/p&gt;\n&lt;p&gt;&amp;nbsp\;&lt;/p&gt;\n&lt;p&gt;&lt;span style=&quot;font-weight: 400\;&quot;&gt;Dalhousie 
 Toastmasters Club is a group of post-secondary students\, graduate student
 s\, and professionals. The club aims to improve public speaking and leader
 ship skills through prepared\, impromptu and evaluation speeches. The supp
 ortive and collaborative environment of the club offers a safe and fun spa
 ce to develop your communication skills\, self-confidence\, and creativity
 . More information can be found on their Facebook page at Dalhousie Toastm
 asters and on &lt;/span&gt;&lt;a href=&quot;http://www.toastmasters.org/&quot;&gt;&lt;span style=&quot;f
 ont-weight: 400\;&quot;&gt;www.toastmasters.org&lt;/span&gt;&lt;/a&gt;&lt;/p&gt;\n&lt;p&gt;&amp;nbsp\;&lt;/p&gt;\n&lt;p
 &gt;&lt;strong&gt;This is a free virtual event and open to anyone interested!&amp;nbsp\
 ;&lt;/strong&gt;&lt;/p&gt;\n&lt;p&gt;&amp;nbsp\;&lt;/p&gt;\n&lt;p&gt;&lt;span style=&quot;font-weight: 400\;&quot;&gt;*WebEx
  meeting link will be provided prior to the event to all &lt;/span&gt;&lt;strong&gt;re
 gistered attendees.&lt;/strong&gt;&lt;/p&gt;\n&lt;p&gt;&amp;nbsp\;&lt;/p&gt;\n&lt;p&gt;&amp;nbsp\;&lt;/p&gt;\n&lt;p&gt;&amp;nbsp
 \;&lt;/p&gt;&lt;br /&gt;&lt;br /&gt;Agenda: &lt;br /&gt;&lt;p&gt;6.00 - 6.05 - Introduction&lt;/p&gt;\n&lt;p&gt;6.05
  - 6.45 - Presentation&amp;nbsp\;&lt;/p&gt;\n&lt;p&gt;6.45 - 7.00 - Q&amp;amp\;A&lt;/p&gt;
END:VEVENT
END:VCALENDAR

