BEGIN:VCALENDAR
VERSION:2.0
PRODID:IEEE vTools.Events//EN
CALSCALE:GREGORIAN
BEGIN:VTIMEZONE
TZID:US/Eastern
BEGIN:DAYLIGHT
DTSTART:20210314T030000
TZOFFSETFROM:-0500
TZOFFSETTO:-0400
RRULE:FREQ=YEARLY;BYDAY=2SU;BYMONTH=3
TZNAME:EDT
END:DAYLIGHT
BEGIN:STANDARD
DTSTART:20211107T010000
TZOFFSETFROM:-0400
TZOFFSETTO:-0500
RRULE:FREQ=YEARLY;BYDAY=1SU;BYMONTH=11
TZNAME:EST
END:STANDARD
END:VTIMEZONE
BEGIN:VEVENT
DTSTAMP:20210623T135354Z
UID:C63B6A27-E290-4C8E-BE11-2C3829DD3EB1
DTSTART;TZID=US/Eastern:20210622T180000
DTEND;TZID=US/Eastern:20210622T194500
DESCRIPTION:Recently in February 2021\, as part of an innovative and fresh 
 approach\, i.e. a non-traditional meeting event: we presented a video docu
 mentary. This was very warmly received. So we decided to continue the good
  work.\n\nWe proudly present\, in partnership with the IEEE Foundation: &quot;D
 ivine Discontent: The Life of Charles Proteus Steinmetz&quot;\n\nSummary: This 
 documentary/movie will look at the life and contributions of one of the mo
 st celebrated Engineers and inventors\, Charles Proteus Steinmetz. Dr. Ste
 inmetz was a legendary figure in his time inside and outside of GE. He was
  a Chief Consulting Engineer\, a Professor at Union College\, a Community 
 Activist\, and a family man. We will relive his path from a small town in 
 Prussia to New York and his great accomplishments in Science\, Engineering
 \, Education\, and contributions to Society. Running time is approximately
  55 minutes. This documentary is brought to you by the IEEE Foundation who
  partially funded this. The trailer can be viewed at: https://vimeo.com/57
 064748\n\nAFTER the movie - we will have a brief discussion/chat session.\
 n\nCo-sponsored by: Subramaniam Ganesan\n\nAgenda: \n6:00 PM - Welcome and
  Introductions\, Chapter business update\; (on your own) Pizza\, Popcorn a
 nd Soda Pop\n\n6:15 PM - Documentary\n\n7:15 PM - End of Documentary\; Sta
 rt of Q &amp; A\; Group Discussion\n\n7:30 PM - Wrap Up\n\nRochester\, Michiga
 n\, United States\, 48309-4479\, Virtual: https://events.vtools.ieee.org/m
 /272380
LOCATION:Rochester\, Michigan\, United States\, 48309-4479\, Virtual: https
 ://events.vtools.ieee.org/m/272380
ORGANIZER:sharan.kalwani@ieee.org
SEQUENCE:7
SUMMARY:Summertime MOVIE NIGHT=&gt;Divine Discontent: The Life of Charles Prot
 eus Steinmetz
URL;VALUE=URI:https://events.vtools.ieee.org/m/272380
X-ALT-DESC:Description: &lt;br /&gt;&lt;p&gt;Recently in February 2021\, as part of an 
 innovative and fresh approach\, i.e. a non-traditional meeting event: we p
 resented a video documentary. This was very warmly received. So we decided
  to continue the good work.&lt;/p&gt;\n&lt;p&gt;We proudly present\, in &lt;em&gt;&lt;strong&gt;pa
 rtnership&lt;/strong&gt;&lt;/em&gt; with the&lt;span style=&quot;text-decoration: underline\;&quot;
 &gt;&lt;strong&gt;&lt;em&gt; IEEE Foundation&lt;/em&gt;&lt;/strong&gt;&lt;/span&gt;: &quot;Divine Discontent: Th
 e Life of Charles Proteus Steinmetz&quot;&lt;/p&gt;\n&lt;p&gt;&lt;strong&gt;Summary:&amp;nbsp\;&lt;/stro
 ng&gt;&lt;em&gt;This documentary/movie will look at the life and contributions of o
 ne of the most celebrated Engineers and inventors\, Charles Proteus Steinm
 etz. Dr. Steinmetz was a legendary figure in his time inside and outside o
 f GE. He was a Chief Consulting Engineer\, a Professor at Union College\, 
 a Community Activist\, and a family man. We will relive his path from a sm
 all town in Prussia to New York and his great accomplishments in Science\,
  Engineering\, Education\, and contributions to Society. Running time is a
 pproximately 55 minutes. This documentary is brought to you by the IEEE Fo
 undation who partially funded this. The trailer can be viewed at:&lt;/em&gt; &lt;a 
 title=&quot;trailer&quot; href=&quot;https://vimeo.com/57064748&quot; target=&quot;_blank&quot; rel=&quot;noo
 pener&quot;&gt;https://vimeo.com/57064748&lt;/a&gt;&lt;/p&gt;\n&lt;p&gt;&lt;span style=&quot;color: #800000\
 ;&quot;&gt;&lt;strong&gt;AFTER the movie - we will have a brief discussion/chat session.
 &lt;/strong&gt; &lt;/span&gt;&lt;/p&gt;&lt;br /&gt;&lt;br /&gt;Agenda: &lt;br /&gt;&lt;p&gt;&lt;span style=&quot;font-family
 : courier new\, courier\, monospace\; font-size: 12pt\;&quot;&gt;6:00 PM - Welcome
  and Introductions\, Chapter business update\; (on your own) Pizza\, Popco
 rn and Soda Pop&lt;br /&gt;&lt;/span&gt;&lt;/p&gt;\n&lt;p&gt;&lt;span style=&quot;font-family: courier new
 \, courier\, monospace\; font-size: 12pt\;&quot;&gt;6:15 PM - Documentary&lt;/span&gt;&lt;/
 p&gt;\n&lt;p&gt;&lt;span style=&quot;font-family: courier new\, courier\, monospace\; font-
 size: 12pt\;&quot;&gt;7:15 PM - End of Documentary\; Start of Q &amp;amp\; A\; Group D
 iscussion &lt;br /&gt;&lt;/span&gt;&lt;/p&gt;\n&lt;p&gt;&lt;span style=&quot;font-size: 12pt\;&quot;&gt;&lt;span styl
 e=&quot;font-family: courier new\, courier\, monospace\;&quot;&gt;7:30 PM - Wrap Up&lt;/sp
 an&gt;&lt;span style=&quot;font-family: courier new\, courier\, monospace\;&quot;&gt;&amp;nbsp\;&lt;
 /span&gt;&lt;/span&gt;&lt;/p&gt;\n&lt;p&gt;&lt;span style=&quot;font-size: 12pt\;&quot;&gt;&amp;nbsp\;&lt;/span&gt;&lt;/p&gt;
END:VEVENT
END:VCALENDAR

