BEGIN:VCALENDAR
VERSION:2.0
PRODID:IEEE vTools.Events//EN
CALSCALE:GREGORIAN
BEGIN:VTIMEZONE
TZID:America/Argentina/Buenos_Aires
BEGIN:DAYLIGHT
DTSTART:20380119T001407
TZOFFSETFROM:-0300
TZOFFSETTO:-0300
RRULE:FREQ=YEARLY;BYDAY=3TU;BYMONTH=1
TZNAME:-03
END:DAYLIGHT
BEGIN:STANDARD
DTSTART:20090314T230000
TZOFFSETFROM:-0200
TZOFFSETTO:-0300
RRULE:FREQ=YEARLY;BYDAY=2SA;BYMONTH=3
TZNAME:-03
END:STANDARD
END:VTIMEZONE
BEGIN:VEVENT
DTSTAMP:20220210T212814Z
UID:8AF32366-3C46-4201-9676-78CF4F56E3F2
DTSTART;TZID=America/Argentina/Buenos_Aires:20210528T180000
DTEND;TZID=America/Argentina/Buenos_Aires:20210528T193000
DESCRIPTION:El Capítulo Argentino Conjunto de las Sociedades IEEE Antennas
  &amp; Propagation y Electromagnetic Compatibility (APS/EMCS)\, la Facultad de
  Ingeniería del Ejército de la Universidad Nacional de la Defensa (FIE U
 NDEF) y el Instituto de Investigaciones Científicas y Técnicas para la D
 efensa (CITEDEF) invitan al siguiente webinario:\n\n&quot;Más allá de la EMC:
  Resultados de un proyecto y apreciaciones sobre la formación&quot;\n\nDiserta
 nte: Ing Norberto Dalmas Di Giovanni (FIE UNDEF\, CITEDEF)\n\nResumen\n\nM
 ás allá de la EMC: Qué ocurre con niveles de radiación menores a los i
 ndicados por las normas\, qué se puede medir y qué ocurre con la formaci
 ón en estas disciplinas.\n\nSe describirá la tarea realizada a partir de
  un requerimiento concreto\, desarrollado mediante un proyecto financiado 
 por el Ministerio de Defensa\, en el que se exploraron las radiaciones esp
 urias de una computadora personal\, los métodos de medición y el posible
  contenido de información de dichas señales. También se desarrolló una
  cámara de mediciones con características de reverberación.\n\nSe abord
 arán también aspectos de la especialidad en lo que compete a la formaci
 ón de jóvenes profesionales en estas áreas\, la participación históri
 ca de diferentes instituciones del Estado Nacional y el estado actual.\n\n
 El contenido de esta presentación resume otras presentaciones anteriormen
 te realizadas por el autor en eventos como los Congresos Argentino de Tecn
 ología Espacial e IEEE Argencon.\n\n* * *\n\nCo-sponsored by: IEEE AR APS
 /EMCS\; FIE UNDEF\; CITEDEF\n\nAgenda: \nFecha y hora: 28 Mayo 2021 - 18:0
 0 a 19:15 AR (GMT-3)\n\nSe solicita inscripción previa a través del link
  indicado.\n\nVirtual: https://events.vtools.ieee.org/m/272444
LOCATION:Virtual: https://events.vtools.ieee.org/m/272444
ORGANIZER:sergio.figueroa1202@gmail.com
SEQUENCE:10
SUMMARY:IEEE AR EMCS - Webinario: Mas allá de la EMC: Resultados de un pro
 yecto y apreciaciones sobre la formación. - Norberto Dalmas Di Giovanni
URL;VALUE=URI:https://events.vtools.ieee.org/m/272444
X-ALT-DESC:Description: &lt;br /&gt;&lt;p&gt;El Cap&amp;iacute\;tulo Argentino Conjunto de 
 las Sociedades IEEE Antennas &amp;amp\; Propagation y Electromagnetic Compatib
 ility (APS/EMCS)\, la Facultad de Ingenier&amp;iacute\;a del Ej&amp;eacute\;rcito 
 de la Universidad Nacional de la Defensa (FIE UNDEF) y el Instituto de Inv
 estigaciones Cient&amp;iacute\;ficas y T&amp;eacute\;cnicas para la Defensa (CITED
 EF) invitan al siguiente &lt;strong&gt;webinario&lt;/strong&gt;:&lt;/p&gt;\n&lt;p&gt;&lt;strong&gt;&quot;M&amp;aa
 cute\;s all&amp;aacute\; de la EMC: Resultados de un proyecto y apreciaciones 
 sobre la formaci&amp;oacute\;n&quot;&lt;/strong&gt;&lt;/p&gt;\n&lt;p&gt;&lt;strong&gt;Disertante: Ing Norbe
 rto Dalmas Di Giovanni (FIE UNDEF\, CITEDEF)&lt;/strong&gt;&lt;/p&gt;\n&lt;p&gt;&lt;strong&gt;Resu
 men&lt;/strong&gt;&lt;/p&gt;\n&lt;p&gt;M&amp;aacute\;s all&amp;aacute\; de la EMC: Qu&amp;eacute\; ocurr
 e con niveles de radiaci&amp;oacute\;n menores a los indicados por las normas\
 , qu&amp;eacute\; se puede medir y qu&amp;eacute\; ocurre con la formaci&amp;oacute\;n
  en estas disciplinas. &amp;nbsp\;&lt;/p&gt;\n&lt;p&gt;Se describir&amp;aacute\; la tarea real
 izada a partir de un requerimiento concreto\, desarrollado mediante un pro
 yecto financiado por el Ministerio de Defensa\, en el que se exploraron la
 s radiaciones espurias de una computadora personal\, los m&amp;eacute\;todos d
 e medici&amp;oacute\;n y el posible contenido de informaci&amp;oacute\;n de dichas
  se&amp;ntilde\;ales. Tambi&amp;eacute\;n se desarroll&amp;oacute\; una c&amp;aacute\;mara
  de mediciones con caracter&amp;iacute\;sticas de reverberaci&amp;oacute\;n.&lt;/p&gt;\n
 &lt;p&gt;Se abordar&amp;aacute\;n tambi&amp;eacute\;n aspectos de la especialidad en lo 
 que compete a la formaci&amp;oacute\;n de j&amp;oacute\;venes profesionales en est
 as &amp;aacute\;reas\, la participaci&amp;oacute\;n hist&amp;oacute\;rica de diferente
 s instituciones del Estado Nacional y el estado actual.&lt;/p&gt;\n&lt;p&gt;El conteni
 do de esta presentaci&amp;oacute\;n resume otras presentaciones anteriormente 
 realizadas por el autor en eventos como los Congresos Argentino de Tecnolo
 g&amp;iacute\;a Espacial e IEEE Argencon.&lt;/p&gt;\n&lt;p&gt;* * *&amp;nbsp\;&lt;/p&gt;&lt;br /&gt;&lt;br /&gt;
 Agenda: &lt;br /&gt;&lt;p&gt;&lt;strong&gt;Fecha y hora: 28 Mayo 2021 - 18:00 a 19:15 AR (GM
 T-3)&lt;/strong&gt;&lt;/p&gt;\n&lt;p&gt;Se solicita inscripci&amp;oacute\;n previa a trav&amp;eacute
 \;s del link indicado.&lt;/p&gt;
END:VEVENT
END:VCALENDAR

