BEGIN:VCALENDAR
VERSION:2.0
PRODID:IEEE vTools.Events//EN
CALSCALE:GREGORIAN
BEGIN:VTIMEZONE
TZID:US/Central
BEGIN:DAYLIGHT
DTSTART:20210314T030000
TZOFFSETFROM:-0600
TZOFFSETTO:-0500
RRULE:FREQ=YEARLY;BYDAY=2SU;BYMONTH=3
TZNAME:CDT
END:DAYLIGHT
BEGIN:STANDARD
DTSTART:20211107T010000
TZOFFSETFROM:-0500
TZOFFSETTO:-0600
RRULE:FREQ=YEARLY;BYDAY=1SU;BYMONTH=11
TZNAME:CST
END:STANDARD
END:VTIMEZONE
BEGIN:VEVENT
DTSTAMP:20210528T065353Z
UID:C7EDD6D1-ACD8-401B-AB71-BCE88A707640
DTSTART;TZID=US/Central:20210527T190000
DTEND;TZID=US/Central:20210527T210000
DESCRIPTION:In this lecture a broad review of vehicles for farming operatio
 n will be given starting from tillage to crop harvesting. Vehicle that hav
 e significant use of power electronics will be covered such as Exact Emerg
 e Planter for seeding operation. This presentation will cover how power el
 ectronics supports crop-care system to exactly apply prescription such as 
 fertilizers\, pesticides\, fungicide\, etc. Idea is to create awareness th
 at power electronics professionals could enable increased productivity so 
 that by 2050 over 9.5 billion could have food\, shelter\, and an efficient
  transportation system. This talk will also cover how vehicle electrificat
 ion enables many functions\, forms\, and features in off- and on-highway v
 ehicles that were not cost- and space-effective possible without SiC and G
 aN devices.\n\nSpeaker(s): Brij N. Singh\, \n\nAgenda: \n7:00 pm Meeting s
 tarts\n\n7:15 pm Introductions followed by presentation\n\n8:30 pm Adjorn\
 n\nVirtual: https://events.vtools.ieee.org/m/272702
LOCATION:Virtual: https://events.vtools.ieee.org/m/272702
ORGANIZER:d.zinger@ieee.org
SEQUENCE:10
SUMMARY:IEEE RRVS May Meeting: Power Electronics for Precision Farming with
  Substantable and Cleaner Environment
URL;VALUE=URI:https://events.vtools.ieee.org/m/272702
X-ALT-DESC:Description: &lt;br /&gt;&lt;p&gt;In this lecture a broad review of vehicles
  for farming operation will be given starting from tillage to crop harvest
 ing. Vehicle that have significant use of power electronics will be covere
 d such as Exact Emerge Planter for seeding operation. This presentation wi
 ll cover how power electronics supports crop-care system to exactly apply 
 prescription such as fertilizers\, pesticides\, fungicide\, etc. Idea is t
 o create awareness that power electronics professionals could enable incre
 ased productivity so that by 2050 over 9.5 billion could have food\, shelt
 er\, and an efficient transportation system. This talk will also cover how
  vehicle electrification enables many functions\, forms\, and features in 
 off- and on-highway vehicles that were not cost- and space-effective possi
 ble without SiC and GaN devices.&lt;/p&gt;&lt;br /&gt;&lt;br /&gt;Agenda: &lt;br /&gt;&lt;p&gt;7:00 pm M
 eeting starts&lt;/p&gt;\n&lt;p&gt;7:15 pm Introductions followed by presentation&lt;/p&gt;\n
 &lt;p&gt;8:30 pm Adjorn&lt;/p&gt;
END:VEVENT
END:VCALENDAR

