BEGIN:VCALENDAR
VERSION:2.0
PRODID:IEEE vTools.Events//EN
CALSCALE:GREGORIAN
BEGIN:VTIMEZONE
TZID:Canada/Eastern
BEGIN:DAYLIGHT
DTSTART:20210314T030000
TZOFFSETFROM:-0500
TZOFFSETTO:-0400
RRULE:FREQ=YEARLY;BYDAY=2SU;BYMONTH=3
TZNAME:EDT
END:DAYLIGHT
BEGIN:STANDARD
DTSTART:20211107T010000
TZOFFSETFROM:-0400
TZOFFSETTO:-0500
RRULE:FREQ=YEARLY;BYDAY=1SU;BYMONTH=11
TZNAME:EST
END:STANDARD
END:VTIMEZONE
BEGIN:VEVENT
DTSTAMP:20210529T205626Z
UID:3FA2CBE9-F3F3-4B5F-A377-F46AB5151CE4
DTSTART;TZID=Canada/Eastern:20210528T140000
DTEND;TZID=Canada/Eastern:20210528T160000
DESCRIPTION:During this two-hour long workshop\, you will learn how to:\n\n
 - create a LaTeX document and define a preamble from scratch\n\n- add and 
 use proper packages\n\n- add figures and create tables\n\n- set margins\, 
 headers and footnotes and create frontmatter for your paper draft\n\n- ins
 ert equations\, label and reference them and keep them organized by number
 ing\n\n- cite references and create a bibliography using BibTeX\n\n- and m
 ore!\n\nVirtual: https://events.vtools.ieee.org/m/272709
LOCATION:Virtual: https://events.vtools.ieee.org/m/272709
ORGANIZER:nazemih@uwindsor.ca
SEQUENCE:7
SUMMARY:How to Use LaTeX to Draft a Journal Paper
URL;VALUE=URI:https://events.vtools.ieee.org/m/272709
X-ALT-DESC:Description: &lt;br /&gt;&lt;p&gt;&lt;span style=&quot;font-family: &#39;times new roman
 &#39;\, times\, serif\;&quot;&gt;During this two-hour long workshop\, you will learn h
 ow to:&lt;/span&gt;&lt;/p&gt;\n&lt;p&gt;&lt;span style=&quot;font-family: &#39;times new roman&#39;\, times\
 , serif\;&quot;&gt;- create a LaTeX document and define a preamble from scratch&lt;/s
 pan&gt;&lt;/p&gt;\n&lt;p&gt;&lt;span style=&quot;font-family: &#39;times new roman&#39;\, times\, serif\;
 &quot;&gt;- add and use proper packages&lt;/span&gt;&lt;/p&gt;\n&lt;p&gt;&lt;span style=&quot;font-family: &#39;
 times new roman&#39;\, times\, serif\;&quot;&gt;- add figures and create tables&lt;/span&gt;
 &lt;/p&gt;\n&lt;p&gt;&lt;span style=&quot;font-family: &#39;times new roman&#39;\, times\, serif\;&quot;&gt;- 
 set margins\, headers and footnotes and create frontmatter for your paper 
 draft&lt;/span&gt;&lt;/p&gt;\n&lt;p&gt;&lt;span style=&quot;font-family: &#39;times new roman&#39;\, times\,
  serif\;&quot;&gt;- insert equations\, label and reference them and keep them orga
 nized by numbering&lt;/span&gt;&lt;/p&gt;\n&lt;p&gt;&lt;span style=&quot;font-family: &#39;times new rom
 an&#39;\, times\, serif\;&quot;&gt;- cite references and create a bibliography using B
 ibTeX&lt;/span&gt;&lt;/p&gt;\n&lt;p&gt;&lt;span style=&quot;font-family: &#39;times new roman&#39;\, times\,
  serif\;&quot;&gt;- and more!&lt;/span&gt;&lt;/p&gt;
END:VEVENT
END:VCALENDAR

