BEGIN:VCALENDAR
VERSION:2.0
PRODID:IEEE vTools.Events//EN
CALSCALE:GREGORIAN
BEGIN:VTIMEZONE
TZID:US/Central
BEGIN:DAYLIGHT
DTSTART:20210314T030000
TZOFFSETFROM:-0600
TZOFFSETTO:-0500
RRULE:FREQ=YEARLY;BYDAY=2SU;BYMONTH=3
TZNAME:CDT
END:DAYLIGHT
BEGIN:STANDARD
DTSTART:20211107T010000
TZOFFSETFROM:-0500
TZOFFSETTO:-0600
RRULE:FREQ=YEARLY;BYDAY=1SU;BYMONTH=11
TZNAME:CST
END:STANDARD
END:VTIMEZONE
BEGIN:VEVENT
DTSTAMP:20210611T033957Z
UID:8C01AE9E-3169-4748-8C0C-4F7F4C51E4AD
DTSTART;TZID=US/Central:20210610T170000
DTEND;TZID=US/Central:20210610T180000
DESCRIPTION:Are you interested in Project Management? Would you like to fin
 d out more about it? Or do you just want to hang out with fun people downt
 own?\n\nCome join our section Vice Chair Stephanie Macuga and the Project 
 Management Institute Quad Cities chapter at Armored Gardens on June 10\, 2
 021 from 5 PM to 7 PM. 2 free drink tickets included but registration for 
 this event is required through the PMI QC website (link below).\n\nCo-spon
 sored by: Project Management Institute Quad Cities Chapter\n\n 315 Pershin
 g Ave\, Davenport\, Iowa\, United States\, 52801\, Virtual: https://events
 .vtools.ieee.org/m/272991
LOCATION: 315 Pershing Ave\, Davenport\, Iowa\, United States\, 52801\, Vir
 tual: https://events.vtools.ieee.org/m/272991
ORGANIZER:Stephanie.Macuga@scottcountyiowa.com
SEQUENCE:2
SUMMARY:Project Management Institute Quad Cities Networking and Chapter Mee
 ting - June 2021
URL;VALUE=URI:https://events.vtools.ieee.org/m/272991
X-ALT-DESC:Description: &lt;br /&gt;&lt;p&gt;Are you interested in Project Management? 
 Would you like to find out more about it? Or do you just want to hang out 
 with fun people downtown?&lt;/p&gt;\n&lt;p&gt;Come join our section Vice Chair Stephan
 ie Macuga and the Project Management Institute Quad Cities chapter at Armo
 red Gardens on June 10\, 2021 from 5 PM to 7 PM.&amp;nbsp\; 2 free drink ticke
 ts included but registration for this event is required through the PMI QC
  website (link below).&lt;/p&gt;
END:VEVENT
END:VCALENDAR

