BEGIN:VCALENDAR
VERSION:2.0
PRODID:IEEE vTools.Events//EN
CALSCALE:GREGORIAN
BEGIN:VTIMEZONE
TZID:America/Chicago
BEGIN:DAYLIGHT
DTSTART:20210314T030000
TZOFFSETFROM:-0600
TZOFFSETTO:-0500
RRULE:FREQ=YEARLY;BYDAY=2SU;BYMONTH=3
TZNAME:CDT
END:DAYLIGHT
BEGIN:STANDARD
DTSTART:20211107T010000
TZOFFSETFROM:-0500
TZOFFSETTO:-0600
RRULE:FREQ=YEARLY;BYDAY=1SU;BYMONTH=11
TZNAME:CST
END:STANDARD
END:VTIMEZONE
BEGIN:VEVENT
DTSTAMP:20210621T181105Z
UID:37A3D03A-19BD-4761-963C-4ED394F0EA50
DTSTART;TZID=America/Chicago:20210616T120000
DTEND;TZID=America/Chicago:20210616T130000
DESCRIPTION:Topic:\n\nThis webinar will present a detailed overview of comm
 on industrial VFD installation and application issues as well as additiona
 l considerations for advanced issues of harmonics\, filtering\, and energy
  efficiency. This presentation is part 2 of 2. The full agenda for this pr
 esentation is:\n\n- Motor Speed vs. Maximum Load / Cooling\n- Use of Motor
  RTDs\n- Overspeed with Fans / Pumps\n- Increase in Torque and Power\n- Mi
 nimum Speed with Pumps\n- SCCR for Drives\n- HRG vs. Solid Ground\n- Shaft
  Grounding Brushes / Bearing Currents\n- Load Reactors on the Output\n- Wi
 ring on Input / Output\n\nSpeaker:\n\nRick Hoadley is a Life Senior Member
  of IEEE and has been involved with AC and DC drive development and applic
 ations for his whole career. He received a Bachelors Degree in Electrical 
 Engineering from Cornell University\, Ithaca\, NY\, in 1973\, followed by 
 a Masters Degree in 1974.\n\nRick started at Borg-Warner Power Electronics
  in Ithaca\, NY. In 1987 he moved to Rockwell Automation in Mequon\, WI\, 
 holding engineering management positions with their Low Voltage Drives gro
 up. In 2009 Rick joined the Medium Voltage Drives group at ABB in New Berl
 in\, WI\, as a Principle Consulting Applications Engineer\, creating the t
 est facility needed for their MV drives\, obtaining UL listing for the dri
 ves\, and working with customers’ applications.\n\nHis expertise has bee
 n on power quality and harmonics issues associated with AC drives\, along 
 with system simulations and unique drive applications. Rick has authored a
 nd presented several papers and tutorials on DC drives\, AC drives\, AC dr
 ive applications and AC drive harmonics at Powercon\, AISE\, PCIM\, IEEE-I
 AS\, PCIC\, PPIC\, APEC\, ICEM\, CWIEME\, along with in-house seminars and
  publications for Rockwell Automation and ABB. He is the holder of five pa
 tents and three Innovation Awards all associated with AC drives.\n\nDuring
  the school year Rick teaches courses at the Milwaukee School of Engineeri
 ng on circuit analysis\, electromechanical power conversion including tran
 sformers\, motors and generators\, and on power quality.\n\nIn his free ti
 me Rick created and maintains an award winning web site called “Cool Mag
 net Man” ([www.coolmagnetman.com](http://www.coolmagnetman.com/)) that p
 rovides interesting experiments and information about magnets and electrom
 agnets for elementary through college age students. He is often contacted 
 to give presentations to middle school students about the Wonders of Magne
 ts.\n\nAgenda: \n12:00-12:05PM Introduction\n\n12:00-12:45PM Technical Pre
 sentation\n\n12:45PM Questions\n\nVirtual: https://events.vtools.ieee.org/
 m/273258
LOCATION:Virtual: https://events.vtools.ieee.org/m/273258
ORGANIZER:mmorris@ieee.org
SEQUENCE:1
SUMMARY:Industrial Variable Frequency Drive (VFD) Installation and Applicat
 ion Issues (Part 2 of 2)
URL;VALUE=URI:https://events.vtools.ieee.org/m/273258
X-ALT-DESC:Description: &lt;br /&gt;&lt;p&gt;&lt;strong&gt;Topic:&lt;/strong&gt;&lt;strong&gt;&amp;nbsp\;&lt;/st
 rong&gt;&lt;/p&gt;\n&lt;p&gt;This webinar will present a detailed overview of common indu
 strial VFD installation and application issues as well as additional consi
 derations for advanced issues of harmonics\, filtering\, and energy effici
 ency.&amp;nbsp\; This presentation is part 2 of 2.&amp;nbsp\; The full agenda for 
 this presentation is:&lt;/p&gt;\n&lt;ul&gt;\n&lt;li&gt;Motor Speed vs. Maximum Load / Coolin
 g&lt;/li&gt;\n&lt;li&gt;Use of Motor RTDs&lt;/li&gt;\n&lt;li&gt;Overspeed with Fans / Pumps&lt;/li&gt;\n
 &lt;li&gt;Increase in Torque and Power&lt;/li&gt;\n&lt;li&gt;Minimum Speed with Pumps&lt;/li&gt;\n
 &lt;li&gt;SCCR for Drives&lt;/li&gt;\n&lt;li&gt;HRG vs. Solid Ground&lt;/li&gt;\n&lt;li&gt;Shaft Groundi
 ng Brushes / Bearing Currents&lt;/li&gt;\n&lt;li&gt;Load Reactors on the Output&lt;/li&gt;\n
 &lt;li&gt;Wiring on Input / Output&lt;/li&gt;\n&lt;/ul&gt;\n&lt;p&gt;&lt;strong&gt;Speaker:&amp;nbsp\; &amp;nbsp
 \;&amp;nbsp\;&lt;/strong&gt;&amp;nbsp\;&amp;nbsp\;&lt;/p&gt;\n&lt;p&gt;&lt;strong&gt;Rick Hoadley&lt;/strong&gt;&amp;nbs
 p\;is a Life Senior Member of IEEE and has been involved with AC and DC dr
 ive development and applications for his whole career.&amp;nbsp\; He received 
 a Bachelors Degree in Electrical Engineering from Cornell University\, Ith
 aca\, NY\, in 1973\, followed by a Masters Degree in 1974.&amp;nbsp\;&amp;nbsp\;&lt;/
 p&gt;\n&lt;p&gt;Rick started at Borg-Warner Power Electronics in Ithaca\, NY.&amp;nbsp\
 ; In 1987 he moved to Rockwell Automation in Mequon\, WI\, holding enginee
 ring management positions with their Low Voltage Drives group.&amp;nbsp\; In 2
 009 Rick joined the Medium Voltage Drives group at ABB in New Berlin\, WI\
 , as a Principle Consulting Applications Engineer\, creating the test faci
 lity needed for their MV drives\, obtaining UL listing for the drives\, an
 d working with customers&amp;rsquo\; applications.&amp;nbsp\;&amp;nbsp\;&lt;/p&gt;\n&lt;p&gt;His e
 xpertise has been on power quality and harmonics issues associated with AC
  drives\, along with system simulations and unique drive applications.&amp;nbs
 p\; Rick has authored and presented several papers and tutorials on DC dri
 ves\, AC drives\, AC drive applications and AC drive harmonics at Powercon
 \, AISE\, PCIM\, IEEE-IAS\, PCIC\, PPIC\, APEC\, ICEM\, CWIEME\, along wit
 h in-house seminars and publications for Rockwell Automation and ABB.&amp;nbsp
 \; He is the holder of five patents and three Innovation Awards all associ
 ated with AC drives.&amp;nbsp\;&amp;nbsp\;&lt;/p&gt;\n&lt;p&gt;During the school year Rick tea
 ches courses at the Milwaukee School of Engineering on circuit analysis\, 
 electromechanical power conversion including transformers\, motors and gen
 erators\, and on power quality.&amp;nbsp\;&amp;nbsp\;&lt;/p&gt;\n&lt;p&gt;In his free time Ric
 k created and maintains an award winning web site called &amp;ldquo\;Cool Magn
 et Man&amp;rdquo\; (&lt;a href=&quot;http://www.coolmagnetman.com/&quot;&gt;www.coolmagnetman.
 com&lt;/a&gt;) that provides interesting experiments and information about magne
 ts and electromagnets for elementary through college age students.&amp;nbsp\; 
 He is often contacted to give presentations to middle school students abou
 t the&amp;nbsp\;&lt;strong&gt;Wonders of Magnets&lt;/strong&gt;.&lt;/p&gt;&lt;br /&gt;&lt;br /&gt;Agenda: &lt;b
 r /&gt;&lt;p&gt;12:00-12:05PM Introduction&lt;/p&gt;\n&lt;p&gt;12:00-12:45PM Technical Presenta
 tion&lt;/p&gt;\n&lt;p&gt;12:45PM Questions&lt;/p&gt;
END:VEVENT
END:VCALENDAR

