BEGIN:VCALENDAR
VERSION:2.0
PRODID:IEEE vTools.Events//EN
CALSCALE:GREGORIAN
BEGIN:VTIMEZONE
TZID:Australia/Sydney
BEGIN:DAYLIGHT
DTSTART:20211003T030000
TZOFFSETFROM:+1000
TZOFFSETTO:+1100
RRULE:FREQ=YEARLY;BYDAY=1SU;BYMONTH=10
TZNAME:AEDT
END:DAYLIGHT
BEGIN:STANDARD
DTSTART:20210404T020000
TZOFFSETFROM:+1100
TZOFFSETTO:+1000
RRULE:FREQ=YEARLY;BYDAY=1SU;BYMONTH=4
TZNAME:AEST
END:STANDARD
END:VTIMEZONE
BEGIN:VEVENT
DTSTAMP:20210612T034925Z
UID:D5DE733D-70ED-47A6-87A6-6D8FCDC0B43B
DTSTART;TZID=Australia/Sydney:20210611T200000
DTEND;TZID=Australia/Sydney:20210611T210000
DESCRIPTION:An increase in world population along with a signiﬁcant aging
  portion is forcing rapid rises in healthcare costs. The healthcare system
  is going through a transformation in which continuous monitoring of inhab
 itants is possible even without hospitalization. The advancement of sensin
 g technologies\, embedded systems\, wireless communication technologies\, 
 nano-technologies\, and miniaturization makes it possible to develop smart
  medical systems to monitor activities of human beings continuously. Weara
 ble sensors monitor physiological parameters continuously along with detec
 t other symptoms such as any abnormal and/or unforeseen situations which n
 eed immediate attention. Therefore\, necessary help can be provided in tim
 es of dire need. This seminar reviews the latest reported systems and the 
 trends on wearable and medical devices to monitor activities of humans and
  issues to be addressed to tackle the challenges.\n\nCo-sponsored by: Prof
 . Subhas Mukhopadhyay\n\nSpeaker(s): Prof. Subhas Mukhopadhyay\, \n\nSydne
 y\, New South Wales\, Australia\, 2119\, Virtual: https://events.vtools.ie
 ee.org/m/273510
LOCATION:Sydney\, New South Wales\, Australia\, 2119\, Virtual: https://eve
 nts.vtools.ieee.org/m/273510
ORGANIZER:Subhas.Mukhopadhyay@mq.edu.au
SEQUENCE:1
SUMMARY:Trends for Wearable and Medical Devices
URL;VALUE=URI:https://events.vtools.ieee.org/m/273510
X-ALT-DESC:Description: &lt;br /&gt;&lt;p&gt;An increase in world population along with
  a signiﬁcant aging portion is forcing rapid rises in healthcare costs. 
 The healthcare system is going through a transformation in which continuou
 s monitoring of inhabitants is possible even without hospitalization. The 
 advancement of sensing technologies\, embedded systems\, wireless communic
 ation technologies\, nano-technologies\, and miniaturization makes it poss
 ible to develop smart medical systems to monitor activities of human being
 s continuously. Wearable sensors monitor physiological parameters continuo
 usly along with detect other symptoms such as any abnormal and/or unforese
 en situations which need immediate attention. Therefore\, necessary help c
 an be provided in times of dire need. This seminar reviews the latest repo
 rted systems and the trends on wearable and medical devices to monitor act
 ivities of humans and issues to be addressed to tackle the challenges.&lt;/p&gt;
END:VEVENT
END:VCALENDAR

