BEGIN:VCALENDAR
VERSION:2.0
PRODID:IEEE vTools.Events//EN
CALSCALE:GREGORIAN
BEGIN:VTIMEZONE
TZID:Asia/Kolkata
BEGIN:STANDARD
DTSTART:19451014T230000
TZOFFSETFROM:+0630
TZOFFSETTO:+0530
TZNAME:IST
END:STANDARD
END:VTIMEZONE
BEGIN:VEVENT
DTSTAMP:20210615T062601Z
UID:97B96B7F-7D35-4CB4-90E9-A45BE7A4FC12
DTSTART;TZID=Asia/Kolkata:20210607T133000
DTEND;TZID=Asia/Kolkata:20210611T150000
DESCRIPTION:The Department of Computer Engineering\, Silver Oak College of 
 Engineering &amp; Technology\, and Silver Oak University IEEE Student Branch h
 as initiated a fifteen days Summer Internship Program to support the stude
 nts academically and advance their technical skills to learn comprehensive
  Java programming integrated with design principles\, best practices &amp; ins
 tructor-led Java EE using real-world applications as a case study.\n\nVirt
 ual: https://events.vtools.ieee.org/m/273595
LOCATION:Virtual: https://events.vtools.ieee.org/m/273595
ORGANIZER:ieee.fbc@socet.edu.in
SEQUENCE:4
SUMMARY:One Week Training on Data Mining using J2EE
URL;VALUE=URI:https://events.vtools.ieee.org/m/273595
X-ALT-DESC:Description: &lt;br /&gt;&lt;p&gt;&lt;span data-preserver-spaces=&quot;true&quot;&gt;The&amp;nbs
 p\;&lt;/span&gt;&lt;strong&gt;&lt;span data-preserver-spaces=&quot;true&quot;&gt;Department of Compute
 r Engineering&lt;/span&gt;&lt;/strong&gt;&lt;span data-preserver-spaces=&quot;true&quot;&gt;\, Silver 
 Oak College of Engineering &amp;amp\; Technology\, and&amp;nbsp\;&lt;/span&gt;&lt;strong&gt;&lt;s
 pan data-preserver-spaces=&quot;true&quot;&gt;Silver Oak University IEEE Student Branch
 &lt;/span&gt;&lt;/strong&gt;&lt;span data-preserver-spaces=&quot;true&quot;&gt;&amp;nbsp\;has initiated a 
 fifteen days&amp;nbsp\;&lt;/span&gt;&lt;strong&gt;&lt;span data-preserver-spaces=&quot;true&quot;&gt;Summe
 r Internship Program&lt;/span&gt;&lt;/strong&gt;&lt;span data-preserver-spaces=&quot;true&quot;&gt;&amp;nb
 sp\;to support the students academically and advance their technical skill
 s to learn comprehensive Java programming integrated with design principle
 s\, best practices &amp;amp\; instructor-led Java EE using real-world applicat
 ions as a case study.&lt;/span&gt;&lt;/p&gt;
END:VEVENT
END:VCALENDAR

