BEGIN:VCALENDAR
VERSION:2.0
PRODID:IEEE vTools.Events//EN
CALSCALE:GREGORIAN
BEGIN:VTIMEZONE
TZID:America/Los_Angeles
BEGIN:DAYLIGHT
DTSTART:20210314T030000
TZOFFSETFROM:-0800
TZOFFSETTO:-0700
RRULE:FREQ=YEARLY;BYDAY=2SU;BYMONTH=3
TZNAME:PDT
END:DAYLIGHT
BEGIN:STANDARD
DTSTART:20211107T010000
TZOFFSETFROM:-0700
TZOFFSETTO:-0800
RRULE:FREQ=YEARLY;BYDAY=1SU;BYMONTH=11
TZNAME:PST
END:STANDARD
END:VTIMEZONE
BEGIN:VEVENT
DTSTAMP:20210803T223503Z
UID:05897BC9-1BC7-4C4B-8685-9FD6550C246A
DTSTART;TZID=America/Los_Angeles:20210630T183000
DTEND;TZID=America/Los_Angeles:20210630T203000
DESCRIPTION:Foothill Section Women in Engineering with the Consultants Netw
 ork invite you to an evening of networking and information. Please join us
  as we present our guest speaker Mashieka Allgood of AllAI Consulting\, LL
 C who will share with us the importance of literacy in artificial intellig
 ence and how her company promotes education and awareness in this very rel
 evant and burgeoning field.\n\nCo-sponsored by: Foothill Consultants Netwo
 rk\n\nSpeaker(s): AllAI Consulting\, LLC\, \n\nAgenda: \nProgram: 6:30-7:0
 0-Refreshments\, Networking\n\n7:00 -7:10- Introductions and Announcements
 \n\n7:10-8:00- Presentation\n\n8:00-8:25- Questions and Discussion\n\n8:30
  Adjourn\n\nOntario\, California\, United States\, 91764\, Virtual: https:
 //events.vtools.ieee.org/m/273644
LOCATION:Ontario\, California\, United States\, 91764\, Virtual: https://ev
 ents.vtools.ieee.org/m/273644
ORGANIZER:mosleyk@msn.com
SEQUENCE:19
SUMMARY:Joint WIE/CN Meeting presenting talk on The Role of AI Literacy in 
 Ethical AI!
URL;VALUE=URI:https://events.vtools.ieee.org/m/273644
X-ALT-DESC:Description: &lt;br /&gt;&lt;p&gt;Foothill Section Women in Engineering with
  the Consultants Network invite you to an evening of networking and inform
 ation.&amp;nbsp\; Please join us as we present our guest speaker Mashieka Allg
 ood of AllAI Consulting\, LLC who will share with us the importance of lit
 eracy in artificial intelligence and how her company promotes education an
 d awareness in this very relevant and burgeoning field.&lt;/p&gt;&lt;br /&gt;&lt;br /&gt;Age
 nda: &lt;br /&gt;&lt;h3&gt;Program: 6:30-7:00-Refreshments\, Networking&lt;/h3&gt;\n&lt;p&gt;&amp;nbsp
 \;&amp;nbsp\;&amp;nbsp\;&amp;nbsp\;&amp;nbsp\;&amp;nbsp\;&amp;nbsp\;&amp;nbsp\;&amp;nbsp\;&amp;nbsp\;&amp;nbsp\; &amp;
 nbsp\;&amp;nbsp\;&amp;nbsp\;&amp;nbsp\;&amp;nbsp\; 7:00 -7:10- Introductions and Announcem
 ents&lt;/p&gt;\n&lt;p&gt;&amp;nbsp\;&amp;nbsp\;&amp;nbsp\;&amp;nbsp\;&amp;nbsp\;&amp;nbsp\;&amp;nbsp\;&amp;nbsp\;&amp;nbsp
 \;&amp;nbsp\;&amp;nbsp\;&amp;nbsp\;&amp;nbsp\;&amp;nbsp\;&amp;nbsp\;&amp;nbsp\; 7:10-8:00- Presentatio
 n&lt;/p&gt;\n&lt;p&gt;&amp;nbsp\;&amp;nbsp\;&amp;nbsp\;&amp;nbsp\;&amp;nbsp\;&amp;nbsp\;&amp;nbsp\;&amp;nbsp\;&amp;nbsp\;&amp;
 nbsp\;&amp;nbsp\;&amp;nbsp\;&amp;nbsp\;&amp;nbsp\;&amp;nbsp\;&amp;nbsp\; 8:00-8:25- Questions and 
 Discussion&lt;/p&gt;\n&lt;p&gt;&amp;nbsp\;&amp;nbsp\;&amp;nbsp\;&amp;nbsp\;&amp;nbsp\;&amp;nbsp\;&amp;nbsp\;&amp;nbsp\
 ;&amp;nbsp\;&amp;nbsp\;&amp;nbsp\; &amp;nbsp\;&amp;nbsp\;&amp;nbsp\;&amp;nbsp\;&amp;nbsp\;&amp;nbsp\;&amp;nbsp\;&amp;n
 bsp\;&amp;nbsp\;&amp;nbsp\;&amp;nbsp\; 8:30 &amp;nbsp\;&amp;nbsp\;&amp;nbsp\;&amp;nbsp\;&amp;nbsp\;&amp;nbsp\;
 Adjourn&lt;/p&gt;
END:VEVENT
END:VCALENDAR

