BEGIN:VCALENDAR
VERSION:2.0
PRODID:IEEE vTools.Events//EN
CALSCALE:GREGORIAN
BEGIN:VTIMEZONE
TZID:America/Toronto
BEGIN:DAYLIGHT
DTSTART:20210314T030000
TZOFFSETFROM:-0500
TZOFFSETTO:-0400
RRULE:FREQ=YEARLY;BYDAY=2SU;BYMONTH=3
TZNAME:EDT
END:DAYLIGHT
BEGIN:STANDARD
DTSTART:20211107T010000
TZOFFSETFROM:-0400
TZOFFSETTO:-0500
RRULE:FREQ=YEARLY;BYDAY=1SU;BYMONTH=11
TZNAME:EST
END:STANDARD
END:VTIMEZONE
BEGIN:VEVENT
DTSTAMP:20210618T044741Z
UID:6A255BBE-850F-48BB-ACA7-797B3028281C
DTSTART;TZID=America/Toronto:20210617T130000
DTEND;TZID=America/Toronto:20210617T143000
DESCRIPTION:Abstract:\n\nThe next generation of wireless systems will emplo
 y networking equipment mounted on mobile platforms\, unmanned air vehicles
  (UAV)\, and low orbit satellites. As a result\, the topology of 6G wirele
 ss technology will extend to 3D vertical networking. With its extended ser
 vice\, 6G will also give rise to new challenges which include\, the introd
 uction of intelligent reflective surfaces (IRS)\, the mmWave spectrum\, th
 e employment of massive MIMO systems\, and the agility of networks. Along 
 with the advancement in networking technology\, user devices are also evol
 ving rapidly\, with the emergence of highly capable cellphones\, smart IoT
  equipment\, and wearable devices. One of the key elements of 6G technolog
 y is the need for accurate positioning information. The accuracy of today
 ’s positioning systems is not acceptable for many applications of future
 \, especially in smart environments. In this talk\, we will discuss how po
 sitioning can be a key enabler of 6G\, and what challenges the next genera
 tion of localization technology will face when integrated within the new w
 ireless networks.\n\nShahrokh Valaee is a Professor with the Edward S. Rog
 ers Sr. Department of Electrical and Computer Engineering\, University of 
 Toronto\, and the holder of Nortel Chair of Network Architectures and Serv
 ices. He is the Founder and the Director of the Wireless and Internet Rese
 arch Laboratory (WIRLab) at the University of Toronto. Professor Valaee wa
 s the TPC Co-Chair and the Local Organization Chair of the IEEE Personal M
 obile Indoor Radio Communication (PIMRC) Symposium 2011. He was the TCP Ch
 air of PIMRC2017\, the Track Co-Chair of WCNC 2014\, the TPC Co-Chair of I
 CT 2015. He has been the guest editor for various journals. He was a Track
  Co-chair for PIMRC 2020 and VTC Fall 2020. From December 2010 to December
  2012\, he was the Associate Editor of the IEEE Signal Processing Letters.
  From 2010 to 2015\, he served as an Editor of IEEE Transactions on Wirele
 ss Communications. Currently\, he is an Editor of Journal of Computer and 
 System Science. Professor Valaee is a Fellow of the Engineering Institute 
 of Canada\, and a Fellow of IEEE.\n\nSpeaker(s): Shahrokh Valaee\, \n\nKin
 gston\, Ontario\, Canada\, Virtual: https://events.vtools.ieee.org/m/27437
 9
LOCATION:Kingston\, Ontario\, Canada\, Virtual: https://events.vtools.ieee.
 org/m/274379
ORGANIZER:chan-f@rmc.ca
SEQUENCE:8
SUMMARY:IEEE VDL: Localization in Drone Assisted and Vehicular Networks
URL;VALUE=URI:https://events.vtools.ieee.org/m/274379
X-ALT-DESC:Description: &lt;br /&gt;&lt;p&gt;&lt;strong&gt;Abstract:&lt;/strong&gt;&lt;/p&gt;\n&lt;p&gt;The nex
 t generation of wireless systems will employ networking equipment mounted 
 on mobile platforms\, unmanned air vehicles (UAV)\, and low orbit satellit
 es. As a result\, the topology of 6G wireless technology will extend to 3D
  vertical networking. With its extended service\, 6G will also give rise t
 o new challenges which include\, the introduction of intelligent reflectiv
 e surfaces (IRS)\, the mmWave spectrum\, the employment of massive MIMO sy
 stems\, and the agility of networks. Along with the advancement in network
 ing technology\, user devices are also evolving rapidly\, with the emergen
 ce of highly capable cellphones\, smart IoT equipment\, and wearable devic
 es. One of the key elements of 6G technology is the need for accurate posi
 tioning information. The accuracy of today&amp;rsquo\;s positioning systems is
  not acceptable for many applications of future\, especially in smart envi
 ronments. In this talk\, we will discuss how positioning can be a key enab
 ler of 6G\, and what challenges the next generation of localization techno
 logy will face when integrated within the new wireless networks.&lt;/p&gt;\n&lt;p&gt;&lt;
 strong&gt;Shahrokh Valaee &lt;/strong&gt;is a Professor with the Edward S. Rogers S
 r. Department of Electrical and Computer Engineering\, University of Toron
 to\, and the holder of Nortel Chair of Network Architectures and Services.
  He is the Founder and the Director of the Wireless and Internet Research 
 Laboratory (WIRLab) at the University of Toronto. Professor Valaee was the
  TPC Co-Chair and the Local Organization Chair of the IEEE Personal Mobile
  Indoor Radio Communication (PIMRC) Symposium 2011. He was the TCP Chair o
 f PIMRC2017\, the Track Co-Chair of WCNC 2014\, the TPC Co-Chair of ICT 20
 15. He has been the guest editor for various journals. He was a Track Co-c
 hair for PIMRC 2020 and VTC Fall 2020. From December 2010 to December 2012
 \, he was the Associate Editor of the IEEE Signal Processing Letters. From
  2010 to 2015\, he served as an Editor of IEEE Transactions on Wireless Co
 mmunications. Currently\, he is an Editor of Journal of Computer and Syste
 m Science. Professor Valaee is a Fellow of the Engineering Institute of Ca
 nada\, and a Fellow of IEEE.&lt;/p&gt;\n&lt;p&gt;&amp;nbsp\;&lt;/p&gt;
END:VEVENT
END:VCALENDAR

