BEGIN:VCALENDAR
VERSION:2.0
PRODID:IEEE vTools.Events//EN
CALSCALE:GREGORIAN
BEGIN:VTIMEZONE
TZID:Mexico/General
BEGIN:DAYLIGHT
DTSTART:20210404T030000
TZOFFSETFROM:-0600
TZOFFSETTO:-0500
RRULE:FREQ=YEARLY;BYDAY=1SU;BYMONTH=4
TZNAME:CDT
END:DAYLIGHT
BEGIN:STANDARD
DTSTART:20211031T010000
TZOFFSETFROM:-0500
TZOFFSETTO:-0600
RRULE:FREQ=YEARLY;BYDAY=-1SU;BYMONTH=10
TZNAME:CST
END:STANDARD
END:VTIMEZONE
BEGIN:VEVENT
DTSTAMP:20210818T023607Z
UID:3A99034F-032E-4688-AA21-1CD8F9352F6E
DTSTART;TZID=Mexico/General:20210614T130000
DTEND;TZID=Mexico/General:20210614T140000
DESCRIPTION:En el marco del XVII Congreso Internacional de Ingeniería CONI
 IN ([https://coniinuaq.wordpress.com/](https://www.google.com/url?q=https:
 //coniinuaq.wordpress.com/&amp;sa=D&amp;source=calendar&amp;usd=2&amp;usg=AOvVaw09T36rBpOG
 bcUnnaLIBfKW)) el Grupo de Afinidad Young Professionals de la Sección Que
 rétaro tienen el honor deinvitarle a la siguiente CONFERENCIA MAGISTRAL\n
 \nEn esta plática conoceremos algunas de las políticas más importantes 
 de la editora IEEE para garantizar la calidad de los trabajos que publica\
 , así como de las revistas que edita. Discutiremos algunos de los problem
 as más comunes que conducen al rechazo de un artículo y algunos consejos
  para incrementar sus posibilidades de publicación. Analizaremos el papel
  de la escritura en la aceptación de artículos y algunas estrategias y m
 etodologías más exitosas de escritura de artículos.\n\nSe dará constan
 cia de participación para quienes llenen el formulario que se enviará al
  finalizar la charla.\n\nSpeaker(s): Dra. Ilse Cervantes Camacho\, \n\nVir
 tual: https://events.vtools.ieee.org/m/274484
LOCATION:Virtual: https://events.vtools.ieee.org/m/274484
ORGANIZER:ypseccionqueretaro@gmail.com
SEQUENCE:3
SUMMARY:Publicando en IEEE: Entendiendo las políticas y los procesos inter
 nos así como la importancia de la escritura.
URL;VALUE=URI:https://events.vtools.ieee.org/m/274484
X-ALT-DESC:Description: &lt;br /&gt;&lt;p&gt;En el marco del XVII Congreso Internaciona
 l de Ingenier&amp;iacute\;a CONIIN (&lt;a href=&quot;https://www.google.com/url?q=http
 s://coniinuaq.wordpress.com/&amp;amp\;sa=D&amp;amp\;source=calendar&amp;amp\;usd=2&amp;amp
 \;usg=AOvVaw09T36rBpOGbcUnnaLIBfKW&quot; target=&quot;_blank&quot; rel=&quot;noopener&quot;&gt;https:/
 /coniinuaq.wordpress.com/&lt;/a&gt;) el Grupo de Afinidad &lt;strong&gt;Young Professi
 onals &lt;/strong&gt;de la Secci&amp;oacute\;n Quer&amp;eacute\;taro tienen el honor dei
 nvitarle a la siguiente CONFERENCIA&amp;nbsp\;MAGISTRAL&lt;/p&gt;\n&lt;p&gt;&lt;strong&gt;En est
 a pl&amp;aacute\;tica conoceremos algunas de las pol&amp;iacute\;ticas m&amp;aacute\;s
  importantes de la editora IEEE para garantizar la calidad de los trabajos
  que publica\, as&amp;iacute\; como de las revistas que edita. Discutiremos al
 gunos de los problemas m&amp;aacute\;s comunes que conducen al rechazo de un a
 rt&amp;iacute\;culo y algunos consejos para incrementar sus posibilidades de p
 ublicaci&amp;oacute\;n. Analizaremos el papel de la escritura en la aceptaci&amp;o
 acute\;n de art&amp;iacute\;culos y algunas estrategias y metodolog&amp;iacute\;as
  m&amp;aacute\;s exitosas de escritura de art&amp;iacute\;culos.&amp;nbsp\;&lt;/strong&gt;&lt;/
 p&gt;\n&lt;p&gt;Se dar&amp;aacute\; constancia de participaci&amp;oacute\;n para quienes ll
 enen el formulario&amp;nbsp\; que se enviar&amp;aacute\; al finalizar la charla.&lt;/
 p&gt;
END:VEVENT
END:VCALENDAR

