BEGIN:VCALENDAR
VERSION:2.0
PRODID:IEEE vTools.Events//EN
CALSCALE:GREGORIAN
BEGIN:VTIMEZONE
TZID:America/Fortaleza
BEGIN:DAYLIGHT
DTSTART:20380119T001407
TZOFFSETFROM:-0300
TZOFFSETTO:-0300
RRULE:FREQ=YEARLY;BYDAY=3TU;BYMONTH=1
TZNAME:-03
END:DAYLIGHT
BEGIN:STANDARD
DTSTART:20020216T230000
TZOFFSETFROM:-0200
TZOFFSETTO:-0300
RRULE:FREQ=YEARLY;BYDAY=3SA;BYMONTH=2
TZNAME:-03
END:STANDARD
END:VTIMEZONE
BEGIN:VEVENT
DTSTAMP:20210614T232324Z
UID:67BF3BA0-4191-4C62-AB04-04D857B2E10A
DTSTART;TZID=America/Fortaleza:20211024T192400
DTEND;TZID=America/Fortaleza:20211027T192400
DESCRIPTION:The International Microwave and Optoelectronics Conference is a
  biennial forum that happens regularly since 1985\, sponsored by the Brazi
 lian Microwave and Optoelectronics Society (SBMO) and the IEEE Microwave T
 heory and Techniques Society (MTT-S). The event is organized by the Federa
 l University of Campina Grande (UFCG)\, Federal University of Ceará (UFC)
 \, and Federal Institute of Ceará (IFCe). The conference goal is providin
 g an international and interdisciplinary forum for sharing experience and 
 discussing the state-of-the-art of the following but not limited topics: r
 adio/microwave\, photonic/optics/applied electromagnetics and so on.\n\nDu
 e to Covid-19 Pandemic situation\, for the first time since its creation\,
  IMOC 2021 was turned into an online virtual conference. The organizing co
 mmittee will make use of an online platform that intends to give participa
 nts the feeling and experience as if they were in Fortaleza\, by means of 
 using a 3D platform.\n\nAs an online conference\, it is highly recommended
  to stimulate the participation of students\, researchers\, professionals\
 , and partners\, by making a high-level conference possible at reduced cos
 ts\, including different inscriptions categories.\n\nAs a potential opport
 unity to overcome physical distances\, but to forge closer professional bo
 undaries and to change professional experiences\, in this conference there
  will be a whole day dedicated to workshops and industry demonstration\, a
 s well as activities such as Young Professionals and Women in Microwave.\n
 \nFurthermore\, papers properly presented in the conference will be publis
 hed at the IEEEXplore and those papers high scored will be invited to subm
 it an extended version to peer reviewed journals\, such as IET MAP\, JMOe\
 , WPT and others.\n\nTo get in touch with novelties and updates about IMOC
  2021\, see more information on the conference website at [https://imoc202
 1.com](https://imoc2021.com/)\, available soon.\n\nCo-sponsored by: Federa
 l University of Ceará (UFC)\n\nVirtual: https://events.vtools.ieee.org/m/
 274859
LOCATION:Virtual: https://events.vtools.ieee.org/m/274859
ORGANIZER:Fontgalland@dee.ufcg.edu.br 
SEQUENCE:2
SUMMARY:19th SBMO/IEEE MTT-S International Microwave and Optoelectronics Co
 nference (IMOC)
URL;VALUE=URI:https://events.vtools.ieee.org/m/274859
X-ALT-DESC:Description: &lt;br /&gt;&lt;p style=&quot;font-weight: 400\;&quot;&gt;&lt;span style=&quot;fo
 nt-style: inherit\; font-weight: inherit\;&quot;&gt;The International Microwave an
 d Optoelectronics Conference is a biennial forum that happens regularly si
 nce 1985\, sponsored by the Brazilian Microwave and Optoelectronics Societ
 y (SBMO) and the IEEE Microwave Theory and Techniques Society (MTT-S). The
  event is organized by the Federal University of Campina Grande (UFCG)\, F
 ederal University of Cear&amp;aacute\; (UFC)\, and Federal Institute of Cear&amp;a
 acute\; (IFCe)&lt;/span&gt;&lt;span style=&quot;font-style: inherit\; font-weight: inher
 it\;&quot;&gt;.&amp;nbsp\;&lt;/span&gt;&lt;span style=&quot;font-style: inherit\; font-weight: inher
 it\;&quot;&gt;The conference goal is providing an international&amp;nbsp\;and interdis
 ciplinary forum for sharing experience and discussing the&amp;nbsp\;state-of-t
 he-art of the following but not limited topics: radio/microwave\, photonic
 /optics/applied electromagnetics&amp;nbsp\;and so on.&lt;/span&gt;&lt;/p&gt;\n&lt;p style=&quot;fo
 nt-weight: 400\;&quot;&gt;&lt;span style=&quot;font-style: inherit\; font-weight: inherit\
 ;&quot;&gt;Due to Covid-19 Pandemic situation\, for the first time since its creat
 ion\, IMOC 2021&amp;nbsp\;was turned into an online virtual conference. The or
 ganizing committee will make use of an online platform that intends to giv
 e participants the feeling and experience as if they were in Fortaleza\, b
 y means of using a 3D platform.&lt;/span&gt;&lt;/p&gt;\n&lt;p style=&quot;font-weight: 400\;&quot;&gt;
 &lt;span style=&quot;font-style: inherit\; font-weight: inherit\;&quot;&gt;As an online co
 nference\, it is highly recommended to stimulate the participation of stud
 ents\, researchers\, professionals\, and partners\, by making a high-level
  conference possible at reduced costs\, including different inscriptions c
 ategories.&lt;/span&gt;&lt;/p&gt;\n&lt;p style=&quot;font-weight: 400\;&quot;&gt;&lt;span style=&quot;font-sty
 le: inherit\; font-weight: inherit\;&quot;&gt;As a potential opportunity to overco
 me physical distances\, but to forge closer professional boundaries and to
  change professional experiences\, in this conference there will be a whol
 e day dedicated to workshops and industry demonstration\, as well as activ
 ities such as Young Professionals and Women in Microwave.&lt;/span&gt;&lt;/p&gt;\n&lt;p s
 tyle=&quot;font-weight: 400\;&quot;&gt;&lt;span style=&quot;font-style: inherit\; font-weight: 
 inherit\;&quot;&gt;Furthermore\, papers properly presented in the conference will 
 be published at the IEEEXplore and those papers high scored will be invite
 d to submit an extended version to peer reviewed journals\, such as IET MA
 P\, JMOe\, WPT and others.&lt;/span&gt;&lt;/p&gt;\n&lt;p style=&quot;font-weight: 400\;&quot;&gt;&lt;span
  style=&quot;font-style: inherit\; font-weight: inherit\;&quot;&gt;To get in touch with
  novelties and updates about IMOC 2021\, see more information on the confe
 rence website at&amp;nbsp\;&lt;/span&gt;&lt;span style=&quot;font-style: inherit\; font-weig
 ht: inherit\;&quot;&gt;&lt;a style=&quot;font-style: inherit\; font-weight: inherit\;&quot; hre
 f=&quot;https://imoc2021.com/&quot;&gt;https://imoc2021.com&lt;/a&gt;&lt;/span&gt;&lt;span style=&quot;font
 -style: inherit\; font-weight: inherit\;&quot;&gt;\, available soon.&lt;/span&gt;&lt;/p&gt;
END:VEVENT
END:VCALENDAR

