BEGIN:VCALENDAR
VERSION:2.0
PRODID:IEEE vTools.Events//EN
CALSCALE:GREGORIAN
BEGIN:VTIMEZONE
TZID:Asia/Kolkata
BEGIN:STANDARD
DTSTART:19451014T230000
TZOFFSETFROM:+0630
TZOFFSETTO:+0530
TZNAME:IST
END:STANDARD
END:VTIMEZONE
BEGIN:VEVENT
DTSTAMP:20220205T081639Z
UID:0F14C779-2451-4DD9-A56E-7E64341FD539
DTSTART;TZID=Asia/Kolkata:20210626T170000
DTEND;TZID=Asia/Kolkata:20210626T180000
DESCRIPTION:IEEE Kolkata Section &amp; Women in Engineering (WIE) Kolkata Secti
 on\npresents Dare to Dream\, a talk series on Indian Women who had venture
 d into STEM careers more than 50 years ago.\nWe are celebrating Internatio
 nal Women in Engineering Day’s theme this year “Engineering Heroes” 
 with the 3rd Episode of Dare to Dream on: ”Life and work of Ms. Ila Maju
 mdar”\n\nVirtual: https://events.vtools.ieee.org/m/275246
LOCATION:Virtual: https://events.vtools.ieee.org/m/275246
ORGANIZER:sudeshna.choudhury@gmail.com
SEQUENCE:1
SUMMARY:Dare to Dream Episode 3: ”Life and work of Ms. Ila Majumdar” 
URL;VALUE=URI:https://events.vtools.ieee.org/m/275246
X-ALT-DESC:Description: &lt;br /&gt;&lt;p&gt;IEEE Kolkata Section &amp;amp\; Women in Engin
 eering (WIE) Kolkata Section &lt;br /&gt;presents Dare to Dream\, a talk series 
 on Indian Women who had ventured into STEM careers more than 50 years ago.
 &lt;br /&gt;We are celebrating International Women in Engineering Day&amp;rsquo\;s t
 heme this year &amp;ldquo\;Engineering Heroes&amp;rdquo\; with the 3rd Episode of 
 Dare to Dream on:&amp;nbsp\; &amp;rdquo\;Life and work of Ms. Ila Majumdar&amp;rdquo\;
 &lt;/p&gt;
END:VEVENT
END:VCALENDAR

