BEGIN:VCALENDAR
VERSION:2.0
PRODID:IEEE vTools.Events//EN
CALSCALE:GREGORIAN
BEGIN:VTIMEZONE
TZID:America/Denver
BEGIN:DAYLIGHT
DTSTART:20210314T030000
TZOFFSETFROM:-0700
TZOFFSETTO:-0600
RRULE:FREQ=YEARLY;BYDAY=2SU;BYMONTH=3
TZNAME:MDT
END:DAYLIGHT
BEGIN:STANDARD
DTSTART:20211107T010000
TZOFFSETFROM:-0600
TZOFFSETTO:-0700
RRULE:FREQ=YEARLY;BYDAY=1SU;BYMONTH=11
TZNAME:MST
END:STANDARD
END:VTIMEZONE
BEGIN:VEVENT
DTSTAMP:20210625T220251Z
UID:A52EBF33-E592-4AE5-97D5-3B23E96A4E02
DTSTART;TZID=America/Denver:20210625T123000
DTEND;TZID=America/Denver:20210625T150000
DESCRIPTION:Annual meeting of Pikes Peak Section of Magnetics Society.\n\nA
 ll members of the Pikes Peak Section of Magnetics Society are cordially in
 vited.\n\nSpeaker(s): Prof. Zbigniew Celinski\, \n\nAgenda: \nWe will disc
 uss the current section status and future plans for development and growth
 .\n\nBldg: Ai Sushi &amp; Grill\, 4655 Centennial Blvd\, Colorado Springs\, Co
 lorado\, United States\, 80919\, Virtual: https://events.vtools.ieee.org/m
 /275680
LOCATION:Bldg: Ai Sushi &amp; Grill\, 4655 Centennial Blvd\, Colorado Springs\,
  Colorado\, United States\, 80919\, Virtual: https://events.vtools.ieee.or
 g/m/275680
ORGANIZER:dbozhko@uccs.edu
SEQUENCE:3
SUMMARY:Annual meeting of Pikes Peak Section of Magnetics Society 
URL;VALUE=URI:https://events.vtools.ieee.org/m/275680
X-ALT-DESC:Description: &lt;br /&gt;&lt;p&gt;Annual meeting of Pikes Peak Section of Ma
 gnetics Society.&lt;/p&gt;\n&lt;p&gt;All members of the Pikes Peak Section of Magnetic
 s Society are cordially invited.&lt;/p&gt;&lt;br /&gt;&lt;br /&gt;Agenda: &lt;br /&gt;&lt;p&gt;We will d
 iscuss the current section status and future plans for development and gro
 wth.&lt;/p&gt;
END:VEVENT
END:VCALENDAR

