BEGIN:VCALENDAR
VERSION:2.0
PRODID:IEEE vTools.Events//EN
CALSCALE:GREGORIAN
BEGIN:VTIMEZONE
TZID:America/Toronto
BEGIN:DAYLIGHT
DTSTART:20210314T030000
TZOFFSETFROM:-0500
TZOFFSETTO:-0400
RRULE:FREQ=YEARLY;BYDAY=2SU;BYMONTH=3
TZNAME:EDT
END:DAYLIGHT
BEGIN:STANDARD
DTSTART:20211107T010000
TZOFFSETFROM:-0400
TZOFFSETTO:-0500
RRULE:FREQ=YEARLY;BYDAY=1SU;BYMONTH=11
TZNAME:EST
END:STANDARD
END:VTIMEZONE
BEGIN:VEVENT
DTSTAMP:20210929T080111Z
UID:B9F62BA3-B8BE-48C9-B3A5-8910BFC7432A
DTSTART;TZID=America/Toronto:20210715T100000
DTEND;TZID=America/Toronto:20210715T121500
DESCRIPTION:The goal of this workshop is to provide an opportunity for rese
 archers to discuss their latest works. We invited two keynote speakers and
  five volunteers to give talks in the area of intelligent and secure wirel
 ess communications. Four volunteers have been registered\, and only one po
 sition is left. If any researcher has interest in this opportunity to shar
 e his/her current works\, please contact us (He Fang\, Vice Chair hfang42@
 uwo.ca). IEEE London Communication &amp; Broadcast Chapter will select the bes
 t presentation and provide a reward (gift card).\n\nSpeaker(s): Prof. Stef
 ano Tomasin\, Prof. Jianting Ning\n\nAgenda: \nIEEE Workshop &quot;Intelligent 
 and Secure Wireless Communications&quot;\n\nJuly 15th\, 2021 10:00-12:10 pm\n\n
 Time Speaker Talk title\n10:00-10:25 am Prof. Jianting Ning Towards Effici
 ent Privacy-Preserving Inspection of TLS Encrypted Traffic\n10:26-10:50 am
  Prof. Stefano Tomasin User authentication by received radio signals\n10:5
 1-11:05 am Shengmin Xu Expressive Bilateral Access Control for Internet-of
 -Things in Cloud-Fog Computing\n11:06-11:20 am Min Gao Seed-based density 
 clustering method for community detection in social networks\n11:21-11:35 
 am Huanchi Wang Edge Intelligence Enabled Soft Authentication in UAV Swarm
 \n11:36-11:50 am Jiazhi Chen An Efficient Trust Establishment Model for De
 veloping Collaboration Efficiency in Internet of Vehicles\n11:51-12:10 pm 
 Mouhamed Abdulla Latency of Concatenating Unlicensed LPWAN with Cellular I
 oT: An Experimental QoE Study\n\nSee the expanded agenda attached to Media
  section at the bottom of the Events page.\n\nLONDON\, Ontario\, Canada\, 
 Virtual: https://events.vtools.ieee.org/m/276349
LOCATION:LONDON\, Ontario\, Canada\, Virtual: https://events.vtools.ieee.or
 g/m/276349
ORGANIZER:hfang42@uwo.ca
SEQUENCE:9
SUMMARY:Workshop: Intelligent and Secure Wireless Communications
URL;VALUE=URI:https://events.vtools.ieee.org/m/276349
X-ALT-DESC:Description: &lt;br /&gt;&lt;p&gt;The goal of this workshop is to provide an
  opportunity for researchers to discuss their latest works. We invited two
  keynote speakers and five volunteers to give talks in the area of intelli
 gent and secure wireless communications. Four volunteers have been registe
 red\, and only one position is left. If any researcher has interest in thi
 s opportunity to share his/her current works\, please contact us (He Fang\
 , Vice Chair hfang42@uwo.ca). IEEE London&amp;nbsp\; Communication &amp;amp\; Broa
 dcast Chapter will select the best presentation and provide a reward (gift
  card).&amp;nbsp\;&lt;/p&gt;&lt;br /&gt;&lt;br /&gt;Agenda: &lt;br /&gt;&lt;p&gt;&lt;strong&gt;IEEE Workshop &quot;Inte
 lligent and Secure Wireless Communications&quot; &lt;/strong&gt;&lt;/p&gt;\n&lt;p&gt;&lt;strong&gt;July
  15&lt;sup&gt;th&lt;/sup&gt;\, 2021 10:00-12:10 pm&lt;/strong&gt;&lt;/p&gt;\n&lt;p&gt;Time&amp;nbsp\; &amp;nbsp\
 ; &amp;nbsp\; &amp;nbsp\; &amp;nbsp\; &amp;nbsp\; &amp;nbsp\; &amp;nbsp\; &amp;nbsp\; &amp;nbsp\; &amp;nbsp\; 
 &amp;nbsp\;Speaker&amp;nbsp\; &amp;nbsp\; &amp;nbsp\; &amp;nbsp\; &amp;nbsp\; &amp;nbsp\; &amp;nbsp\; &amp;nbs
 p\; &amp;nbsp\; &amp;nbsp\; &amp;nbsp\; &amp;nbsp\; &amp;nbsp\; &amp;nbsp\; Talk title&lt;br /&gt;10:00-
 10:25 am&amp;nbsp\; &amp;nbsp\; &amp;nbsp\; Prof. Jianting Ning&amp;nbsp\; &amp;nbsp\; &amp;nbsp\;
  &amp;nbsp\; &amp;nbsp\; &amp;nbsp\; Towards Efficient Privacy-Preserving Inspection o
 f TLS Encrypted Traffic&lt;br /&gt;10:26-10:50 am&amp;nbsp\; &amp;nbsp\; &amp;nbsp\; Prof. S
 tefano Tomasin&amp;nbsp\; &amp;nbsp\; &amp;nbsp\; &amp;nbsp\;User authentication by receiv
 ed radio signals&lt;br /&gt;10:51-11:05 am&amp;nbsp\; &amp;nbsp\; &amp;nbsp\; Shengmin Xu&amp;nb
 sp\; &amp;nbsp\; &amp;nbsp\; &amp;nbsp\; &amp;nbsp\; &amp;nbsp\; &amp;nbsp\; &amp;nbsp\; &amp;nbsp\; &amp;nbsp
 \; Expressive Bilateral Access Control for Internet-of-Things in Cloud-Fog
  Computing&lt;br /&gt;11:06-11:20 am&amp;nbsp\; &amp;nbsp\; &amp;nbsp\; Min Gao&amp;nbsp\; &amp;nbsp
 \; &amp;nbsp\; &amp;nbsp\; &amp;nbsp\; &amp;nbsp\; &amp;nbsp\; &amp;nbsp\; &amp;nbsp\; &amp;nbsp\; &amp;nbsp\;
  &amp;nbsp\; &amp;nbsp\; &amp;nbsp\; Seed-based density clustering method for communit
 y detection in social networks&lt;br /&gt;11:21-11:35 am&amp;nbsp\; &amp;nbsp\; &amp;nbsp\; 
 Huanchi Wang&amp;nbsp\; &amp;nbsp\; &amp;nbsp\; &amp;nbsp\; &amp;nbsp\; &amp;nbsp\; &amp;nbsp\; &amp;nbsp\
 ; &amp;nbsp\; Edge Intelligence Enabled Soft Authentication in UAV Swarm&lt;br /&gt;
 11:36-11:50 am&amp;nbsp\; &amp;nbsp\; &amp;nbsp\; Jiazhi Chen&amp;nbsp\; &amp;nbsp\; &amp;nbsp\; &amp;
 nbsp\; &amp;nbsp\; &amp;nbsp\; &amp;nbsp\; &amp;nbsp\; &amp;nbsp\; &amp;nbsp\; &amp;nbsp\; &amp;nbsp\; An 
 Efficient Trust Establishment Model for Developing Collaboration Efficienc
 y in Internet of Vehicles&lt;br /&gt;11:51-12:10 pm&amp;nbsp\; &amp;nbsp\; &amp;nbsp\; Mouha
 med Abdulla&amp;nbsp\; &amp;nbsp\; &amp;nbsp\; &amp;nbsp\; &amp;nbsp\;Latency of Concatenating
  Unlicensed LPWAN with Cellular IoT: An Experimental QoE Study&lt;/p&gt;\n&lt;p&gt;See
  the expanded agenda attached to Media section at the bottom of the Events
  page.&lt;/p&gt;
END:VEVENT
END:VCALENDAR

