BEGIN:VCALENDAR
VERSION:2.0
PRODID:IEEE vTools.Events//EN
CALSCALE:GREGORIAN
BEGIN:VTIMEZONE
TZID:America/Buenos_Aires
BEGIN:DAYLIGHT
DTSTART:20380119T001407
TZOFFSETFROM:-0300
TZOFFSETTO:-0300
RRULE:FREQ=YEARLY;BYDAY=3TU;BYMONTH=1
TZNAME:-03
END:DAYLIGHT
BEGIN:STANDARD
DTSTART:20090314T230000
TZOFFSETFROM:-0200
TZOFFSETTO:-0300
RRULE:FREQ=YEARLY;BYDAY=2SA;BYMONTH=3
TZNAME:-03
END:STANDARD
END:VTIMEZONE
BEGIN:VEVENT
DTSTAMP:20220323T174316Z
UID:8FB0AC3E-DC33-44E5-9263-0AEF16C26D2E
DTSTART;TZID=America/Buenos_Aires:20210730T180000
DTEND;TZID=America/Buenos_Aires:20210730T190000
DESCRIPTION:Seminarios mensuales sobre comunicaciones brindados por profesi
 onales en Argentina. Se realizan en idioma castellano y son abiertos.\n\nC
 o-sponsored by: UTN - Córdoba\n\nSpeaker(s): Dr. Ing. Carlos Zerbini\, \n
 \nAgenda: \n18:00 Presentación a cargo de José Ignacio Alvarez-Hamelin (
 ComSoc Argentina Chair)\n\n18:05 Explorando señales LTE con SDR (Carlos Z
 erbini)\n\n18:50 Preguntas y comentarios\n\nBuenos Aires\, Distrito Federa
 l\, Argentina\, Virtual: https://events.vtools.ieee.org/m/276484
LOCATION:Buenos Aires\, Distrito Federal\, Argentina\, Virtual: https://eve
 nts.vtools.ieee.org/m/276484
ORGANIZER:ihameli@ieee.org
SEQUENCE:6
SUMMARY:IEEE ComSoc Argentina Open Webinar
URL;VALUE=URI:https://events.vtools.ieee.org/m/276484
X-ALT-DESC:Description: &lt;br /&gt;&lt;p&gt;Seminarios mensuales sobre comunicaciones 
 brindados por profesionales en Argentina. Se realizan en idioma castellano
  y son abiertos.&lt;/p&gt;&lt;br /&gt;&lt;br /&gt;Agenda: &lt;br /&gt;&lt;p&gt;18:00 Presentaci&amp;oacute\;
 n a cargo de&amp;nbsp\;Jos&amp;eacute\; Ignacio Alvarez-Hamelin (ComSoc Argentina 
 Chair)&lt;/p&gt;\n&lt;p&gt;18:05 &lt;strong&gt;Explorando se&amp;ntilde\;ales LTE con SDR&amp;nbsp\;
 &lt;/strong&gt;(Carlos Zerbini)&lt;/p&gt;\n&lt;p&gt;18:50 Preguntas y comentarios&lt;/p&gt;
END:VEVENT
END:VCALENDAR

