BEGIN:VCALENDAR
VERSION:2.0
PRODID:IEEE vTools.Events//EN
CALSCALE:GREGORIAN
BEGIN:VTIMEZONE
TZID:America/Los_Angeles
BEGIN:DAYLIGHT
DTSTART:20210314T030000
TZOFFSETFROM:-0800
TZOFFSETTO:-0700
RRULE:FREQ=YEARLY;BYDAY=2SU;BYMONTH=3
TZNAME:PDT
END:DAYLIGHT
BEGIN:STANDARD
DTSTART:20211107T010000
TZOFFSETFROM:-0700
TZOFFSETTO:-0800
RRULE:FREQ=YEARLY;BYDAY=1SU;BYMONTH=11
TZNAME:PST
END:STANDARD
END:VTIMEZONE
BEGIN:VEVENT
DTSTAMP:20210722T062206Z
UID:33BAB3E9-2130-4D9D-A7FB-B087FB2AB271
DTSTART;TZID=America/Los_Angeles:20210727T180000
DTEND;TZID=America/Los_Angeles:20210727T210000
DESCRIPTION:MOVE Community Outreach is an emergency relief program committe
 d to assisting victims of natural [disasters](http://ieeeusamove.wpengine.
 com/about/disaster-relief/) with short-term communications and power solut
 ions. These temporary emergency relief provisions help those affected stay
  connected and make sure they can access the help they need. Services incl
 ude phone charging\, internet &amp; communications support\, and lighting to d
 isaster victims.\n\nWhen not deployed for natural [disasters](http://ieeeu
 samove.wpengine.com/about/disaster-relief/)\, MOVE volunteers conduct comm
 unity outreach and facilitate learning opportunities for students and the 
 general public in the areas of Science\, Technology\, Engineering\, and Ma
 th (STEM). They have been as far west as Texas\, and as far north as New Y
 ork to get students excited about STEM.\n\nCo-sponsored by: SusTech 2021 a
 nd Coastal Los Angeles Section Life Member Affinity Group\n\nSpeaker(s): G
 rayson Randall\, \n\nAgenda: \nTalk starts at 6:00 PM\n\nVirtual: https://
 events.vtools.ieee.org/m/276600
LOCATION:Virtual: https://events.vtools.ieee.org/m/276600
ORGANIZER:c.jackson@ieee.org
SEQUENCE:16
SUMMARY:July&#39;21 SusTech Talk: IEEE MOVE Community Outreach Program
URL;VALUE=URI:https://events.vtools.ieee.org/m/276600
X-ALT-DESC:Description: &lt;br /&gt;&lt;p&gt;&lt;strong&gt;MOVE Community Outreach&lt;/strong&gt; i
 s an emergency relief program committed to assisting victims of natural &lt;a
  href=&quot;http://ieeeusamove.wpengine.com/about/disaster-relief/&quot;&gt;disasters&lt;/
 a&gt;&amp;nbsp\; with short-term communications and power solutions. These tempor
 ary emergency relief provisions help those affected stay connected and mak
 e sure they can access the help they need. Services include phone charging
 \, internet &amp;amp\; communications support\, and lighting to disaster victi
 ms.&lt;/p&gt;\n&lt;p&gt;When not deployed for natural &lt;a href=&quot;http://ieeeusamove.wpen
 gine.com/about/disaster-relief/&quot;&gt;disasters&lt;/a&gt;\, MOVE volunteers conduct c
 ommunity outreach and facilitate learning opportunities for students and t
 he general public in the areas of Science\, Technology\, Engineering\, and
  Math (STEM). They have been as far west as Texas\, and as far north as Ne
 w York to get students excited about STEM.&amp;nbsp\;&amp;nbsp\;&lt;/p&gt;&lt;br /&gt;&lt;br /&gt;Ag
 enda: &lt;br /&gt;&lt;p&gt;Talk starts at 6:00 PM&lt;/p&gt;
END:VEVENT
END:VCALENDAR

