BEGIN:VCALENDAR
VERSION:2.0
PRODID:IEEE vTools.Events//EN
CALSCALE:GREGORIAN
BEGIN:VTIMEZONE
TZID:Asia/Kolkata
BEGIN:STANDARD
DTSTART:19451014T230000
TZOFFSETFROM:+0630
TZOFFSETTO:+0530
TZNAME:IST
END:STANDARD
END:VTIMEZONE
BEGIN:VEVENT
DTSTAMP:20220104T040644Z
UID:EAB70185-9FD9-4589-94E6-FD96FB83FDE5
DTSTART;TZID=Asia/Kolkata:20211108T193000
DTEND;TZID=Asia/Kolkata:20211108T203000
DESCRIPTION:IEEE Distinguished Lecture Series 2021 talk on “The Fundament
 al Theory Behind the Internet of Things (IoT)” by Dr. Jeffrey Voas\, Nat
 ional Institute of Standards and Technology\, USA\n\nOrganized by IEEE Rou
 rkela Subsection\, sponsored by IEEE Reliability Society\n\nDate and time:
  08 Nov 2021 @ 10:00AM EDT| 07:30PM IST\n\nNo registration required\, IEEE
  and Non-IEEE members can attend\n\nWebEx Joining link: https://ieeemeetin
 gs.webex.com/ieeemeetings/j.php?MTID=m00c04535e351bd6f62e130e75bbcfdbf\n\n
 Contact and queries: Sambit Bakshi (sambitbaksi@gmail.com)\n\nTo be in tou
 ch to know detail of future talks\, join the group: https://www.facebook.c
 om/groups/ieeerourkelasubsection\n\nCo-sponsored by: IEEE Reliability Soci
 ety\n\nSpeaker(s): Dr. Jeffrey Voas\, \n\nVirtual: https://events.vtools.i
 eee.org/m/277417
LOCATION:Virtual: https://events.vtools.ieee.org/m/277417
ORGANIZER:sambitbaksi@gmail.com
SEQUENCE:1
SUMMARY:IEEE Distinguished Lecture Series 2021 talk on “The Fundamental T
 heory Behind the Internet of Things (IoT)” by Dr. Jeffrey Voas
URL;VALUE=URI:https://events.vtools.ieee.org/m/277417
X-ALT-DESC:Description: &lt;br /&gt;&lt;p&gt;IEEE Distinguished Lecture Series 2021 tal
 k on &amp;ldquo\;&lt;em&gt;The &lt;/em&gt;&lt;em&gt;Fundamental&lt;/em&gt;&lt;em&gt; &lt;/em&gt;&lt;em&gt;Theory Behind 
 the Internet of Things (&lt;/em&gt;&lt;em&gt;IoT&lt;/em&gt;&lt;em&gt;)&lt;/em&gt;&amp;rdquo\; by Dr. Jeffrey
  Voas\, National Institute of Standards and Technology\, USA&lt;/p&gt;\n&lt;p&gt;Organ
 ized by IEEE Rourkela Subsection\, sponsored by IEEE Reliability Society&lt;/
 p&gt;\n&lt;p&gt;Date and time: 08 Nov 2021 @ 10:00AM EDT| 07:30PM IST&lt;/p&gt;\n&lt;p&gt;No re
 gistration required\, IEEE and Non-IEEE members can attend&lt;/p&gt;\n&lt;p&gt;WebEx J
 oining link: https://ieeemeetings.webex.com/ieeemeetings/j.php?MTID=m00c04
 535e351bd6f62e130e75bbcfdbf&lt;/p&gt;\n&lt;p&gt;Contact and queries: Sambit Bakshi (sa
 mbitbaksi@gmail.com)&lt;/p&gt;\n&lt;p&gt;To be in touch to know detail of future talks
 \, join the group: https://www.facebook.com/groups/ieeerourkelasubsection&lt;
 /p&gt;
END:VEVENT
END:VCALENDAR

