BEGIN:VCALENDAR
VERSION:2.0
PRODID:IEEE vTools.Events//EN
CALSCALE:GREGORIAN
BEGIN:VTIMEZONE
TZID:America/Panama
BEGIN:STANDARD
DTSTART:19080422T001936
TZOFFSETFROM:-0640
TZOFFSETTO:-0500
TZNAME:EST
END:STANDARD
END:VTIMEZONE
BEGIN:VEVENT
DTSTAMP:20210917T223755Z
UID:4A2053EE-8E0C-4EB6-8525-1C891749CF54
DTSTART;TZID=America/Panama:20210731T180000
DTEND;TZID=America/Panama:20210731T200000
DESCRIPTION:Los Capítulos Técnicos Estudiantiles IEEE EMBS (Engineering i
 n Medicine and Biology Society) de la Universidad Latina de Panamá e IEEE
  TEMS\n(Technology and Engineering Management Society) Universidad Tecnol
 ógica de Panamá\, los invita al Taller virtual titulado &quot;HABILIDADES PAR
 A LA VIDA: PREPARÁNDOME PARA MI PROFESIÓN&quot;\, este evento busca conmemora
 r el Día Mundial de las Habilidades de la Juventud celebrado el 15 de jul
 io\, además de promoverseamos el conocimiento de destrezas o capacidades 
 necesarias para situaciones psicosociales que se puedan presentar en el ca
 mpo laboral e inclusive en desarrollo del camino como emprendedor\, tambi
 én es de nuestro interés fomentar el desarrollo de estas actitudes y com
 posturas en el estudiantado y profesionales recién egresados de instituci
 ones educativas de nivel superior \, por último concientizar a los partic
 ipantes sobre la necesidad e importancia de estas para el éxito en su pro
 fesión y el campo laboral.\n\nSpeaker(s): Ing. Daniel Salamanca\, \n\nAge
 nda: \n6:00 P.M – 6:10 P.M. Presentación de Bienvenida (Power Point).\n
 \n6:10 P.M – 6:15 P.M. Apertura-Presentación del evento y expositor.\n\
 n6:15 P.M – 7:30 P.M. Taller Presentado por el Ing. Daniel Salamanca.\n\
 n7:30 P.M – 7:40 P.M. Entrega del certificado como ponente.\n\n7:40 P.M 
 – 7:55 P.M. Palabras de despedida por Alexandra Montenegro (presidenta d
 e EMBS\, UNIV. LATINA DE PANAMÁ ) y Lairyn Palacios (presidenta TEMS\, UN
 IV. TECNOLOGICA DE PANAMÁ).\n\n7:55 P.M – 8:00 P.M. Fotografía final y
  cierre.\n\npanamá\, Panama\, Panama\, Virtual: https://events.vtools.iee
 e.org/m/277471
LOCATION:panamá\, Panama\, Panama\, Virtual: https://events.vtools.ieee.or
 g/m/277471
ORGANIZER:ulat.ieee.embs@gmail.com
SEQUENCE:9
SUMMARY:Taller habilidades para la vida: preparándome para mi profesión.
URL;VALUE=URI:https://events.vtools.ieee.org/m/277471
X-ALT-DESC:Description: &lt;br /&gt;&lt;p&gt;Los Cap&amp;iacute\;tulos T&amp;eacute\;cnicos Est
 udiantiles IEEE EMBS (Engineering in Medicine and Biology Society) de la U
 niversidad Latina de Panam&amp;aacute\; e IEEE TEMS&lt;br /&gt;(Technology and Engin
 eering Management Society) Universidad Tecnol&amp;oacute\;gica de Panam&amp;aacute
 \;\, los invita al Taller virtual titulado &quot;HABILIDADES PARA LA VIDA: PREP
 AR&amp;Aacute\;NDOME PARA MI PROFESI&amp;Oacute\;N&quot;\, este evento busca conmemorar
  el D&amp;iacute\;a Mundial de las Habilidades de la Juventud celebrado el 15 
 de julio\, adem&amp;aacute\;s de promoverseamos el conocimiento de destrezas o
  capacidades necesarias para situaciones psicosociales que se puedan prese
 ntar en el campo laboral e inclusive en desarrollo del camino como emprend
 edor\, tambi&amp;eacute\;n es de nuestro inter&amp;eacute\;s fomentar el desarroll
 o de estas actitudes y composturas en el estudiantado y profesionales reci
 &amp;eacute\;n egresados de instituciones educativas de nivel superior \, por 
 &amp;uacute\;ltimo concientizar a los participantes sobre la necesidad e impor
 tancia de estas para el &amp;eacute\;xito en su profesi&amp;oacute\;n y el campo l
 aboral.&lt;/p&gt;&lt;br /&gt;&lt;br /&gt;Agenda: &lt;br /&gt;&lt;p&gt;&amp;nbsp\;&amp;nbsp\;6:00 P.M &amp;ndash\; 6:
 10 P.M.&amp;nbsp\;&amp;nbsp\;&amp;nbsp\;&amp;nbsp\;&amp;nbsp\;&amp;nbsp\;&amp;nbsp\; Presentaci&amp;oacute
 \;n de Bienvenida (Power Point).&lt;/p&gt;\n&lt;p&gt;&amp;nbsp\;&amp;nbsp\;6:10 P.M &amp;ndash\; 6
 :15 P.M.&amp;nbsp\;&amp;nbsp\;&amp;nbsp\;&amp;nbsp\;&amp;nbsp\;&amp;nbsp\; &amp;nbsp\;Apertura-Present
 aci&amp;oacute\;n del evento y expositor.&lt;/p&gt;\n&lt;p&gt;&amp;nbsp\;&amp;nbsp\;6:15 P.M &amp;ndas
 h\; 7:30 P.M.&amp;nbsp\;&amp;nbsp\;&amp;nbsp\;&amp;nbsp\;&amp;nbsp\;&amp;nbsp\;&amp;nbsp\; Taller Pres
 entado por el Ing. Daniel Salamanca.&lt;/p&gt;\n&lt;p&gt;&amp;nbsp\; 7:30 P.M &amp;ndash\; 7:4
 0 P.M.&amp;nbsp\;&amp;nbsp\;&amp;nbsp\;&amp;nbsp\;&amp;nbsp\;&amp;nbsp\;&amp;nbsp\; Entrega del certif
 icado como ponente.&amp;nbsp\;&amp;nbsp\;&amp;nbsp\;&amp;nbsp\;&amp;nbsp\;&amp;nbsp\;&amp;nbsp\;&amp;nbsp\
 ;&amp;nbsp\;&amp;nbsp\;&amp;nbsp\;&amp;nbsp\;&amp;nbsp\;&amp;nbsp\;&amp;nbsp\;&amp;nbsp\;&amp;nbsp\;&amp;nbsp\;&amp;nb
 sp\;&amp;nbsp\;&amp;nbsp\;&amp;nbsp\;&amp;nbsp\;&amp;nbsp\;&amp;nbsp\;&amp;nbsp\;&amp;nbsp\;&amp;nbsp\;&amp;nbsp\;
 &amp;nbsp\;&amp;nbsp\;&amp;nbsp\;&amp;nbsp\;&amp;nbsp\;&amp;nbsp\;&amp;nbsp\;&amp;nbsp\;&amp;nbsp\;&amp;nbsp\;&amp;nbs
 p\;&amp;nbsp\;&amp;nbsp\;&lt;/p&gt;\n&lt;p&gt;&amp;nbsp\;7:40 P.M &amp;ndash\; 7:55 P.M.&amp;nbsp\;&amp;nbsp\;
 &amp;nbsp\;&amp;nbsp\;&amp;nbsp\;&amp;nbsp\;&amp;nbsp\; Palabras de despedida por Alexandra Mo
 ntenegro (presidenta de EMBS\, UNIV. LATINA DE PANAM&amp;Aacute\; ) y Lairyn P
 alacios (presidenta TEMS\, UNIV. TECNOLOGICA DE PANAM&amp;Aacute\;).&lt;/p&gt;\n&lt;p&gt;&amp;
 nbsp\; 7:55 P.M &amp;ndash\; 8:00 P.M.&amp;nbsp\;&amp;nbsp\;&amp;nbsp\;&amp;nbsp\;&amp;nbsp\;&amp;nbsp
 \;&amp;nbsp\;&amp;nbsp\;&amp;nbsp\;&amp;nbsp\; Fotograf&amp;iacute\;a final y cierre.&lt;/p&gt;
END:VEVENT
END:VCALENDAR

