BEGIN:VCALENDAR
VERSION:2.0
PRODID:IEEE vTools.Events//EN
CALSCALE:GREGORIAN
BEGIN:VTIMEZONE
TZID:America/New_York
BEGIN:DAYLIGHT
DTSTART:20210314T030000
TZOFFSETFROM:-0500
TZOFFSETTO:-0400
RRULE:FREQ=YEARLY;BYDAY=2SU;BYMONTH=3
TZNAME:EDT
END:DAYLIGHT
BEGIN:STANDARD
DTSTART:20211107T010000
TZOFFSETFROM:-0400
TZOFFSETTO:-0500
RRULE:FREQ=YEARLY;BYDAY=1SU;BYMONTH=11
TZNAME:EST
END:STANDARD
END:VTIMEZONE
BEGIN:VEVENT
DTSTAMP:20211211T062610Z
UID:C62DF8A6-2633-4365-9BC3-931CAFC84E84
DTSTART;TZID=America/New_York:20211007T090000
DTEND;TZID=America/New_York:20211007T163000
DESCRIPTION:Details of the Mini Show Registration Form\, Exhibitor Tables\,
  Covid Guidelines can be found below on Vtool Page at the bottom under the
  Media heading.\n\nAttendees are encouraged the download the Registration 
 Form from the Vtool Link\n\nRegistration: On Site and vTools\n\nFor furthe
 r information contact:\n\nCHAIR - GENERAL-EXHIBITION: KIRIT DIXIT (201-669
 -7599)\, kdixit@ieee.org\n\nCHAIR – TECHNICAL PROGRAMS: GEORGE KANNELL(9
 73-261-1421)\,george.kannell@gd-ms.com\n\nIEEE NORTH JERSEY SECTION CHAIR 
 – AJAY KUMAR PODDAR (201-560-3806)\,akpoddar@ieee.org\n\nTHERE IS NO CHA
 RGE TO ATTEND THE SYMPOSIUM OR SHOW.\n\nCo-sponsored by: IEEE North Jersey
  Section\n\nHanover Manor \, 16 Eagle Rock Avenue \, East Hanover \, New J
 ersey\, United States\, 07936
LOCATION:Hanover Manor \, 16 Eagle Rock Avenue \, East Hanover \, New Jerse
 y\, United States\, 07936
ORGANIZER:akpoddar@ieee.org
SEQUENCE:15
SUMMARY:35th ANNUAL SYMPOSIUM AND MINI-SHOW
URL;VALUE=URI:https://events.vtools.ieee.org/m/278934
X-ALT-DESC:Description: &lt;br /&gt;&lt;p&gt;&lt;span style=&quot;font-size: 18pt\;&quot;&gt;&lt;strong&gt;&lt;s
 pan style=&quot;color: #e03e2d\;&quot;&gt;Details of the Mini Show Registration Form\, 
 Exhibitor Tables\, Covid Guidelines can be found below on Vtool Page at th
 e bottom under the Media heading.&lt;/span&gt;&lt;/strong&gt;&lt;/span&gt;&lt;/p&gt;\n&lt;p&gt;&lt;span sty
 le=&quot;font-size: 18pt\; color: #000000\;&quot;&gt;&lt;strong&gt;Attendees are encouraged t
 he download the Registration Form from the Vtool Link&lt;/strong&gt;&lt;/span&gt;&lt;/p&gt;\
 n&lt;p&gt;&lt;strong&gt;Registration: On Site and vTools&lt;/strong&gt;&lt;/p&gt;\n&lt;p&gt;For further 
 information contact:&lt;/p&gt;\n&lt;p&gt;CHAIR -&amp;nbsp\; GENERAL-EXHIBITION: KIRIT DIXI
 T (201-669-7599)\, &lt;span style=&quot;color: #3598db\;&quot;&gt;&lt;a style=&quot;color: #3598db
 \;&quot; href=&quot;mailto:kdixit@ieee.org&quot;&gt;kdixit@ieee.org&lt;/a&gt;&lt;/span&gt;&lt;/p&gt;\n&lt;p&gt;CHAIR
  &amp;ndash\; TECHNICAL PROGRAMS: GEORGE KANNELL(973-261-1421)&lt;span style=&quot;col
 or: #3598db\;&quot;&gt;\,&lt;a style=&quot;color: #3598db\;&quot; href=&quot;mailto:george.kannell@g
 d-ms.com&quot;&gt;george.kannell@gd-ms.com&lt;/a&gt;&lt;/span&gt;&lt;/p&gt;\n&lt;p&gt;IEEE NORTH JERSEY SE
 CTION CHAIR &amp;ndash\; AJAY KUMAR PODDAR&amp;nbsp\; (201-560-3806)\,&lt;span style=
 &quot;color: #3598db\;&quot;&gt;akpoddar@ieee.org&lt;/span&gt;&lt;/p&gt;\n&lt;p&gt;&lt;span style=&quot;color: #e
 03e2d\;&quot;&gt;&lt;strong&gt;THERE IS NO CHARGE TO ATTEND THE SYMPOSIUM OR SHOW.&lt;/stro
 ng&gt;&lt;/span&gt;&lt;/p&gt;
END:VEVENT
END:VCALENDAR

