BEGIN:VCALENDAR
VERSION:2.0
PRODID:IEEE vTools.Events//EN
CALSCALE:GREGORIAN
BEGIN:VTIMEZONE
TZID:America/Panama
BEGIN:STANDARD
DTSTART:19080422T001936
TZOFFSETFROM:-0640
TZOFFSETTO:-0500
TZNAME:EST
END:STANDARD
END:VTIMEZONE
BEGIN:VEVENT
DTSTAMP:20210924T005202Z
UID:BC85DB39-0089-4985-9E78-290BC9EE9678
DTSTART;TZID=America/Panama:20210921T170000
DTEND;TZID=America/Panama:20210921T190000
DESCRIPTION:We will be celebrating this important date where we will reach 
 38 years with various interesting topics\, some in English and some in Spa
 nish.\n\nThe IEEE Computer Society is the premier source for information\,
  inspiration\, and collaboration in computer science and engineering. Conn
 ecting members worldwide\, it empowers the people who advance technology b
 y delivering tools for individuals at all stages of their professional car
 eers. Our trusted resources include international conferences\, peer-revie
 wed publications\, a robust digital library\, globally recognized standard
 s\, and continuous learning opportunities.\n\nEstaremos celebrando esta fe
 cha importante donde llegamos a 38 años con varias exposiciones interesan
 tes unas en inglés y otras en español.\n\nLa IEEE Computer Society es la
  principal fuente de información\, inspiración y colaboración en inform
 ática e ingeniería. Conectando miembros en todo el mundo\, empodera a la
 s personas que avanzan en la tecnología mediante la entrega de herramient
 as para personas en todas las etapas de sus carreras profesionales. Nuestr
 os confiables recursos incluyen conferencias internacionales\, publicacion
 es revisadas por pares\, una sólida biblioteca digital\, estándares reco
 nocidos a nivel mundial y oportunidades de aprendizaje continuo.\n\nCo-spo
 nsored by: Franklin WARD\n\nAgenda: \nAll times are GMT/UTC -5\n\n5:00 PM 
 - 5:05 PM | Welcome by Julio Garcia (IEEE Panama Section President). House
  keeping tasks and introduction to 1st speaker.\n\n5:05 PM - 5:25 PM | For
 rest Shull\, President of IEEE Computer Society | Topic: Envisioning the F
 uture of Software Engineering (English).\n\n5:27 PM - 5:47 PM | Yanny Barr
 ios\, Facebook Client Partner for Cisneros Interactive | Topic: Zero Frict
 ion Future (Español).\n\n5:49 PM - 6:14 PM | Alessandro Francolini\, Gere
 nte de Negocios de Ciudad del Saber | Topic: Un Internet Verde (Español).
 \n\n6:16 PM - 6:36 PM | Susan K. Land\, President &amp; CEO of IEEE | Topic: I
 EEE: The Potential and the Promise (English).\n\n6:36 PM - 6:42 PM | About
  IEEE Day 2021 and different activities within the IEEE Panama Section.\n\
 n6:42 PM - 7:00 PM | Q&amp;A\, Final Thoghts and Closing of event.\n\nVirtual:
  https://events.vtools.ieee.org/m/279476
LOCATION:Virtual: https://events.vtools.ieee.org/m/279476
ORGANIZER:fward@ieee.org
SEQUENCE:17
SUMMARY:IEEE COMPUTER SOCIETY PANAMA 38TH ANNIVERSARY
URL;VALUE=URI:https://events.vtools.ieee.org/m/279476
X-ALT-DESC:Description: &lt;br /&gt;&lt;p&gt;&lt;span style=&quot;color: #ffffff\; font-size: 1
 4pt\;&quot;&gt;&lt;strong&gt;&lt;span style=&quot;background-color: #e67e23\;&quot;&gt;We will be celebr
 ating this important date where we will reach 38 years with various intere
 sting topics\, some in English and some in Spanish.&amp;nbsp\;&lt;/span&gt;&lt;/strong&gt;
 &lt;/span&gt;&lt;/p&gt;\n&lt;p&gt;&lt;span style=&quot;font-size: 14pt\;&quot;&gt;The &lt;span style=&quot;backgroun
 d-color: #e67e23\;&quot;&gt;&lt;strong&gt;&lt;span style=&quot;background-color: #e67e23\;&quot;&gt;&lt;spa
 n style=&quot;color: #ffffff\;&quot;&gt;IEEE Computer Society&lt;/span&gt;&lt;span style=&quot;backgr
 ound-color: #ffffff\;&quot;&gt; &lt;/span&gt;&lt;/span&gt;&lt;/strong&gt;&lt;/span&gt;is the premier sourc
 e for information\, inspiration\, and collaboration in computer science an
 d engineering. Connecting members worldwide\, it empowers the people who a
 dvance technology by delivering tools for individuals at all stages of the
 ir professional careers. Our trusted resources include international confe
 rences\, peer-reviewed publications\, a robust digital library\, globally 
 recognized standards\, and continuous learning opportunities.&lt;/span&gt;&lt;/p&gt;\n
 &lt;p&gt;&lt;span style=&quot;color: #ffffff\; font-size: 14pt\;&quot;&gt;&lt;strong&gt;&lt;span style=&quot;b
 ackground-color: #00629b\;&quot;&gt;Estaremos celebrando esta fecha importante don
 de llegamos a 38 a&amp;ntilde\;os con varias exposiciones interesantes unas en
  ingl&amp;eacute\;s y otras en espa&amp;ntilde\;ol.&lt;/span&gt;&lt;/strong&gt;&lt;/span&gt;&lt;/p&gt;\n&lt;p
 &gt;&lt;span style=&quot;font-size: 14pt\;&quot;&gt;La &lt;span style=&quot;color: #ffffff\; backgrou
 nd-color: #00629b\;&quot;&gt;&lt;strong&gt;IEEE Computer Society&lt;/strong&gt;&lt;/span&gt; es la p
 rincipal fuente de informaci&amp;oacute\;n\, inspiraci&amp;oacute\;n y colaboraci&amp;
 oacute\;n en inform&amp;aacute\;tica e ingenier&amp;iacute\;a. Conectando miembros
  en todo el mundo\, empodera a las personas que avanzan en la tecnolog&amp;iac
 ute\;a mediante la entrega de herramientas para personas en todas las etap
 as de sus carreras profesionales. Nuestros confiables recursos incluyen co
 nferencias internacionales\, publicaciones revisadas por pares\, una s&amp;oac
 ute\;lida biblioteca digital\, est&amp;aacute\;ndares reconocidos a nivel mund
 ial y oportunidades de aprendizaje continuo.&amp;nbsp\;&lt;/span&gt;&lt;/p&gt;&lt;br /&gt;&lt;br /&gt;
 Agenda: &lt;br /&gt;&lt;p&gt;&lt;span style=&quot;text-decoration: underline\; font-size: 18pt
 \;&quot;&gt;&lt;span style=&quot;color: #e67e23\; text-decoration: underline\;&quot;&gt;&lt;strong&gt;Al
 l times are GMT/UTC -5&lt;/strong&gt;&lt;/span&gt;&lt;/span&gt;&lt;/p&gt;\n&lt;p&gt;&lt;span style=&quot;font-si
 ze: 12pt\;&quot;&gt;&lt;strong&gt;&lt;span style=&quot;color: #00629b\;&quot;&gt;5:00 PM - 5:05 PM | Wel
 come by Julio Garcia (IEEE Panama Section President). House keeping tasks 
 and introduction to 1st speaker.&lt;/span&gt;&lt;/strong&gt;&lt;/span&gt;&lt;/p&gt;\n&lt;p&gt;&lt;span styl
 e=&quot;font-size: 12pt\;&quot;&gt;&lt;strong&gt;&lt;span style=&quot;color: #00629b\;&quot;&gt;5:05 PM - 5:2
 5 PM | Forrest Shull\, President of IEEE Computer Society | &lt;/span&gt;&lt;/stron
 g&gt;&lt;span style=&quot;color: #e67e23\;&quot;&gt;&lt;strong&gt;Topic: Envisioning the Future of 
 Software Engineering (&lt;em&gt;English&lt;/em&gt;).&lt;/strong&gt;&lt;/span&gt;&lt;/span&gt;&lt;/p&gt;\n&lt;p&gt;&lt;s
 pan style=&quot;font-size: 12pt\;&quot;&gt;&lt;strong&gt;&lt;span style=&quot;color: #00629b\;&quot;&gt;5:27 
 PM - 5:47 PM | Yanny Barrios\, Facebook Client Partner for Cisneros Intera
 ctive | &lt;span style=&quot;color: #e67e23\;&quot;&gt;Topic: Zero Friction Future (&lt;em&gt;Es
 pa&amp;ntilde\;ol&lt;/em&gt;).&lt;/span&gt;&lt;/span&gt;&lt;/strong&gt;&lt;/span&gt;&lt;/p&gt;\n&lt;p&gt;&lt;span style=&quot;fo
 nt-size: 12pt\;&quot;&gt;&lt;strong&gt;&lt;span style=&quot;color: #00629b\;&quot;&gt;5:49 PM - 6:14 PM 
 | Alessandro Francolini\, Gerente de Negocios de Ciudad del Saber | &lt;span 
 style=&quot;color: #e67e23\;&quot;&gt;Topic: Un Internet Verde (&lt;em&gt;Espa&amp;ntilde\;ol&lt;/em
 &gt;).&lt;/span&gt;&lt;/span&gt;&lt;/strong&gt;&lt;/span&gt;&lt;/p&gt;\n&lt;p&gt;&lt;span style=&quot;font-size: 12pt\;&quot;&gt;
 &lt;strong&gt;&lt;span style=&quot;color: #00629b\;&quot;&gt;6:16 PM - 6:36 PM | Susan K. Land\,
  President &amp;amp\; CEO of IEEE | &lt;span style=&quot;color: #e67e23\;&quot;&gt;Topic: IEEE
 : The Potential and the Promise (&lt;em&gt;English&lt;/em&gt;).&lt;/span&gt;&lt;/span&gt;&lt;/strong&gt;
 &lt;/span&gt;&lt;/p&gt;\n&lt;p&gt;&lt;span style=&quot;font-size: 12pt\;&quot;&gt;&lt;strong&gt;&lt;span style=&quot;color
 : #00629b\;&quot;&gt;6:36 PM - 6:42 PM | About &lt;span style=&quot;color: #e67e23\;&quot;&gt;IEEE
  Day 2021&lt;/span&gt; and different activities within the IEEE Panama Section.&lt;
 /span&gt;&lt;/strong&gt;&lt;/span&gt;&lt;/p&gt;\n&lt;p&gt;&lt;span style=&quot;font-size: 12pt\;&quot;&gt;&lt;strong&gt;&lt;sp
 an style=&quot;color: #00629b\;&quot;&gt;6:42 PM - 7:00 PM | Q&amp;amp\;A\, Final Thoghts a
 nd Closing of event.&amp;nbsp\;&lt;/span&gt;&lt;/strong&gt;&lt;/span&gt;&lt;/p&gt;\n&lt;p&gt;&amp;nbsp\;&lt;/p&gt;
END:VEVENT
END:VCALENDAR

