BEGIN:VCALENDAR
VERSION:2.0
PRODID:IEEE vTools.Events//EN
CALSCALE:GREGORIAN
BEGIN:VTIMEZONE
TZID:US/Eastern
BEGIN:DAYLIGHT
DTSTART:20220313T030000
TZOFFSETFROM:-0500
TZOFFSETTO:-0400
RRULE:FREQ=YEARLY;BYDAY=2SU;BYMONTH=3
TZNAME:EDT
END:DAYLIGHT
BEGIN:STANDARD
DTSTART:20211107T010000
TZOFFSETFROM:-0400
TZOFFSETTO:-0500
RRULE:FREQ=YEARLY;BYDAY=1SU;BYMONTH=11
TZNAME:EST
END:STANDARD
END:VTIMEZONE
BEGIN:VEVENT
DTSTAMP:20211208T085927Z
UID:BBF646E7-8D8F-4C73-BF2B-160601374AF3
DTSTART;TZID=US/Eastern:20211207T180000
DTEND;TZID=US/Eastern:20211207T193000
DESCRIPTION:Since it started in 1989\, HOT CHIPS has been known as one of t
 he semiconductor industry’s leading conferences on high-performance micr
 oprocessors and related integrated circuits. The conference is held once a
  year in August in the center of the world’s capital of electronics acti
 vity\, Silicon Valley.\n\nIt provides an opportunity for chip designers\, 
 computer architects\, system engineers\, press and analysts\, as well as a
 ttendees from national laboratories and academia to mix\, mingle and see p
 resentations on the latest technologies and products. It features a variet
 y of subjects related to microprocessors and integrated circuits.\n\nThe c
 onference emphasis this year\, as in previous years\, is on real products 
 and realizable technology. “Hot” topics\, include embedded and reconfi
 gurable processors\, quantum computing\, nano structures\, wireless chips\
 , network/security processors\, advanced packaging technology etc.\n\nSpea
 ker(s): Sharan Kalwani\, \n\nAgenda: \n06:00 PM - Welcome and Introduction
 s\, Chapter business update\;\n\n06:05 PM - Technical Talk/Presentation\n\
 n07:00 PM - End Technical Talk/Presentation\, begin Q &amp; A\n\n07:30 PM - Wr
 ap Up\n\n/* ALL TIMES ARE USA EST/EDT */\n\nVirtual: https://events.vtools
 .ieee.org/m/279787
LOCATION:Virtual: https://events.vtools.ieee.org/m/279787
ORGANIZER:ganesan@oakland.edu
SEQUENCE:9
SUMMARY:Hot Chips 2021 conference report
URL;VALUE=URI:https://events.vtools.ieee.org/m/279787
X-ALT-DESC:Description: &lt;br /&gt;&lt;p&gt;&lt;span style=&quot;font-size: 14pt\;&quot;&gt;Since it s
 tarted in 1989\, HOT CHIPS has been known as one of the semiconductor indu
 stry&amp;rsquo\;s leading conferences on high-performance microprocessors and 
 related integrated circuits. The conference is held once a year in August 
 in the center of the world&amp;rsquo\;s capital of electronics activity\, Sili
 con Valley.&lt;/span&gt;&lt;/p&gt;\n&lt;p&gt;&lt;span style=&quot;font-size: 14pt\;&quot;&gt;It provides an 
 opportunity for chip designers\, computer architects\, system engineers\, 
 press and analysts\, as well as attendees from national laboratories and a
 cademia to mix\, mingle and see presentations on the latest technologies a
 nd products. It features a variety of subjects related to microprocessors 
 and integrated circuits.&lt;/span&gt;&lt;/p&gt;\n&lt;p&gt;&lt;span style=&quot;font-size: 14pt\;&quot;&gt;Th
 e conference emphasis this year\, as in previous years\, is on real produc
 ts and realizable technology. &amp;ldquo\;Hot&amp;rdquo\; topics\, include embedde
 d and reconfigurable processors\, quantum computing\, nano structures\, wi
 reless chips\, network/security processors\, advanced packaging technology
  etc. &lt;/span&gt;&lt;/p&gt;&lt;br /&gt;&lt;br /&gt;Agenda: &lt;br /&gt;&lt;p&gt;&lt;span style=&quot;font-family: co
 urier new\, courier\, monospace\; font-size: 12pt\;&quot;&gt;06:00 PM - Welcome an
 d Introductions\, Chapter business update\;&lt;br /&gt;&lt;/span&gt;&lt;/p&gt;\n&lt;p&gt;&lt;span sty
 le=&quot;font-family: courier new\, courier\, monospace\; font-size: 12pt\;&quot;&gt;06
 :05 PM - Technical Talk/Presentation&lt;/span&gt;&lt;/p&gt;\n&lt;p&gt;&lt;span style=&quot;font-fami
 ly: courier new\, courier\, monospace\; font-size: 12pt\;&quot;&gt;07:00 PM - End 
 Technical Talk/Presentation\, begin Q &amp;amp\; A &lt;/span&gt;&lt;/p&gt;\n&lt;p&gt;&lt;span style
 =&quot;font-size: 12pt\;&quot;&gt;&lt;span style=&quot;font-family: courier new\, courier\, mon
 ospace\;&quot;&gt;07:30 PM - Wrap Up&lt;/span&gt;&lt;span style=&quot;font-family: courier new\,
  courier\, monospace\;&quot;&gt;&amp;nbsp\;&lt;/span&gt;&lt;/span&gt;&lt;/p&gt;\n&lt;p&gt;&lt;span style=&quot;font-si
 ze: 14pt\;&quot;&gt;&lt;em&gt;&lt;span style=&quot;text-decoration: underline\;&quot;&gt;&lt;strong&gt;&lt;span s
 tyle=&quot;color: #ff0000\;&quot;&gt;&lt;span style=&quot;font-family: courier new\, courier\, 
 monospace\;&quot;&gt;/* ALL TIMES ARE USA EST/EDT */&lt;/span&gt;&lt;/span&gt;&lt;/strong&gt;&lt;/span&gt;
 &lt;/em&gt;&lt;/span&gt;&lt;/p&gt;
END:VEVENT
END:VCALENDAR

