BEGIN:VCALENDAR
VERSION:2.0
PRODID:IEEE vTools.Events//EN
CALSCALE:GREGORIAN
BEGIN:VTIMEZONE
TZID:Asia/Kolkata
BEGIN:STANDARD
DTSTART:19451014T230000
TZOFFSETFROM:+0630
TZOFFSETTO:+0530
TZNAME:IST
END:STANDARD
END:VTIMEZONE
BEGIN:VEVENT
DTSTAMP:20210927T082631Z
UID:A7B1399C-4D14-458F-8859-90D933F87A10
DTSTART;TZID=Asia/Kolkata:20210916T130000
DTEND;TZID=Asia/Kolkata:20210918T223000
DESCRIPTION:Optimization is an unavoidable part of human civilization havin
 g\, bearing in every walk of life. However\, most of real-world optimizati
 on tasks are intrinsically multi-objective\, where multiple number of inte
 r-dependent factors need to be dealt with simultaneously. Technically this
  multi-objective framework of optimization needs special attention because
  of its real-life applicability. As such\, the multi-objective optimizatio
 n is so meritorious\, technically speaking that a good number of luminarie
 s preferred to have engaged themselves for addressing various problems\, t
 heoretical as well as practical. Associated literature indicates that the 
 importance of this domain is not only important but demands serious cultiv
 ation. Of late\, many objective optimization also gaining importance\, pri
 marily because of its associated computational issues. All these together 
 demonstrate an urgency in arranging an opportunity/ platform that will be 
 useful for young researchers and other academic/ technical persons engaged
  in active research in relevant field across the globe. It is needless to 
 mention that such initiative can only be effective if leading resource per
 sons/ researchers of this field find an opportunity to ventilate their lat
 est research initiatives. Accordingly\, leading scientists across the glob
 e involved in the active research in relevant domain have been identified\
 , approached and fortunately all have consented to share their latest find
 ings in the proposed IEEE CIS Summer School.\n\nCo-sponsored by: Departmen
 t of Computer and System Sciences\, Visva-Bharati\n\nVirtual: https://even
 ts.vtools.ieee.org/m/279981
LOCATION:Virtual: https://events.vtools.ieee.org/m/279981
ORGANIZER:paramartha.dutta@gmail.com
SEQUENCE:7
SUMMARY:IEEE CIS Summer School on Contemporary Advancement in Multi Objecti
 ve Optimization (CAMOO)
URL;VALUE=URI:https://events.vtools.ieee.org/m/279981
X-ALT-DESC:Description: &lt;br /&gt;&lt;p&gt;Optimization is an unavoidable part of hum
 an civilization having\, bearing in every walk of life. However\, most of 
 real-world optimization tasks are intrinsically multi-objective\, where mu
 ltiple number of inter-dependent factors need to be dealt with simultaneou
 sly. Technically this multi-objective framework of optimization needs spec
 ial attention because of its real-life applicability. As such\, the multi-
 objective optimization is so meritorious\, technically speaking that a goo
 d number of luminaries preferred to have engaged themselves for addressing
  various problems\, theoretical as well as practical. Associated literatur
 e indicates that the importance of this domain is not only important but d
 emands serious cultivation. Of late\, many objective optimization also gai
 ning importance\, primarily because of its associated computational issues
 . All these together demonstrate an urgency in arranging an opportunity/ p
 latform that will be useful for young researchers and other academic/ tech
 nical persons engaged in active research in relevant field across the glob
 e. It is needless to mention that such initiative can only be effective if
  leading resource persons/ researchers of this field find an opportunity t
 o ventilate their latest research initiatives. Accordingly\, leading scien
 tists across the globe involved in the active research in relevant domain 
 have been identified\, approached and fortunately all have consented to sh
 are their latest findings in the proposed IEEE CIS Summer School.&lt;/p&gt;
END:VEVENT
END:VCALENDAR

