BEGIN:VCALENDAR
VERSION:2.0
PRODID:IEEE vTools.Events//EN
CALSCALE:GREGORIAN
BEGIN:VTIMEZONE
TZID:US/Eastern
BEGIN:DAYLIGHT
DTSTART:20210314T030000
TZOFFSETFROM:-0500
TZOFFSETTO:-0400
RRULE:FREQ=YEARLY;BYDAY=2SU;BYMONTH=3
TZNAME:EDT
END:DAYLIGHT
BEGIN:STANDARD
DTSTART:20211107T010000
TZOFFSETFROM:-0400
TZOFFSETTO:-0500
RRULE:FREQ=YEARLY;BYDAY=1SU;BYMONTH=11
TZNAME:EST
END:STANDARD
END:VTIMEZONE
BEGIN:VEVENT
DTSTAMP:20210915T210343Z
UID:2B5CBA86-8F01-451B-A4FD-027BD6E23D45
DTSTART;TZID=US/Eastern:20210904T103000
DTEND;TZID=US/Eastern:20210904T160000
DESCRIPTION:To celebrate the aviation\, astronomy\, earth and space science
 \, and all things STEM! Admission is free and no reservations are required
 .\n\n- Learn about IEEE Pre-University educational resources for teachers\
 , parents\, students\, and IEEE members.\n\n- Watch robotics demonstration
 s by FIRST Robotics Teams\n\n- Learn about local organizations and people 
 working in STEM with Girl Scouts of the Green &amp; White Mountains\, meteorit
 e buff and NH finalist for the Teacher in Space program Bob Veilleux\, Ant
 ioch University&#39;s Alliance for Youth Climate Leadership\, Academy of Model
  Aeronautics\, Kollsman/Elbit Systems\, NH Space Grant Consortium\, Belmon
 t High School Astronomy Club\, Squam Lakes Science Center\, and GoSTEM\n\n
 2 Institute Drive\, Concord\, New Hampshire\, United States\, 03301
LOCATION:2 Institute Drive\, Concord\, New Hampshire\, United States\, 0330
 1
ORGANIZER:gimsoon@ieee.org
SEQUENCE:1
SUMMARY:AerospaceFest at McAuliffe-Shepard Discovery Center in Concord NH
URL;VALUE=URI:https://events.vtools.ieee.org/m/280747
X-ALT-DESC:Description: &lt;br /&gt;&lt;p&gt;To celebrate the aviation\, astronomy\, ea
 rth and space science\, and all things STEM! Admission is free and no rese
 rvations are required.&amp;nbsp\;&lt;/p&gt;\n&lt;p&gt;- Learn about IEEE Pre-University ed
 ucational resources for teachers\, parents\, students\, and IEEE members.&lt;
 /p&gt;\n&lt;p&gt;- Watch robotics demonstrations by FIRST Robotics Teams&lt;/p&gt;\n&lt;p&gt;-&amp;
 nbsp\;Learn about local organizations and people working in STEM with Girl
  Scouts of the Green &amp;amp\; White Mountains\, meteorite buff and NH finali
 st for the Teacher in Space program Bob Veilleux\, Antioch University&#39;s Al
 liance for Youth Climate Leadership\, Academy of Model Aeronautics\, Kolls
 man/Elbit Systems\, NH Space Grant Consortium\, Belmont High School Astron
 omy Club\, Squam Lakes Science Center\, and GoSTEM&lt;/p&gt;\n&lt;p&gt;&amp;nbsp\;&lt;/p&gt;
END:VEVENT
END:VCALENDAR

