BEGIN:VCALENDAR
VERSION:2.0
PRODID:IEEE vTools.Events//EN
CALSCALE:GREGORIAN
BEGIN:VTIMEZONE
TZID:US/Eastern
BEGIN:DAYLIGHT
DTSTART:20210314T030000
TZOFFSETFROM:-0500
TZOFFSETTO:-0400
RRULE:FREQ=YEARLY;BYDAY=2SU;BYMONTH=3
TZNAME:EDT
END:DAYLIGHT
BEGIN:STANDARD
DTSTART:20211107T010000
TZOFFSETFROM:-0400
TZOFFSETTO:-0500
RRULE:FREQ=YEARLY;BYDAY=1SU;BYMONTH=11
TZNAME:EST
END:STANDARD
END:VTIMEZONE
BEGIN:VEVENT
DTSTAMP:20210923T191900Z
UID:B8DD734D-7E92-440D-B1AE-7E5512900767
DTSTART;TZID=US/Eastern:20210920T120000
DTEND;TZID=US/Eastern:20210920T130000
DESCRIPTION:You are invited to join us for lunch and learning at the IEEE I
 ndustry Applications Society - Atlanta Chapter meeting.\n\nIn-person Meeti
 ng Cost: Free (Limited to 15 people with valid IEEE membership)\n\nSpeaker
 (s): Jim Yoho\, \n\nAgenda: \nRegistration: 11:30 AM\n\nMeeting Starts: 12
 :00 Noon\n\nCritical Components\, Inc.\, 120 Interstate North Pkwy SE\, Su
 ite 305\, Atlanta\, Georgia\, United States\, 30339\, Virtual: https://eve
 nts.vtools.ieee.org/m/281004
LOCATION:Critical Components\, Inc.\, 120 Interstate North Pkwy SE\, Suite 
 305\, Atlanta\, Georgia\, United States\, 30339\, Virtual: https://events.
 vtools.ieee.org/m/281004
ORGANIZER:lucian.gavriliuc@fluenceenergy.com
SEQUENCE:26
SUMMARY:IEEE IAS Atlanta In-Person Meeting (Low and Medium Voltage Soft Sta
 rters)
URL;VALUE=URI:https://events.vtools.ieee.org/m/281004
X-ALT-DESC:Description: &lt;br /&gt;&lt;p&gt;&lt;span style=&quot;font-size: 14pt\;&quot;&gt;You are in
 vited to join us for lunch and learning at the IEEE Industry Applications 
 Society - Atlanta Chapter meeting.&lt;/span&gt;&lt;/p&gt;\n&lt;p&gt;&lt;span style=&quot;font-size: 
 14pt\;&quot;&gt;In-person Meeting Cost: Free (Limited to 15 people with valid IEEE
  membership)&lt;/span&gt;&lt;/p&gt;&lt;br /&gt;&lt;br /&gt;Agenda: &lt;br /&gt;&lt;p&gt;&lt;span style=&quot;font-size
 : 14pt\;&quot;&gt;Registration: 11:30 AM&lt;/span&gt;&lt;/p&gt;\n&lt;p&gt;&lt;span style=&quot;font-size: 14
 pt\;&quot;&gt;Meeting Starts: 12:00 Noon&lt;/span&gt;&lt;/p&gt;
END:VEVENT
END:VCALENDAR

