BEGIN:VCALENDAR
VERSION:2.0
PRODID:IEEE vTools.Events//EN
CALSCALE:GREGORIAN
BEGIN:VEVENT
DTSTAMP:20211017T132135Z
UID:E466A72A-FE67-431C-BC1D-DAB318614B14
DTSTART:20210907T130000Z
DTEND:20210907T140000Z
DESCRIPTION:WIE &amp; STEM Education Panel\, co-hosted by Hong Kong Section\, W
 IE Thailand Section\, and WIE Turkey Section AGs\n\nSpeakers:\n\nPaulina C
 han\, CEO &amp; Principal\, Global Mutual Innovation Technology Consortium\n\n
 Charlotte Blair\, Technical Support Manager\, Digital Learning-Electronics
  Products\, Ansys\n\nŞirin Tekinay\, Chair\, Global Engineering Deans Cou
 ncil (GEDC)\n\nCo-hosts\n\nDavid Chan\, IEEE Hong Kong Section WIE AG Chai
 r\n\nSupavadee Aramvith\, IEEE Thailand Section WIE AG Chair\n\nSimay Akar
 \, IEEE Turkey Section WIE AG Chair\n\nYou are invited to WIE &amp; STEM Educa
 tion Panel Zoom meeting.\n\nWhen: Sep 7\, 2021\, 01:00 PM Universal Time U
 TC\n\nVirtual: https://events.vtools.ieee.org/m/281162
LOCATION:Virtual: https://events.vtools.ieee.org/m/281162
ORGANIZER:simay@ieee.org
SEQUENCE:2
SUMMARY:WIE &amp; STEM Education Panel
URL;VALUE=URI:https://events.vtools.ieee.org/m/281162
X-ALT-DESC:Description: &lt;br /&gt;&lt;p&gt;WIE &amp;amp\; STEM Education Panel\, co-hoste
 d by Hong Kong Section\, WIE Thailand Section\, and WIE Turkey Section AGs
 &lt;/p&gt;\n&lt;p&gt;Speakers:&lt;/p&gt;\n&lt;p&gt;&lt;span class=&quot;JsGRdQ&quot;&gt;Paulina Chan\,&amp;nbsp\;&lt;/spa
 n&gt;&lt;span class=&quot;JsGRdQ&quot;&gt;CEO &amp;amp\; Principal\, &lt;/span&gt;&lt;span class=&quot;JsGRdQ&quot;&gt;
 Global Mutual Innovation Technology Consortium&lt;/span&gt;&lt;/p&gt;\n&lt;p&gt;&lt;span class=
 &quot;JsGRdQ&quot;&gt;Charlotte Blair\, &lt;/span&gt;&lt;span class=&quot;JsGRdQ&quot;&gt;Technical Support M
 anager\, Digital Learning-Electronics Products\, &lt;/span&gt;&lt;span class=&quot;JsGRd
 Q&quot;&gt;Ansys&lt;/span&gt;&lt;/p&gt;\n&lt;p&gt;&lt;span class=&quot;JsGRdQ&quot;&gt;Şirin Tekinay\,&amp;nbsp\;&lt;/span
 &gt;&lt;span class=&quot;JsGRdQ&quot;&gt;Chair\, &lt;/span&gt;&lt;span class=&quot;JsGRdQ&quot;&gt;Global Engineeri
 ng &lt;/span&gt;&lt;span class=&quot;JsGRdQ&quot;&gt;Deans Council (GEDC)&lt;/span&gt;&lt;/p&gt;\n&lt;p&gt;&lt;span c
 lass=&quot;JsGRdQ&quot;&gt;Co-hosts&lt;/span&gt;&lt;/p&gt;\n&lt;p&gt;&lt;span class=&quot;JsGRdQ&quot;&gt;David Chan\, IE
 EE Hong Kong Section WIE AG Chair&lt;/span&gt;&lt;/p&gt;\n&lt;p&gt;&lt;span class=&quot;JsGRdQ&quot;&gt;Supa
 vadee Aramvith\, IEEE Thailand Section WIE AG Chair&lt;/span&gt;&lt;/p&gt;\n&lt;p&gt;&lt;span c
 lass=&quot;JsGRdQ&quot;&gt;Simay Akar\,&amp;nbsp\;&lt;/span&gt;&lt;span class=&quot;JsGRdQ&quot;&gt;IEEE Turkey S
 ection &lt;/span&gt;&lt;span class=&quot;JsGRdQ&quot;&gt;WIE&lt;/span&gt; &lt;span class=&quot;JsGRdQ&quot;&gt;AG Chai
 r&lt;/span&gt;&lt;/p&gt;\n&lt;p&gt;You are invited to WIE &amp;amp\; STEM Education Panel Zoom m
 eeting.&lt;br /&gt;&lt;br /&gt;When: Sep 7\, 2021\, 01:00 PM Universal Time UTC&lt;/p&gt;\n&lt;
 p&gt;&amp;nbsp\;&lt;/p&gt;
END:VEVENT
END:VCALENDAR

