BEGIN:VCALENDAR
VERSION:2.0
PRODID:IEEE vTools.Events//EN
CALSCALE:GREGORIAN
BEGIN:VTIMEZONE
TZID:America/New_York
BEGIN:DAYLIGHT
DTSTART:20210314T030000
TZOFFSETFROM:-0500
TZOFFSETTO:-0400
RRULE:FREQ=YEARLY;BYDAY=2SU;BYMONTH=3
TZNAME:EDT
END:DAYLIGHT
BEGIN:STANDARD
DTSTART:20211107T010000
TZOFFSETFROM:-0400
TZOFFSETTO:-0500
RRULE:FREQ=YEARLY;BYDAY=1SU;BYMONTH=11
TZNAME:EST
END:STANDARD
END:VTIMEZONE
BEGIN:VEVENT
DTSTAMP:20211110T010208Z
UID:92D7AE1A-9C2E-402C-B5B2-F6D38A94DBCE
DTSTART;TZID=America/New_York:20211002T120000
DTEND;TZID=America/New_York:20211002T170000
DESCRIPTION:Volunteer and attend the first Makerspace CT Maker Battle: watc
 h remote-controlled robots clash in a thrilling single-elimination tournam
 ent! Only one bot will be crowned Maker Battle Champion! See the attached 
 flyer for more details.\n\nCome meet and greet fellow roboticists in the C
 T area and spectate robot battles (following SPARC regulations). Makerspac
 eCT members and volunteers can attend for free\, [$5.00 otherwise](https:/
 /www.eventbrite.com/e/maker-battle-2021-tickets-162084429893).\n\nWant to 
 compete yourself? The [registration](https://www.robotcombatevents.com/eve
 nts/608) fee is $40.00.\n\nSign up to [volunteer](https://forms.gle/e5eiJD
 3E94TaStQL6) and assist with breakdown and setup of arenas. To enhance the
  event and promote it moving forward\, you can also help by [donating](htt
 ps://app.makerspacect.com/makerbattlefund) towards arena equipment.\n\nWe 
 hope to help with the continuation of such events for roboticists in CT.\n
 \nAgenda: \nRobot Contest: 10/2 12.00-5.00 PM\n\nVolunteer: fill out [this
  form](https://forms.gle/e5eiJD3E94TaStQL6) to be assigned a role and time
 slot. Some tasks may be assigned for 10/1 and some after the event.\n\nMak
 erspaceCT\, 36 Talcott St\, Hartford\, Connecticut\, United States\, 06103
LOCATION:MakerspaceCT\, 36 Talcott St\, Hartford\, Connecticut\, United Sta
 tes\, 06103
ORGANIZER:kevin.huang@trincoll.edu
SEQUENCE:10
SUMMARY:IEEE-CT RAS Meeting - Makerspace CT Makerbattle 2021
URL;VALUE=URI:https://events.vtools.ieee.org/m/281385
X-ALT-DESC:Description: &lt;br /&gt;&lt;p&gt;Volunteer and attend the first Makerspace 
 CT Maker Battle: watch remote-controlled robots clash in a thrilling singl
 e-elimination tournament! Only one bot will be crowned Maker Battle Champi
 on! See the attached flyer for more details.&lt;/p&gt;\n&lt;p&gt;Come meet and greet f
 ellow roboticists in the CT area and spectate robot battles (following SPA
 RC regulations). MakerspaceCT members and volunteers can attend for free\,
  &lt;a href=&quot;https://www.eventbrite.com/e/maker-battle-2021-tickets-162084429
 893&quot;&gt;$5.00 otherwise&lt;/a&gt;.&lt;/p&gt;\n&lt;p&gt;Want to compete yourself? The &lt;a href=&quot;h
 ttps://www.robotcombatevents.com/events/608&quot;&gt;registration&lt;/a&gt; fee is $40.0
 0.&amp;nbsp\;&lt;/p&gt;\n&lt;p&gt;Sign up to &lt;a href=&quot;https://forms.gle/e5eiJD3E94TaStQL6&quot;
 &gt;volunteer&lt;/a&gt; and assist with breakdown and setup of arenas. To enhance t
 he event and promote it moving forward\, you can also help by &lt;a href=&quot;htt
 ps://app.makerspacect.com/makerbattlefund&quot;&gt;donating&lt;/a&gt; towards arena equi
 pment.&lt;/p&gt;\n&lt;p&gt;We hope to help with the continuation of such events for ro
 boticists in CT.&lt;/p&gt;&lt;br /&gt;&lt;br /&gt;Agenda: &lt;br /&gt;&lt;p&gt;Robot Contest: 10/2 12.00
 -5.00 PM&lt;/p&gt;\n&lt;p&gt;Volunteer: fill out &lt;a href=&quot;https://forms.gle/e5eiJD3E94
 TaStQL6&quot;&gt;this form&lt;/a&gt; to be assigned a role and timeslot. Some tasks may 
 be assigned for 10/1 and some after the event.&lt;/p&gt;
END:VEVENT
END:VCALENDAR

