BEGIN:VCALENDAR
VERSION:2.0
PRODID:IEEE vTools.Events//EN
CALSCALE:GREGORIAN
BEGIN:VEVENT
DTSTAMP:20210912T205225Z
UID:27D06894-E91B-4AEB-9AD6-24EB79A6D673
DTSTART:20210913T130000Z
DTEND:20210913T140000Z
DESCRIPTION:Diversity &amp; Inclusion in the Energy Transition Panel co-hosted 
 by IEEE Argentina\, Peru\, Morrocco\, and Turkey Section WIE AGs\n\nTime: 
 Sep 13\, 2021\, 06:00 PM Universal Time UTC\n\nPanel Speakers:\nGuadalupe 
 González\nShay Bahramirad\nNirupama Prakash Kumar\nUrenna ONYEWUCHI\nAsma
 e Khaldoun\nLisien León\nCo-hosts:\nPia Torres (IEEE Argentina Section WI
 E)\nHouda Chakiri (IEEE Morocco Section WIE)\nChris Flores Palermo (IEEE P
 eru Section WIE)\nSimay Akar (IEEE Turkey Section WIE)\n\nVirtual: https:/
 /events.vtools.ieee.org/m/281647
LOCATION:Virtual: https://events.vtools.ieee.org/m/281647
ORGANIZER:simay@ieee.org
SEQUENCE:1
SUMMARY:Diversity &amp; Inclusion in the Energy Transition Panel
URL;VALUE=URI:https://events.vtools.ieee.org/m/281647
X-ALT-DESC:Description: &lt;br /&gt;&lt;p&gt;Diversity &amp;amp\; Inclusion in the Energy T
 ransition Panel co-hosted by IEEE Argentina\, Peru\, Morrocco\, and Turkey
  Section WIE AGs&lt;br /&gt;&lt;br /&gt;Time: Sep 13\, 2021\, 06:00 PM Universal Time 
 UTC&lt;br /&gt;&lt;br /&gt;Panel Speakers:&lt;br /&gt;Guadalupe Gonz&amp;aacute\;lez&lt;br /&gt;Shay B
 ahramirad&lt;br /&gt;Nirupama Prakash Kumar&lt;br /&gt;Urenna ONYEWUCHI&lt;br /&gt;Asmae Kha
 ldoun&lt;br /&gt;Lisien Le&amp;oacute\;n&lt;br /&gt;Co-hosts:&lt;br /&gt;Pia Torres (IEEE Argent
 ina Section WIE)&lt;br /&gt;Houda Chakiri (IEEE Morocco Section WIE)&lt;br /&gt;Chris 
 Flores Palermo (IEEE Peru Section WIE)&lt;br /&gt;Simay Akar (IEEE Turkey Sectio
 n WIE)&lt;/p&gt;
END:VEVENT
END:VCALENDAR

