BEGIN:VCALENDAR
VERSION:2.0
PRODID:IEEE vTools.Events//EN
CALSCALE:GREGORIAN
BEGIN:VTIMEZONE
TZID:US/Central
BEGIN:DAYLIGHT
DTSTART:20210314T030000
TZOFFSETFROM:-0600
TZOFFSETTO:-0500
RRULE:FREQ=YEARLY;BYDAY=2SU;BYMONTH=3
TZNAME:CDT
END:DAYLIGHT
BEGIN:STANDARD
DTSTART:20211107T010000
TZOFFSETFROM:-0500
TZOFFSETTO:-0600
RRULE:FREQ=YEARLY;BYDAY=1SU;BYMONTH=11
TZNAME:CST
END:STANDARD
END:VTIMEZONE
BEGIN:VEVENT
DTSTAMP:20211110T054037Z
UID:55407074-63FE-4B8E-A247-29159C698D6F
DTSTART;TZID=US/Central:20211018T190000
DTEND;TZID=US/Central:20211018T210000
DESCRIPTION:Week 5 of License Preparation Course\n\nAll information on the 
 course and log-i requirements are found at:\n\n[A Ham Radio Technician Cla
 ss Exam Prep Course – K9ACM.net](https://k9acm.net/tech-course/)\n\nWhil
 e there are many resources available to help you with your studies\, we re
 commend the ARRL Ham Radio License Manual: Level 1\, Technician 4th Editio
 n. This is the de facto resource to prepare for the exam. The video series
  is organized around this book\, section-by-section\, and a common book wi
 ll make for a smoother class experience. You can get yours from the ARRL h
 ere: [ARRL Ham Radio License Manual 4th Edition](http://www.arrl.org/shop/
 Ham-Radio-License-Manual/).\n\nthe class website to learn about Jitsi the 
 platform the class will use.\n\n- Week 5: Safety and Review\n\nFirst read 
 Chapter 9. Then watch…\n\n- [Electrical Safety · 9.1 (9:07)](https://k9
 acm.net/tech-course/#arve-youtube-tkb6fnfldm461381f8e31dd5681917037)\n- [M
 anaging RF in Your Station · 9.2 (4:12)](https://k9acm.net/tech-course/#a
 rve-youtube-r75kqbcobqi61381f8e32b09138833104)\n- [RF Interference · 9.3 
 (6:11)](https://k9acm.net/tech-course/#arve-youtube-lqde0wu02ps61381f8e33d
 a1327208549)\n- [RF Exposure · 9.4 (19:06)](https://k9acm.net/tech-course
 /#arve-youtube-k7vpge6iieg61381f8e34c94311433046)\n- [Mechanical Outdoor S
 afety · 9.5 (9:11)](https://k9acm.net/tech-course/#arve-youtube-whsffr8rm
 lo61381f8e35a42491851102)\n- [Prepare to take the Exam (7:35)](https://k9a
 cm.net/tech-course/#arve-youtube-gcuegg2k0ic61381f8e36eca036021330)\n\nCo-
 sponsored by: Hamfesters Radio Club\n\nSpeaker(s): Brian Davis W9HLQ\, Mik
 e McGuire K9ACM\n\nAgenda: \nWeek 5: Safety and Review\n\nFirst read Chapt
 er 9. Then watch…\n\n- [Electrical Safety · 9.1 (9:07)](https://k9acm.n
 et/tech-course/#arve-youtube-tkb6fnfldm461381f8e31dd5681917037)\n- [Managi
 ng RF in Your Station · 9.2 (4:12)](https://k9acm.net/tech-course/#arve-y
 outube-r75kqbcobqi61381f8e32b09138833104)\n- [RF Interference · 9.3 (6:11
 )](https://k9acm.net/tech-course/#arve-youtube-lqde0wu02ps61381f8e33da1327
 208549)\n- [RF Exposure · 9.4 (19:06)](https://k9acm.net/tech-course/#arv
 e-youtube-k7vpge6iieg61381f8e34c94311433046)\n- [Mechanical Outdoor Safety
  · 9.5 (9:11)](https://k9acm.net/tech-course/#arve-youtube-whsffr8rmlo613
 81f8e35a42491851102)\n- [Prepare to take the Exam (7:35)](https://k9acm.ne
 t/tech-course/#arve-youtube-gcuegg2k0ic61381f8e36eca036021330)\n\nVirtual:
  https://events.vtools.ieee.org/m/281855
LOCATION:Virtual: https://events.vtools.ieee.org/m/281855
ORGANIZER:ckelly@core.com
SEQUENCE:2
SUMMARY:Amateur Radio Technician License Preparation Class - Week 5
URL;VALUE=URI:https://events.vtools.ieee.org/m/281855
X-ALT-DESC:Description: &lt;br /&gt;&lt;p&gt;Week 5 of License Preparation Course&lt;/p&gt;\n
 &lt;p&gt;&amp;nbsp\;&lt;/p&gt;\n&lt;p&gt;All information on the course and log-i requirements ar
 e found at:&lt;/p&gt;\n&lt;p&gt;&lt;a href=&quot;https://k9acm.net/tech-course/&quot;&gt;A Ham Radio T
 echnician Class Exam Prep Course &amp;ndash\; K9ACM.net&amp;nbsp\;&amp;nbsp\;&lt;/a&gt;&lt;/p&gt;\
 n&lt;p&gt;While there are many resources available to help you with your studies
 \, we recommend the&amp;nbsp\;&lt;em&gt;ARRL Ham Radio License Manual: Level 1\, Tec
 hnician 4th Edition&lt;/em&gt;. This is the de facto resource to prepare for the
  exam. The video series is organized around this book\, section-by-section
 \, and a common book will make for a smoother class experience. You can ge
 t yours from the ARRL here:&amp;nbsp\;&lt;a href=&quot;http://www.arrl.org/shop/Ham-Ra
 dio-License-Manual/&quot; target=&quot;_blank&quot; rel=&quot;noopener&quot;&gt;&lt;em&gt;ARRL Ham Radio Lic
 ense Manual 4th Edition&lt;/em&gt;&lt;/a&gt;.&lt;/p&gt;\n&lt;div id=&quot;target-id61381f8e15b13&quot; cl
 ass=&quot;collapseomatic_content &quot;&gt;\n&lt;p&gt;the class website to learn about Jitsi 
 the platform the class will use.&amp;nbsp\;&lt;/p&gt;\n&lt;div id=&quot;target-id61381f8e288
 c7&quot; class=&quot;collapseomatic_content &quot;&gt;\n&lt;ol&gt;\n&lt;li&gt;&lt;span id=&quot;id61381f8e3112a&quot;
  class=&quot;collapseomatic arrowright find-me colomat-close colomat-visited co
 lomat-hover&quot; tabindex=&quot;0&quot; title=&quot;Week 5&quot; data-findme=&quot;&quot;&gt;&lt;span class=&quot;h3-li
 nk&quot;&gt;Week 5: Safety and Review&lt;/span&gt;&lt;/span&gt;\n&lt;div id=&quot;target-id61381f8e311
 2a&quot; class=&quot;collapseomatic_content &quot;&gt;\n&lt;p&gt;First read&amp;nbsp\;&lt;mark&gt;Chapter 9&lt;
 /mark&gt;. Then watch&amp;hellip\;&lt;/p&gt;\n&lt;ol&gt;\n&lt;li&gt;&lt;a class=&quot;arve-lightbox-link et
 _smooth_scroll_disabled&quot; role=&quot;button&quot; href=&quot;https://k9acm.net/tech-course
 /#arve-youtube-tkb6fnfldm461381f8e31dd5681917037&quot; data-target=&quot;#arve-youtu
 be-tkb6fnfldm461381f8e31dd5681917037&quot;&gt;Electrical Safety&amp;nbsp\;&amp;middot\;&amp;nb
 sp\;9.1&amp;nbsp\;&amp;nbsp\;(9:07)&lt;/a&gt;&lt;/li&gt;\n&lt;li&gt;&lt;a class=&quot;arve-lightbox-link et_
 smooth_scroll_disabled&quot; role=&quot;button&quot; href=&quot;https://k9acm.net/tech-course/
 #arve-youtube-r75kqbcobqi61381f8e32b09138833104&quot; data-target=&quot;#arve-youtub
 e-r75kqbcobqi61381f8e32b09138833104&quot;&gt;Managing RF in Your Station&amp;nbsp\;&amp;mi
 ddot\;&amp;nbsp\;9.2&amp;nbsp\;&amp;nbsp\;(4:12)&lt;/a&gt;&lt;/li&gt;\n&lt;li&gt;&lt;a class=&quot;arve-lightbox
 -link et_smooth_scroll_disabled&quot; role=&quot;button&quot; href=&quot;https://k9acm.net/tec
 h-course/#arve-youtube-lqde0wu02ps61381f8e33da1327208549&quot; data-target=&quot;#ar
 ve-youtube-lqde0wu02ps61381f8e33da1327208549&quot;&gt;RF Interference&amp;nbsp\;&amp;middo
 t\;&amp;nbsp\;9.3&amp;nbsp\;&amp;nbsp\;(6:11)&lt;/a&gt;&lt;/li&gt;\n&lt;li&gt;&lt;a class=&quot;arve-lightbox-li
 nk et_smooth_scroll_disabled&quot; role=&quot;button&quot; href=&quot;https://k9acm.net/tech-c
 ourse/#arve-youtube-k7vpge6iieg61381f8e34c94311433046&quot; data-target=&quot;#arve-
 youtube-k7vpge6iieg61381f8e34c94311433046&quot;&gt;RF Exposure&amp;nbsp\;&amp;middot\;&amp;nbs
 p\;9.4&amp;nbsp\;&amp;nbsp\;(19:06)&lt;/a&gt;&lt;/li&gt;\n&lt;li&gt;&lt;a class=&quot;arve-lightbox-link et_
 smooth_scroll_disabled&quot; role=&quot;button&quot; href=&quot;https://k9acm.net/tech-course/
 #arve-youtube-whsffr8rmlo61381f8e35a42491851102&quot; data-target=&quot;#arve-youtub
 e-whsffr8rmlo61381f8e35a42491851102&quot;&gt;Mechanical Outdoor Safety&amp;nbsp\;&amp;midd
 ot\;&amp;nbsp\;9.5&amp;nbsp\;&amp;nbsp\;(9:11)&lt;/a&gt;&lt;/li&gt;\n&lt;li&gt;&lt;a class=&quot;arve-lightbox-l
 ink et_smooth_scroll_disabled&quot; role=&quot;button&quot; href=&quot;https://k9acm.net/tech-
 course/#arve-youtube-gcuegg2k0ic61381f8e36eca036021330&quot; data-target=&quot;#arve
 -youtube-gcuegg2k0ic61381f8e36eca036021330&quot;&gt;Prepare to take the Exam (7:35
 )&lt;/a&gt;&lt;/li&gt;\n&lt;/ol&gt;\n&lt;/div&gt;\n&lt;/li&gt;\n&lt;/ol&gt;\n&lt;/div&gt;\n&lt;/div&gt;&lt;br /&gt;&lt;br /&gt;Agenda:
  &lt;br /&gt;&lt;p&gt;&lt;span id=&quot;id61381f8e3112a&quot; class=&quot;collapseomatic arrowright find
 -me colomat-close colomat-visited colomat-hover&quot; tabindex=&quot;0&quot; title=&quot;Week 
 5&quot; data-findme=&quot;&quot;&gt;&lt;span class=&quot;h3-link&quot;&gt;Week 5: Safety and Review&lt;/span&gt;&lt;/
 span&gt;&lt;/p&gt;\n&lt;div id=&quot;target-id61381f8e3112a&quot; class=&quot;collapseomatic_content 
 &quot;&gt;\n&lt;p&gt;First read&amp;nbsp\;&lt;mark&gt;Chapter 9&lt;/mark&gt;. Then watch&amp;hellip\;&lt;/p&gt;\n&lt;
 ol&gt;\n&lt;li&gt;&lt;a class=&quot;arve-lightbox-link et_smooth_scroll_disabled&quot; role=&quot;but
 ton&quot; href=&quot;https://k9acm.net/tech-course/#arve-youtube-tkb6fnfldm461381f8e
 31dd5681917037&quot; data-target=&quot;#arve-youtube-tkb6fnfldm461381f8e31dd56819170
 37&quot;&gt;Electrical Safety&amp;nbsp\;&amp;middot\;&amp;nbsp\;9.1&amp;nbsp\;&amp;nbsp\;(9:07)&lt;/a&gt;&lt;/l
 i&gt;\n&lt;li&gt;&lt;a class=&quot;arve-lightbox-link et_smooth_scroll_disabled&quot; role=&quot;butt
 on&quot; href=&quot;https://k9acm.net/tech-course/#arve-youtube-r75kqbcobqi61381f8e3
 2b09138833104&quot; data-target=&quot;#arve-youtube-r75kqbcobqi61381f8e32b0913883310
 4&quot;&gt;Managing RF in Your Station&amp;nbsp\;&amp;middot\;&amp;nbsp\;9.2&amp;nbsp\;&amp;nbsp\;(4:1
 2)&lt;/a&gt;&lt;/li&gt;\n&lt;li&gt;&lt;a class=&quot;arve-lightbox-link et_smooth_scroll_disabled&quot; r
 ole=&quot;button&quot; href=&quot;https://k9acm.net/tech-course/#arve-youtube-lqde0wu02ps
 61381f8e33da1327208549&quot; data-target=&quot;#arve-youtube-lqde0wu02ps61381f8e33da
 1327208549&quot;&gt;RF Interference&amp;nbsp\;&amp;middot\;&amp;nbsp\;9.3&amp;nbsp\;&amp;nbsp\;(6:11)&lt;
 /a&gt;&lt;/li&gt;\n&lt;li&gt;&lt;a class=&quot;arve-lightbox-link et_smooth_scroll_disabled&quot; role
 =&quot;button&quot; href=&quot;https://k9acm.net/tech-course/#arve-youtube-k7vpge6iieg613
 81f8e34c94311433046&quot; data-target=&quot;#arve-youtube-k7vpge6iieg61381f8e34c9431
 1433046&quot;&gt;RF Exposure&amp;nbsp\;&amp;middot\;&amp;nbsp\;9.4&amp;nbsp\;&amp;nbsp\;(19:06)&lt;/a&gt;&lt;/l
 i&gt;\n&lt;li&gt;&lt;a class=&quot;arve-lightbox-link et_smooth_scroll_disabled&quot; role=&quot;butt
 on&quot; href=&quot;https://k9acm.net/tech-course/#arve-youtube-whsffr8rmlo61381f8e3
 5a42491851102&quot; data-target=&quot;#arve-youtube-whsffr8rmlo61381f8e35a4249185110
 2&quot;&gt;Mechanical Outdoor Safety&amp;nbsp\;&amp;middot\;&amp;nbsp\;9.5&amp;nbsp\;&amp;nbsp\;(9:11)
 &lt;/a&gt;&lt;/li&gt;\n&lt;li&gt;&lt;a class=&quot;arve-lightbox-link et_smooth_scroll_disabled&quot; rol
 e=&quot;button&quot; href=&quot;https://k9acm.net/tech-course/#arve-youtube-gcuegg2k0ic61
 381f8e36eca036021330&quot; data-target=&quot;#arve-youtube-gcuegg2k0ic61381f8e36eca0
 36021330&quot;&gt;Prepare to take the Exam (7:35)&lt;/a&gt;&lt;/li&gt;\n&lt;/ol&gt;\n&lt;/div&gt;
END:VEVENT
END:VCALENDAR

