BEGIN:VCALENDAR
VERSION:2.0
PRODID:IEEE vTools.Events//EN
CALSCALE:GREGORIAN
BEGIN:VTIMEZONE
TZID:US/Eastern
BEGIN:DAYLIGHT
DTSTART:20210314T030000
TZOFFSETFROM:-0500
TZOFFSETTO:-0400
RRULE:FREQ=YEARLY;BYDAY=2SU;BYMONTH=3
TZNAME:EDT
END:DAYLIGHT
BEGIN:STANDARD
DTSTART:20211107T010000
TZOFFSETFROM:-0400
TZOFFSETTO:-0500
RRULE:FREQ=YEARLY;BYDAY=1SU;BYMONTH=11
TZNAME:EST
END:STANDARD
END:VTIMEZONE
BEGIN:VEVENT
DTSTAMP:20211001T005748Z
UID:29C82C6F-6EA3-42D1-89EF-46F478DA11ED
DTSTART;TZID=US/Eastern:20210930T190000
DTEND;TZID=US/Eastern:20210930T203000
DESCRIPTION:Machine learning is the automation of discovery. With it\, comp
 uters can program themselves instead of having to be programmed by us. Lea
 rning systems are widely used in science\, business and government\, but a
 re still shrouded in mystery. This talk explains the five major paradigms 
 in machine learning – symbolic learning\, deep learning\, genetic algori
 thms\, Bayesian learning and reasoning by analogy – and samples some of 
 the major applications they enable\, from automated biology to personalize
 d recommendations. It concludes with a look at the future: what machine le
 arning will bring us\, and the roadblocks\, dangers\, and opportunities on
  that path.\n\nSpeaker(s): Prof. Pedro Domingos\, \n\nAgenda: \n7:00 pm - 
 Introductions\n\n7:10 pm - Professor Domingos presentation w/Q&amp;A\n\n8:10 p
 m - Open Discussion\n\n8:30 pm - Close\n\nVirtual: https://events.vtools.i
 eee.org/m/281946
LOCATION:Virtual: https://events.vtools.ieee.org/m/281946
ORGANIZER:joel.i.goodman@ieee.org
SEQUENCE:6
SUMMARY:The Ultimate Software: Machine Learning and Intelligence
URL;VALUE=URI:https://events.vtools.ieee.org/m/281946
X-ALT-DESC:Description: &lt;br /&gt;&lt;p&gt;&lt;span style=&quot;caret-color: #000000\; color:
  #000000\; font-family: Helvetica\; font-size: 14px\; font-style: normal\;
  font-variant-caps: normal\; font-weight: normal\; letter-spacing: normal\
 ; orphans: auto\; text-align: start\; text-indent: 0px\; text-transform: n
 one\; white-space: normal\; widows: auto\; word-spacing: 0px\; -webkit-tex
 t-size-adjust: auto\; -webkit-text-stroke-width: 0px\; text-decoration: no
 ne\; display: inline !important\; float: none\;&quot;&gt;Machine learning is the a
 utomation of discovery. With it\, computers can program themselves instead
  of having to be programmed by us. Learning systems are widely used in sci
 ence\, business and government\, but are still shrouded in mystery. This t
 alk explains the five major paradigms in machine learning &amp;ndash\; symboli
 c learning\, deep learning\, genetic algorithms\, Bayesian learning and re
 asoning by analogy &amp;ndash\; and samples some of the major applications the
 y enable\, from automated biology to personalized recommendations. It conc
 ludes with a look at the future: what machine learning will bring us\, and
  the roadblocks\, &lt;/span&gt;&lt;span style=&quot;caret-color: #000000\; color: #00000
 0\; font-family: Helvetica\; font-size: 14px\; font-style: normal\; font-v
 ariant-caps: normal\; font-weight: normal\; letter-spacing: normal\; orpha
 ns: auto\; text-align: start\; text-indent: 0px\; text-transform: none\; w
 hite-space: normal\; widows: auto\; word-spacing: 0px\; -webkit-text-size-
 adjust: auto\; -webkit-text-stroke-width: 0px\; text-decoration: none\; di
 splay: inline !important\; float: none\;&quot;&gt;dangers\, and opportunities on t
 hat path.&lt;/span&gt;&lt;/p&gt;&lt;br /&gt;&lt;br /&gt;Agenda: &lt;br /&gt;&lt;p&gt;7:00 pm - Introductions&lt;/
 p&gt;\n&lt;p&gt;7:10 pm - Professor Domingos presentation w/Q&amp;amp\;A&lt;/p&gt;\n&lt;p&gt;8:10 p
 m - Open Discussion&lt;/p&gt;\n&lt;p&gt;8:30 pm - Close&lt;/p&gt;
END:VEVENT
END:VCALENDAR

