BEGIN:VCALENDAR
VERSION:2.0
PRODID:IEEE vTools.Events//EN
CALSCALE:GREGORIAN
BEGIN:VTIMEZONE
TZID:Europe/Riga
BEGIN:DAYLIGHT
DTSTART:20210328T040000
TZOFFSETFROM:+0200
TZOFFSETTO:+0300
RRULE:FREQ=YEARLY;BYDAY=-1SU;BYMONTH=3
TZNAME:EEST
END:DAYLIGHT
BEGIN:STANDARD
DTSTART:20211031T030000
TZOFFSETFROM:+0300
TZOFFSETTO:+0200
RRULE:FREQ=YEARLY;BYDAY=-1SU;BYMONTH=10
TZNAME:EET
END:STANDARD
END:VTIMEZONE
BEGIN:VEVENT
DTSTAMP:20211119T190149Z
UID:4BFCC796-5526-4DF5-805F-FA7247FD3774
DTSTART;TZID=Europe/Riga:20211007T120000
DTEND;TZID=Europe/Riga:20211007T124500
DESCRIPTION:Annual IEEE Day Celebration. With a theme of “Leveraging Tech
 nology for a Better Tomorrow”\, IEEE Day celebrate the first time in his
 tory when engineers worldwide gathered in 1884 to share their technical id
 eas.\n\nWhile the world benefits from what’s new\, IEEE focuses on what
 ’s next. Activities worldwide demonstrate the multiple ways thousands of
  IEEE members in local communities in one hundred and sixty countries join
  together to collaborate on ideas that leverage technology into a better t
 omorrow.\n\nSpeaker(s): Marek Götten\, \n\nAgenda: \nIEEE Day 2021 Openin
 g\n\n09:00-10:00 ([Azenes 12\, online passcode: 403020](https://rtucloud1.
 zoom.us/j/97432037762?pwd=K1FzQkdoQ01zMmg4SWxvcjNldWt4dz09))\n\nSpeech fro
 m Riga Technical university\nVice-rector for Research\, Riga Technical Uni
 versity\, Dr. Sc. Ing.\, Professor Talis Juhna\n\nSpeech from IEEE Latvia 
 Section\nChair of IEEE Latvia Section\, Prof. Nadezhda Kunicina\n\nSpeech 
 from IEEE Latvia Section COM/MTT/AP Joint Societies Chapter\nChair of IEEE
  Latvia Section COM/MTT/AP Joint Societies Chapter\, Co-chair of MTTW&#39;21\,
  Dr. Arturs Aboltins\n\nSpeech from organizers of MTTW&#39;21\nCo-chair of MTT
 W&#39;21\, Dr. Anna Litvinenko\n\nKey note talk\n\n10:00-10:45 ([Azenes 12\, o
 nline passcode: 403020](https://rtucloud1.zoom.us/j/97432037762?pwd=K1FzQk
 doQ01zMmg4SWxvcjNldWt4dz09))\n\nGeodesic Lens Antennas for 5G/6G and Satel
 lite Communications\nFull professor\, School of Electrical Engineering and
  Computer Science\, KTH\, Prof. Oscar Quevedo-Teruel\n\nCoffee break\n\n10
 :45-11:15 (Azenes 12 hall)\n\nKey note talk\n\n11:15-12:00 ([Azenes 12\, o
 nline passcode: 403020](https://rtucloud1.zoom.us/j/97432037762?pwd=K1FzQk
 doQ01zMmg4SWxvcjNldWt4dz09))\nComplex Waves and Resonances. A Review on Re
 cent Advances\nProfessor at University of Gävle\, Prof. Yury Shestopalov\
 n\nInvited Young Researcher\n\n12:00-12:45 ([Azenes 12\, online passcode: 
 403020](https://rtucloud1.zoom.us/j/97432037762?pwd=K1FzQkdoQ01zMmg4SWxvcj
 NldWt4dz09))\n\nFiber optical sensor networks\nPhD Researcher at Technical
  Universtiy of Madrid and at the University of Applied Sciences Wismar\, M
 r. Marek Götten\n\nVirtual: https://events.vtools.ieee.org/m/282083
LOCATION:Virtual: https://events.vtools.ieee.org/m/282083
ORGANIZER:anna.litvinenko@rtu.lv
SEQUENCE:3
SUMMARY:MTTW&#39;21 Fiber optical sensor networks
URL;VALUE=URI:https://events.vtools.ieee.org/m/282083
X-ALT-DESC:Description: &lt;br /&gt;&lt;p&gt;Annual IEEE Day Celebration. With a theme 
 of &amp;ldquo\;Leveraging Technology for a Better Tomorrow&amp;rdquo\;\, IEEE Day 
 celebrate the first time in history when engineers worldwide gathered in 1
 884 to share their technical ideas.&lt;/p&gt;\n&lt;p&gt;While the world benefits from 
 what&amp;rsquo\;s new\, IEEE focuses on what&amp;rsquo\;s next. Activities worldwi
 de demonstrate the multiple ways thousands of IEEE members in local commun
 ities in one hundred and sixty countries join together to collaborate on i
 deas that leverage technology into a better tomorrow.&lt;/p&gt;&lt;br /&gt;&lt;br /&gt;Agend
 a: &lt;br /&gt;&lt;p&gt;&lt;strong&gt;IEEE Day 2021 Opening&lt;/strong&gt;&lt;/p&gt;\n&lt;p&gt;09:00-10:00 (&lt;a
  href=&quot;https://rtucloud1.zoom.us/j/97432037762?pwd=K1FzQkdoQ01zMmg4SWxvcjN
 ldWt4dz09&quot;&gt;Azenes 12\, online passcode: 403020&lt;/a&gt;)&lt;/p&gt;\n&lt;p&gt;Speech from Ri
 ga Technical university&lt;br /&gt;Vice-rector for Research\, Riga Technical Uni
 versity\, Dr. Sc. Ing.\, Professor Talis Juhna&lt;br /&gt;&amp;nbsp\;&lt;br /&gt;Speech fr
 om IEEE Latvia Section&lt;br /&gt;Chair of IEEE Latvia Section\, Prof. Nadezhda 
 Kunicina&lt;br /&gt;&amp;nbsp\;&lt;br /&gt;Speech from IEEE Latvia Section COM/MTT/AP Join
 t Societies Chapter&lt;br /&gt;Chair of IEEE Latvia Section COM/MTT/AP Joint Soc
 ieties Chapter\, Co-chair of MTTW&#39;21\, Dr. Arturs Aboltins&lt;br /&gt;&amp;nbsp\;&lt;br
  /&gt;Speech from organizers of MTTW&#39;21&lt;br /&gt;Co-chair of MTTW&#39;21\, Dr. Anna L
 itvinenko&lt;/p&gt;\n&lt;p&gt;&amp;nbsp\;&lt;/p&gt;\n&lt;p&gt;&lt;strong&gt;Key note talk &lt;/strong&gt;&lt;/p&gt;\n&lt;p&gt;
 10:00-10:45 (&lt;a href=&quot;https://rtucloud1.zoom.us/j/97432037762?pwd=K1FzQkdo
 Q01zMmg4SWxvcjNldWt4dz09&quot;&gt;Azenes 12\, online passcode: 403020&lt;/a&gt;)&lt;/p&gt;\n&lt;p
 &gt;Geodesic Lens Antennas for 5G/6G and Satellite Communications&lt;br /&gt;Full p
 rofessor\, School of Electrical Engineering and Computer Science\, KTH\, P
 rof. Oscar Quevedo-Teruel&lt;/p&gt;\n&lt;p&gt;&amp;nbsp\;&lt;/p&gt;\n&lt;p&gt;&lt;strong&gt;Coffee break&lt;/st
 rong&gt;&lt;/p&gt;\n&lt;p&gt;10:45-11:15 (Azenes 12 hall)&lt;/p&gt;\n&lt;p&gt;&amp;nbsp\;&lt;/p&gt;\n&lt;p&gt;&lt;strong
 &gt;Key note talk&lt;/strong&gt;&lt;/p&gt;\n&lt;p&gt;11:15-12:00 (&lt;a href=&quot;https://rtucloud1.zo
 om.us/j/97432037762?pwd=K1FzQkdoQ01zMmg4SWxvcjNldWt4dz09&quot;&gt;Azenes 12\, onli
 ne passcode: 403020&lt;/a&gt;)&lt;/p&gt;\n&lt;div class=&quot;paper-title&quot;&gt;Complex Waves and R
 esonances. A Review on Recent Advances&lt;/div&gt;\n&lt;div class=&quot;paper-presenter&quot;
 &gt;Professor at University of G&amp;auml\;vle\, Prof. &lt;span style=&quot;text-decorati
 on: underline\;&quot;&gt;Yury Shestopalov&lt;/span&gt;&lt;/div&gt;\n&lt;div class=&quot;paper-presente
 r&quot;&gt;&amp;nbsp\;&lt;/div&gt;\n&lt;p&gt;&lt;strong&gt;Invited Young Researcher&lt;/strong&gt;&lt;/p&gt;\n&lt;p&gt;12:
 00-12:45 (&lt;a href=&quot;https://rtucloud1.zoom.us/j/97432037762?pwd=K1FzQkdoQ01
 zMmg4SWxvcjNldWt4dz09&quot;&gt;Azenes 12\, online passcode: 403020&lt;/a&gt;)&lt;/p&gt;\n&lt;p&gt;Fi
 ber optical sensor networks&lt;br /&gt;PhD Researcher at Technical Universtiy of
  Madrid and at the University of Applied Sciences Wismar\, Mr. Marek G&amp;oum
 l\;tten&lt;/p&gt;
END:VEVENT
END:VCALENDAR

