BEGIN:VCALENDAR
VERSION:2.0
PRODID:IEEE vTools.Events//EN
CALSCALE:GREGORIAN
BEGIN:VTIMEZONE
TZID:Europe/Riga
BEGIN:DAYLIGHT
DTSTART:20210328T040000
TZOFFSETFROM:+0200
TZOFFSETTO:+0300
RRULE:FREQ=YEARLY;BYDAY=-1SU;BYMONTH=3
TZNAME:EEST
END:DAYLIGHT
BEGIN:STANDARD
DTSTART:20211031T030000
TZOFFSETFROM:+0300
TZOFFSETTO:+0200
RRULE:FREQ=YEARLY;BYDAY=-1SU;BYMONTH=10
TZNAME:EET
END:STANDARD
END:VTIMEZONE
BEGIN:VEVENT
DTSTAMP:20211119T190540Z
UID:3364239E-E1AF-413D-AED5-4A75874CF345
DTSTART;TZID=Europe/Riga:20211008T111500
DTEND;TZID=Europe/Riga:20211008T120000
DESCRIPTION:Annual IEEE Day Celebration. With a theme of “Leveraging Tech
 nology for a Better Tomorrow”\, IEEE Day celebrate the first time in his
 tory when engineers worldwide gathered in 1884 to share their technical id
 eas.\n\nWhile the world benefits from what’s new\, IEEE focuses on what
 ’s next. Activities worldwide demonstrate the multiple ways thousands of
  IEEE members in local communities in one hundred and sixty countries join
  together to collaborate on ideas that leverage technology into a better t
 omorrow.\n\nSpeaker(s): Andzej Borel\, \n\nAgenda: \nIEEE Day 2021 2nd day
  Opening (online)\n\n09:00-09:15 ([online passcode: 936569](https://rtuclo
 ud1.zoom.us/j/91010572394?pwd=aUEzTjVLN0RNVDhpZzFTRExIdXcwUT09))\nOpening 
 speech of on-line MTTW&#39;21\nCo-chair of MTTW&#39;21\, Dr. Arturs Aboltins\n\nKe
 y note talks (online)\n\n09:15-10:00 ([Azenes 12 - 405\, online passcode: 
 936569](https://rtucloud1.zoom.us/j/91010572394?pwd=aUEzTjVLN0RNVDhpZzFTRE
 xIdXcwUT09))\nHyper-Performing Cities with Human Artificial Intelligence\n
 Academic Program Director on Artificial Intelligence and Professor of Tran
 sformation at EM Normandie Business School\, Prof. Agnis Stibe\n\n10:15-11
 :00 ([online passcode: 936569](https://rtucloud1.zoom.us/j/91010572394?pwd
 =aUEzTjVLN0RNVDhpZzFTRExIdXcwUT09))\nSorting algorithms for large data set
 s\nAssociate professor at Faculty of Electrical Engineering\, Shahid Rajae
 e Teacher Training Univesity\, Digital Communications Signal Processing La
 b.\, Dr. Shahriar Shirvani Moghaddam\n\nInvited Young Researcher (online)\
 n\n11:15-12:00 ([online passcode: 936569](https://rtucloud1.zoom.us/j/9101
 0572394?pwd=aUEzTjVLN0RNVDhpZzFTRExIdXcwUT09))\n\nPower Amplifier Lineariz
 ation Methods for upcoming 5G networks\nPhD researcher at Vilnius Gedimina
 s Technical University\, Mr. Andzej Borel\n\nLunch break\n12:15-13:00 (pla
 ce of your choice)\n\nA1: Beyond 5G technologies\n\n13:00-15:00 ([online p
 asscode: 936569](https://rtucloud1.zoom.us/j/91010572394?pwd=aUEzTjVLN0RNV
 DhpZzFTRExIdXcwUT09))\n\nB1: Microwave electronics\n\n13:00-15:00 ([online
  passcode: 511272](https://rtucloud1.zoom.us/j/97748060875?pwd=azMzZm5qRjB
 SV1JucjNiSDdaZ09UQT09))\n\nC1: Optical communication and Photonics\n\n13:0
 0-15:00 ([online passcode: 138041](https://rtucloud1.zoom.us/j/98117166309
 ?pwd=MlRURHV6NkNacGcxamhGbTJnajBpQT09))\n\nCoffee break\n15:00-15:30\n\nA2
 : IoT\, Sensor and other Networks\n\n15:30-17:30 ([online passcode: 936569
 ](https://rtucloud1.zoom.us/j/91010572394?pwd=aUEzTjVLN0RNVDhpZzFTRExIdXcw
 UT09))\n\nB2: Antennas\n\n15:30-17:30 ([online passcode: 511272](https://r
 tucloud1.zoom.us/j/97748060875?pwd=azMzZm5qRjBSV1JucjNiSDdaZ09UQT09))\n\nC
 2: Signal processing for communications\n\n15:30-17:30 ([online passcode: 
 138041](https://rtucloud1.zoom.us/j/98117166309?pwd=MlRURHV6NkNacGcxamhGbT
 JnajBpQT09))\n\nVirtual: https://events.vtools.ieee.org/m/282096
LOCATION:Virtual: https://events.vtools.ieee.org/m/282096
ORGANIZER:anna.litvinenko@rtu.lv
SEQUENCE:2
SUMMARY:MTTW&#39;21 Power Amplifier Linearization Methods for upcoming 5G netwo
 rks
URL;VALUE=URI:https://events.vtools.ieee.org/m/282096
X-ALT-DESC:Description: &lt;br /&gt;&lt;p&gt;Annual IEEE Day Celebration. With a theme 
 of &amp;ldquo\;Leveraging Technology for a Better Tomorrow&amp;rdquo\;\, IEEE Day 
 celebrate the first time in history when engineers worldwide gathered in 1
 884 to share their technical ideas.&lt;/p&gt;\n&lt;p&gt;While the world benefits from 
 what&amp;rsquo\;s new\, IEEE focuses on what&amp;rsquo\;s next. Activities worldwi
 de demonstrate the multiple ways thousands of IEEE members in local commun
 ities in one hundred and sixty countries join together to collaborate on i
 deas that leverage technology into a better tomorrow.&lt;/p&gt;&lt;br /&gt;&lt;br /&gt;Agend
 a: &lt;br /&gt;&lt;p&gt;&lt;strong&gt;IEEE Day 2021 2nd day Opening (online)&lt;br /&gt;&lt;/strong&gt;&lt;
 /p&gt;\n&lt;p&gt;09:00-09:15 (&lt;a href=&quot;https://rtucloud1.zoom.us/j/91010572394?pwd=
 aUEzTjVLN0RNVDhpZzFTRExIdXcwUT09&quot;&gt;online passcode: 936569&lt;/a&gt;)&lt;/p&gt;\n&lt;div c
 lass=&quot;paper-title&quot;&gt;Opening speech of on-line MTTW&#39;21&lt;/div&gt;\n&lt;div class=&quot;pa
 per-presenter&quot;&gt;Co-chair of MTTW&#39;21\, Dr. &lt;span style=&quot;text-decoration: und
 erline\;&quot;&gt;Arturs Aboltins&lt;/span&gt;&lt;/div&gt;\n&lt;div class=&quot;paper-presenter&quot;&gt;&amp;nbsp
 \;&lt;/div&gt;\n&lt;p&gt;&lt;strong&gt;Key note talks (online)&lt;/strong&gt;&lt;/p&gt;\n&lt;p&gt;09:15-10:00 
 (&lt;a href=&quot;https://rtucloud1.zoom.us/j/91010572394?pwd=aUEzTjVLN0RNVDhpZzFT
 RExIdXcwUT09&quot;&gt;Azenes 12 - 405\, online passcode: 936569&lt;/a&gt;)&lt;/p&gt;\n&lt;div cla
 ss=&quot;paper-title&quot;&gt;Hyper-Performing Cities with Human Artificial Intelligenc
 e&lt;/div&gt;\n&lt;div class=&quot;paper-presenter&quot;&gt;Academic Program Director on Artific
 ial Intelligence and Professor of Transformation at EM Normandie Business 
 School\, Prof. &lt;span style=&quot;text-decoration: underline\;&quot;&gt;Agnis Stibe&lt;/spa
 n&gt;&lt;/div&gt;\n&lt;p&gt;10:15-11:00 (&lt;a href=&quot;https://rtucloud1.zoom.us/j/91010572394
 ?pwd=aUEzTjVLN0RNVDhpZzFTRExIdXcwUT09&quot;&gt;online passcode: 936569&lt;/a&gt;)&lt;/p&gt;\n&lt;
 div class=&quot;paper-title&quot;&gt;Sorting algorithms for large data sets&lt;/div&gt;\n&lt;div
  class=&quot;paper-presenter&quot;&gt;Associate professor at Faculty of Electrical Engi
 neering\, Shahid Rajaee Teacher Training Univesity\, Digital Communication
 s Signal Processing Lab.\, Dr. &lt;span style=&quot;text-decoration: underline\;&quot;&gt;
 Shahriar Shirvani Moghaddam&lt;/span&gt;&lt;/div&gt;\n&lt;div class=&quot;paper-presenter&quot;&gt;&amp;nb
 sp\;&lt;/div&gt;\n&lt;div class=&quot;paper-presenter&quot;&gt;&lt;strong&gt;Invited Young Researcher 
 (online)&lt;/strong&gt;&lt;/div&gt;\n&lt;div class=&quot;paper-presenter&quot;&gt;&amp;nbsp\;&lt;/div&gt;\n&lt;div 
 class=&quot;paper-presenter&quot;&gt;11:15-12:00 (&lt;a href=&quot;https://rtucloud1.zoom.us/j/
 91010572394?pwd=aUEzTjVLN0RNVDhpZzFTRExIdXcwUT09&quot;&gt;online passcode: 936569&lt;
 /a&gt;)&lt;/div&gt;\n&lt;div class=&quot;paper-presenter&quot;&gt;&amp;nbsp\;&lt;/div&gt;\n&lt;div class=&quot;paper-
 presenter&quot;&gt;\n&lt;div class=&quot;paper-title&quot;&gt;Power Amplifier Linearization Method
 s for upcoming 5G networks&lt;/div&gt;\n&lt;div class=&quot;paper-presenter&quot;&gt;PhD researc
 her at Vilnius Gediminas Technical University\, Mr. &lt;span style=&quot;text-deco
 ration: underline\;&quot;&gt;Andzej Borel&lt;/span&gt;&lt;/div&gt;\n&lt;div class=&quot;paper-presente
 r&quot;&gt;&amp;nbsp\;&lt;/div&gt;\n&lt;div class=&quot;paper-presenter&quot;&gt;&lt;strong&gt;&lt;strong&gt;Lunch break
 &amp;nbsp\;&lt;/strong&gt;&lt;/strong&gt;&lt;/div&gt;\n&lt;div class=&quot;paper-presenter&quot;&gt;12:15-13:00 
 (place of your choice)&lt;/div&gt;\n&lt;div class=&quot;paper-presenter&quot;&gt;\n&lt;p&gt;&amp;nbsp\;&lt;/p
 &gt;\n&lt;p&gt;&lt;strong&gt;A1: Beyond 5G technologies&lt;/strong&gt;&lt;/p&gt;\n&lt;p&gt;13:00-15:00 (&lt;a 
 href=&quot;https://rtucloud1.zoom.us/j/91010572394?pwd=aUEzTjVLN0RNVDhpZzFTRExI
 dXcwUT09&quot;&gt;online passcode: 936569&lt;/a&gt;)&lt;/p&gt;\n&lt;p&gt;&lt;strong&gt;&amp;nbsp\;B1: Microwav
 e electronics&lt;/strong&gt;&lt;/p&gt;\n&lt;p&gt;13:00-15:00 (&lt;a href=&quot;https://rtucloud1.zoo
 m.us/j/97748060875?pwd=azMzZm5qRjBSV1JucjNiSDdaZ09UQT09&quot;&gt;online passcode: 
 511272&lt;/a&gt;)&lt;/p&gt;\n&lt;p&gt;&lt;strong&gt;C1: Optical communication and Photonics&lt;/stron
 g&gt;&lt;/p&gt;\n&lt;p&gt;13:00-15:00 (&lt;a href=&quot;https://rtucloud1.zoom.us/j/98117166309?p
 wd=MlRURHV6NkNacGcxamhGbTJnajBpQT09&quot;&gt;online passcode: 138041&lt;/a&gt;)&lt;/p&gt;\n&lt;di
 v class=&quot;paper-title&quot;&gt;&amp;nbsp\;&lt;/div&gt;\n&lt;div class=&quot;paper-title&quot;&gt;&lt;strong&gt;Coff
 ee break&lt;/strong&gt;&lt;/div&gt;\n&lt;div class=&quot;paper-title&quot;&gt;15:00-15:30&lt;/div&gt;\n&lt;/div
 &gt;\n&lt;/div&gt;\n&lt;div class=&quot;paper-presenter&quot;&gt;&amp;nbsp\;&lt;/div&gt;\n&lt;div class=&quot;paper-p
 resenter&quot;&gt;\n&lt;p&gt;&lt;strong&gt;A2: IoT\, Sensor and other &amp;nbsp\;Networks&lt;br /&gt;&lt;/s
 trong&gt;&lt;/p&gt;\n&lt;p&gt;15:30-17:30 (&lt;a href=&quot;https://rtucloud1.zoom.us/j/910105723
 94?pwd=aUEzTjVLN0RNVDhpZzFTRExIdXcwUT09&quot;&gt;online passcode: 936569&lt;/a&gt;)&lt;/p&gt;\
 n&lt;p&gt;&lt;strong&gt;&amp;nbsp\;B2: Antennas&lt;br /&gt;&lt;/strong&gt;&lt;/p&gt;\n&lt;p&gt;15:30-17:30 (&lt;a hre
 f=&quot;https://rtucloud1.zoom.us/j/97748060875?pwd=azMzZm5qRjBSV1JucjNiSDdaZ09
 UQT09&quot;&gt;online passcode: 511272&lt;/a&gt;)&lt;/p&gt;\n&lt;p&gt;&lt;strong&gt;C2: Signal processing 
 &amp;nbsp\;for communications&lt;br /&gt;&lt;/strong&gt;&lt;/p&gt;\n&lt;p&gt;15:30-17:30 (&lt;a href=&quot;htt
 ps://rtucloud1.zoom.us/j/98117166309?pwd=MlRURHV6NkNacGcxamhGbTJnajBpQT09&quot;
 &gt;online passcode: 138041&lt;/a&gt;)&lt;/p&gt;\n&lt;/div&gt;
END:VEVENT
END:VCALENDAR

