BEGIN:VCALENDAR
VERSION:2.0
PRODID:IEEE vTools.Events//EN
CALSCALE:GREGORIAN
BEGIN:VTIMEZONE
TZID:Canada/Eastern
BEGIN:DAYLIGHT
DTSTART:20210314T030000
TZOFFSETFROM:-0500
TZOFFSETTO:-0400
RRULE:FREQ=YEARLY;BYDAY=2SU;BYMONTH=3
TZNAME:EDT
END:DAYLIGHT
BEGIN:STANDARD
DTSTART:20211107T010000
TZOFFSETFROM:-0400
TZOFFSETTO:-0500
RRULE:FREQ=YEARLY;BYDAY=1SU;BYMONTH=11
TZNAME:EST
END:STANDARD
END:VTIMEZONE
BEGIN:VEVENT
DTSTAMP:20220316T122003Z
UID:D75B8933-E9AE-4887-81DC-BBC2CF46E6BC
DTSTART;TZID=Canada/Eastern:20210922T110000
DTEND;TZID=Canada/Eastern:20210922T120000
DESCRIPTION:A tutorial on how to improve your academic writing and publish 
 your research results in an effective way without using excessive words or
  complicating your ideas. Join us to learn how to convey your ideas withou
 t any complications!\n\nSpeaker(s): \, Leslie A. Rusch\n\nBldg: Centre d&#39;o
 ptique\, photonique et laser (COPL)\, 2375 De la Terrasse Street\, Quebec 
 city\, Quebec\, Canada\, G1K 7P4\, Virtual: https://events.vtools.ieee.org
 /m/282440
LOCATION:Bldg: Centre d&#39;optique\, photonique et laser (COPL)\, 2375 De la T
 errasse Street\, Quebec city\, Quebec\, Canada\, G1K 7P4\, Virtual: https:
 //events.vtools.ieee.org/m/282440
ORGANIZER:rizan.homayoun-nejad.1@ulaval.ca
SEQUENCE:1
SUMMARY:How to efficiently demystify a scientific paper
URL;VALUE=URI:https://events.vtools.ieee.org/m/282440
X-ALT-DESC:Description: &lt;br /&gt;&lt;p&gt;&amp;nbsp\;A tutorial on how to improve your a
 cademic writing and publish your research results in an effective way with
 out using excessive words or complicating your ideas. Join us to learn how
  to convey your ideas without any complications!&lt;/p&gt;
END:VEVENT
END:VCALENDAR

