BEGIN:VCALENDAR
VERSION:2.0
PRODID:IEEE vTools.Events//EN
CALSCALE:GREGORIAN
BEGIN:VTIMEZONE
TZID:America/Guayaquil
BEGIN:DAYLIGHT
DTSTART:20380118T221407
TZOFFSETFROM:-0500
TZOFFSETTO:-0500
RRULE:FREQ=YEARLY;BYDAY=3MO;BYMONTH=1
TZNAME:-05
END:DAYLIGHT
BEGIN:STANDARD
DTSTART:19930204T230000
TZOFFSETFROM:-0400
TZOFFSETTO:-0500
RRULE:FREQ=YEARLY;BYDAY=1TH;BYMONTH=2
TZNAME:-05
END:STANDARD
END:VTIMEZONE
BEGIN:VEVENT
DTSTAMP:20211019T172605Z
UID:B5656D1A-AFAA-409B-BF4C-71C086DBBDED
DTSTART;TZID=America/Guayaquil:20211013T100000
DTEND;TZID=America/Guayaquil:20211013T130000
DESCRIPTION:As hordes of data-hungry devices challenge its current capabili
 ties\, Wi-Fi strikes again with 802.11be\, alias Wi-Fi 7. This brand-new a
 mendment promises a (r)evolution of unlicensed wireless connectivity as we
  know it\, unlocking access to gigabit\, reliable and low-latency communic
 ations\, and reinventing manufacturing and social interaction through digi
 tal augmentation. More than that\, time-sensitive networking protocols are
  being put forth with the overarching goal of making wireless the new wire
 d. With its standardization process being consolidated\, we provide an upd
 ated digest of 802.11be essential features\, place the spotlight on some o
 f the must-haves for critical and delay-sensitive applications\, and illus
 trate their benefits through standard-compliant simulations.\n\nCo-sponsor
 ed by: IEEE Ecuador Section\n\nSpeaker(s): Giovanni Geraci PhD.\, \n\nQuit
 o\, Pichincha\, Ecuador\, Virtual: https://events.vtools.ieee.org/m/282525
LOCATION:Quito\, Pichincha\, Ecuador\, Virtual: https://events.vtools.ieee.
 org/m/282525
ORGANIZER:ralara@ieee.org
SEQUENCE:6
SUMMARY:A Primer on Wi-Fi 7: Objectives\, Standardization\, and Research
URL;VALUE=URI:https://events.vtools.ieee.org/m/282525
X-ALT-DESC:Description: &lt;br /&gt;&lt;p&gt;As hordes of data-hungry devices challenge
  its current capabilities\, Wi-Fi strikes again with 802.11be\, alias Wi-F
 i 7. This brand-new amendment promises a (r)evolution of unlicensed wirele
 ss connectivity as we know it\, unlocking access to gigabit\, reliable and
  low-latency communications\, and reinventing manufacturing and social int
 eraction through digital augmentation. More than that\, time-sensitive net
 working protocols are being put forth with the overarching goal of making 
 wireless the new wired. With its standardization process being consolidate
 d\, we provide an updated digest of 802.11be essential features\, place th
 e spotlight on some of the must-haves for critical and delay-sensitive app
 lications\, and illustrate their benefits through standard-compliant simul
 ations.&lt;/p&gt;
END:VEVENT
END:VCALENDAR

