BEGIN:VCALENDAR
VERSION:2.0
PRODID:IEEE vTools.Events//EN
CALSCALE:GREGORIAN
BEGIN:VTIMEZONE
TZID:America/Los_Angeles
BEGIN:DAYLIGHT
DTSTART:20210314T030000
TZOFFSETFROM:-0800
TZOFFSETTO:-0700
RRULE:FREQ=YEARLY;BYDAY=2SU;BYMONTH=3
TZNAME:PDT
END:DAYLIGHT
BEGIN:STANDARD
DTSTART:20211107T010000
TZOFFSETFROM:-0700
TZOFFSETTO:-0800
RRULE:FREQ=YEARLY;BYDAY=1SU;BYMONTH=11
TZNAME:PST
END:STANDARD
END:VTIMEZONE
BEGIN:VEVENT
DTSTAMP:20220809T203437Z
UID:748BF0FB-5F6B-4A76-B437-446EFE209D27
DTSTART;TZID=America/Los_Angeles:20211102T175500
DTEND;TZID=America/Los_Angeles:20211102T190000
DESCRIPTION:This talk is an IEEE Distinguished Microwave Lecture (DML)\n\nV
 irtual: https://events.vtools.ieee.org/m/282791
LOCATION:Virtual: https://events.vtools.ieee.org/m/282791
ORGANIZER:dheo@wsu.edu
SEQUENCE:4
SUMMARY:IEEE Distinguished Microwave Lecture (DML) by Dr. Ruonan Han &quot;CHIP-
 SCALE WAVE-MATTER INTERACTIONS AT RF-TO-LIGHT FREQUENCIES: CIRCUITS\, SYST
 EMS AND APPLICATIONS&quot;
URL;VALUE=URI:https://events.vtools.ieee.org/m/282791
X-ALT-DESC:Description: &lt;br /&gt;&lt;p&gt;This talk is an IEEE Distinguished Microwa
 ve Lecture (DML)&amp;nbsp\;&lt;/p&gt;
END:VEVENT
END:VCALENDAR

