BEGIN:VCALENDAR
VERSION:2.0
PRODID:IEEE vTools.Events//EN
CALSCALE:GREGORIAN
BEGIN:VTIMEZONE
TZID:America/New_York
BEGIN:DAYLIGHT
DTSTART:20210314T030000
TZOFFSETFROM:-0500
TZOFFSETTO:-0400
RRULE:FREQ=YEARLY;BYDAY=2SU;BYMONTH=3
TZNAME:EDT
END:DAYLIGHT
BEGIN:STANDARD
DTSTART:20211107T010000
TZOFFSETFROM:-0400
TZOFFSETTO:-0500
RRULE:FREQ=YEARLY;BYDAY=1SU;BYMONTH=11
TZNAME:EST
END:STANDARD
END:VTIMEZONE
BEGIN:VEVENT
DTSTAMP:20211025T141024Z
UID:1A1C1D68-1DAF-4429-86CF-4C3B3E4C9ED3
DTSTART;TZID=America/New_York:20211022T190000
DTEND;TZID=America/New_York:20211022T210000
DESCRIPTION:OPEN MEETING -- All who are interested\, licensed or not\, plea
 se join us in our regular monthly meeting of the IEEE MOVE Radio Club (IMR
 C). We meet by WebEx\, on the 4th Friday of each month\, 7-9 pm Eastern ti
 me zone. The meeting is open to all. There is no admission fee and the rew
 ards are manyfold. For more about the IEEE MOVE Radio Club\, please visit 
 our [website](https://radioclub.moveteams.org).\n\nCo-sponsored by: IEEE M
 OVE Humanitarian Initiative\n\nSpeaker(s): Butch Shadwell\, \n\nAgenda: \n
 7:00 pm Welcome and opening remarks\n\n-- Introductions\n\n-- Program for 
 the evening\n\n-- Q&amp;A\n\n-- Announcements\n\n-- How to [join and participa
 te](https://radioclub.moveteams.org/join/)\n\n8:00 pm Adjourn\n\n-- Open d
 iscussion\n\nVirtual: https://events.vtools.ieee.org/m/282864
LOCATION:Virtual: https://events.vtools.ieee.org/m/282864
ORGANIZER:skemp@ieee.org
SEQUENCE:2
SUMMARY:IEEE MOVE Radio Club (IMRC) - Monthly All-Hands Meeting
URL;VALUE=URI:https://events.vtools.ieee.org/m/282864
X-ALT-DESC:Description: &lt;br /&gt;&lt;p style=&quot;margin: 0in 0in 7.5pt 0in\;&quot;&gt;&lt;span 
 style=&quot;font-size: 10.5pt\; font-family: &#39;Open Sans&#39;\,sans-serif\; color: #
 616161\;&quot;&gt;OPEN MEETING -- All who are interested\, licensed or not\, pleas
 e join us in our regular monthly meeting of the IEEE MOVE Radio Club (IMRC
 ).&amp;nbsp\; We meet by WebEx\, on the 4th Friday of each month\, 7-9 pm East
 ern time zone.&amp;nbsp\; The meeting is open to all.&amp;nbsp\; There is no admis
 sion fee and the rewards are manyfold.&amp;nbsp\; For more about the IEEE MOVE
  Radio Club\, please visit our &lt;a href=&quot;https://radioclub.moveteams.org&quot;&gt;w
 ebsite&lt;/a&gt;.&lt;/span&gt;&lt;/p&gt;&lt;br /&gt;&lt;br /&gt;Agenda: &lt;br /&gt;&lt;p&gt;7:00 pm Welcome and ope
 ning remarks&lt;/p&gt;\n&lt;p&gt;-- Introductions&lt;/p&gt;\n&lt;p&gt;-- Program for the evening&lt;/
 p&gt;\n&lt;p&gt;-- Q&amp;amp\;A&lt;/p&gt;\n&lt;p&gt;-- Announcements&lt;/p&gt;\n&lt;p&gt;-- How to &lt;a href=&quot;htt
 ps://radioclub.moveteams.org/join/&quot;&gt;join and participate&lt;/a&gt;&lt;/p&gt;\n&lt;p&gt;8:00 
 pm Adjourn&lt;/p&gt;\n&lt;p&gt;-- Open discussion&lt;/p&gt;
END:VEVENT
END:VCALENDAR

