BEGIN:VCALENDAR
VERSION:2.0
PRODID:IEEE vTools.Events//EN
CALSCALE:GREGORIAN
BEGIN:VTIMEZONE
TZID:Europe/Zurich
BEGIN:DAYLIGHT
DTSTART:20210328T030000
TZOFFSETFROM:+0100
TZOFFSETTO:+0200
RRULE:FREQ=YEARLY;BYDAY=-1SU;BYMONTH=3
TZNAME:CEST
END:DAYLIGHT
BEGIN:STANDARD
DTSTART:20201025T020000
TZOFFSETFROM:+0200
TZOFFSETTO:+0100
RRULE:FREQ=YEARLY;BYDAY=-1SU;BYMONTH=10
TZNAME:CET
END:STANDARD
END:VTIMEZONE
BEGIN:VEVENT
DTSTAMP:20210927T124641Z
UID:50C5A092-04A1-4CEB-87D5-2FBA5BCF44FD
DTSTART;TZID=Europe/Zurich:20201107T210000
DTEND;TZID=Europe/Zurich:20201109T170000
DESCRIPTION:PolyHACK is a multidisciplinary hackathon hosted at ETH Zürich
  with the purpose of connecting students to companies by solving a real pr
 oblem. During PolyHACK\, teams of ETH students get 24 hours to work on a P
 oC (Proof-of-Concept) solution to one of the challenges designed by our in
 dustry professionals.\n\nCo-sponsored by: Telejob\n\nVirtual: https://even
 ts.vtools.ieee.org/m/283498
LOCATION:Virtual: https://events.vtools.ieee.org/m/283498
ORGANIZER:hsuch@student.ethz.ch
SEQUENCE:1
SUMMARY:Polyhack
URL;VALUE=URI:https://events.vtools.ieee.org/m/283498
X-ALT-DESC:Description: &lt;br /&gt;&lt;p&gt;PolyHACK is a multidisciplinary hackathon 
 hosted at ETH Z&amp;uuml\;rich with the purpose of connecting students to comp
 anies by solving a real problem. During PolyHACK\, teams of ETH students g
 et 24 hours to work on a PoC (Proof-of-Concept) solution to one of the cha
 llenges designed by our industry professionals.&lt;/p&gt;
END:VEVENT
END:VCALENDAR

