BEGIN:VCALENDAR
VERSION:2.0
PRODID:IEEE vTools.Events//EN
CALSCALE:GREGORIAN
BEGIN:VTIMEZONE
TZID:Chile/Continental
BEGIN:DAYLIGHT
DTSTART:20210905T010000
TZOFFSETFROM:-0400
TZOFFSETTO:-0300
RRULE:FREQ=YEARLY;BYDAY=1SU;BYMONTH=9
TZNAME:-03
END:DAYLIGHT
BEGIN:STANDARD
DTSTART:20220402T230000
TZOFFSETFROM:-0300
TZOFFSETTO:-0400
RRULE:FREQ=YEARLY;BYDAY=1SA;BYMONTH=4
TZNAME:-04
END:STANDARD
END:VTIMEZONE
BEGIN:VEVENT
DTSTAMP:20211202T125836Z
UID:86E7B434-4D2D-42E3-9775-827BCF09312A
DTSTART;TZID=Chile/Continental:20211115T090000
DTEND;TZID=Chile/Continental:20211119T170000
DESCRIPTION:Las Jornadas Chilenas de Computación es el evento científico 
 más importante que se organiza y realiza en Chile\, en el ámbito de la C
 iencia de la Computación y de la Informática\, siendo reconocido por las
  dos más importantes sociedades científicas mundiales en su ámbito\, co
 mo son ACM e IEEE. Este evento se ha desarrollado desde el año 1993 en fo
 rma ininterrumpida\, siendo organizada y realizada en forma conjunta entre
  la Sociedad Chilena de Ciencia de la Computación y alguna de las Univers
 idades Chilenas\, como por ejemplo: Universidad de Chile\, Pontificia Univ
 ersidad Católica\, Universidad de Santiago\, Universidad Austral de Chile
 \, Universidad de Concepción\, Universidad de Talca\, Universidad Técnic
 a Federico Sta. María\, Universidad Católica del Norte\, Universidad Art
 uro Prat\, Universidad de Tarapacá y Universidad de La Serena.\n\nCo-spon
 sored by: Sociedad Chilena de Ciencia de la Computación\n\nLa Serena\, Co
 quimbo\, Chile\, Virtual: https://events.vtools.ieee.org/m/283655
LOCATION:La Serena\, Coquimbo\, Chile\, Virtual: https://events.vtools.ieee
 .org/m/283655
ORGANIZER:karol.suchan@ieee.org
SEQUENCE:4
SUMMARY:Jornadas Chilenas de Computación 2021
URL;VALUE=URI:https://events.vtools.ieee.org/m/283655
X-ALT-DESC:Description: &lt;br /&gt;&lt;p&gt;Las Jornadas Chilenas de Computaci&amp;oacute\
 ;n es el evento cient&amp;iacute\;fico m&amp;aacute\;s importante que se organiza 
 y realiza en Chile\, en el &amp;aacute\;mbito de la Ciencia de la Computaci&amp;oa
 cute\;n y de la Inform&amp;aacute\;tica\, siendo reconocido por las dos m&amp;aacu
 te\;s importantes sociedades cient&amp;iacute\;ficas mundiales en su &amp;aacute\;
 mbito\, como son ACM e IEEE. Este evento se ha desarrollado desde el a&amp;nti
 lde\;o 1993 en forma ininterrumpida\, siendo organizada y realizada en for
 ma conjunta entre la Sociedad Chilena de Ciencia de la Computaci&amp;oacute\;n
  y alguna de las Universidades Chilenas\, como por ejemplo: Universidad de
  Chile\, Pontificia Universidad Cat&amp;oacute\;lica\, Universidad de Santiago
 \, Universidad Austral de Chile\, Universidad de Concepci&amp;oacute\;n\, Univ
 ersidad de Talca\, Universidad T&amp;eacute\;cnica Federico Sta. Mar&amp;iacute\;a
 \, Universidad Cat&amp;oacute\;lica del Norte\, Universidad Arturo Prat\, Univ
 ersidad de Tarapac&amp;aacute\; y Universidad de La Serena.&lt;/p&gt;
END:VEVENT
END:VCALENDAR

