BEGIN:VCALENDAR
VERSION:2.0
PRODID:IEEE vTools.Events//EN
CALSCALE:GREGORIAN
BEGIN:VTIMEZONE
TZID:Europe/Copenhagen
BEGIN:DAYLIGHT
DTSTART:20210328T030000
TZOFFSETFROM:+0100
TZOFFSETTO:+0200
RRULE:FREQ=YEARLY;BYDAY=-1SU;BYMONTH=3
TZNAME:CEST
END:DAYLIGHT
BEGIN:STANDARD
DTSTART:20211031T020000
TZOFFSETFROM:+0200
TZOFFSETTO:+0100
RRULE:FREQ=YEARLY;BYDAY=-1SU;BYMONTH=10
TZNAME:CET
END:STANDARD
END:VTIMEZONE
BEGIN:VEVENT
DTSTAMP:20211101T192107Z
UID:50D8ECE0-8BDF-4624-8635-AC987840CAF1
DTSTART;TZID=Europe/Copenhagen:20211014T150000
DTEND;TZID=Europe/Copenhagen:20211014T160000
DESCRIPTION:Designing EMC filters for onboard chargers is a challenging tas
 k due to the multiple restrictions to be considered. The presentation intr
 oduces tricky border conditions like limited residual currents and demonst
 rates the designing process using circuit simulators and selecting especia
 lly the inductors.\n\n14 October 2021\, 15:00-16:00 (CEST)\nZoom: https://
 aaudk.zoom.us/j/66028109311\nMeeting ID: 660 2810 9311 Passcode: EMCDenmar
 k\n\nCo-sponsored by: CH08402 - Spain Section Chapter\,EMC27    CH08176 - 
 Germany Section Chapter\, EMC27\n\nSpeaker(s): Eckart Hoene\, \n\nVirtual:
  https://events.vtools.ieee.org/m/283979
LOCATION:Virtual: https://events.vtools.ieee.org/m/283979
ORGANIZER:pda@energy.aau.dk
SEQUENCE:1
SUMMARY:EMC Professional Talk
URL;VALUE=URI:https://events.vtools.ieee.org/m/283979
X-ALT-DESC:Description: &lt;br /&gt;&lt;p&gt;Designing EMC filters for onboard chargers
  is a challenging task due to the multiple restrictions to be considered. 
 The presentation introduces tricky border conditions like limited residual
  currents and demonstrates the designing process using circuit simulators 
 and selecting especially the inductors.&lt;/p&gt;\n&lt;p&gt;&lt;strong&gt;14 October 2021\, 
 15:00-16:00 (CEST)&lt;/strong&gt;&lt;br /&gt;&lt;strong&gt;Zoom: &lt;a href=&quot;https://aaudk.zoom
 .us/j/66028109311&quot;&gt;https://aaudk.zoom.us/j/66028109311&lt;/a&gt;&lt;/strong&gt;&lt;br /&gt;&lt;
 strong&gt;Meeting ID: 660 2810 9311 Passcode: EMCDenmark&lt;/strong&gt;&lt;/p&gt;
END:VEVENT
END:VCALENDAR

