BEGIN:VCALENDAR
VERSION:2.0
PRODID:IEEE vTools.Events//EN
CALSCALE:GREGORIAN
BEGIN:VTIMEZONE
TZID:Asia/Colombo
BEGIN:DAYLIGHT
DTSTART:20380119T084407
TZOFFSETFROM:+0530
TZOFFSETTO:+0530
RRULE:FREQ=YEARLY;BYDAY=3TU;BYMONTH=1
TZNAME:+0530
END:DAYLIGHT
BEGIN:STANDARD
DTSTART:20060415T000000
TZOFFSETFROM:+0600
TZOFFSETTO:+0530
RRULE:FREQ=YEARLY;BYDAY=3SA;BYMONTH=4
TZNAME:+0530
END:STANDARD
END:VTIMEZONE
BEGIN:VEVENT
DTSTAMP:20211004T200657Z
UID:1D18F128-7400-4944-831C-FB8082605514
DTSTART;TZID=Asia/Colombo:20210825T180000
DTEND;TZID=Asia/Colombo:20210825T200000
DESCRIPTION:This is the second consecutive session of the codeSolveur-2021\
 , a webinar series on Introduction to Competitive Programming. This was or
 ganized by the IEEE Student Branch of General Sir John Kotelawala Defece U
 niversity in collaboration with the IEEEXtreme Sri Lanka Section to enhanc
 e the knowledge of KDU undergraduates on competitive programming. During t
 his session mainly the techniques of competitive programming such as divid
 e and conquer\, dynamic programmig and greedy approach were discussed.\n\n
 Speaker(s): CodeBreakers\, \n\nVirtual: https://events.vtools.ieee.org/m/2
 84283
LOCATION:Virtual: https://events.vtools.ieee.org/m/284283
ORGANIZER:ieeesbkdu@kdu.ac.lk
SEQUENCE:0
SUMMARY:codeSolveur-2021: Session Two
URL;VALUE=URI:https://events.vtools.ieee.org/m/284283
X-ALT-DESC:Description: &lt;br /&gt;&lt;p&gt;This is the second consecutive session of 
 the codeSolveur-2021\, a webinar series on Introduction to Competitive Pro
 gramming. This was organized by the IEEE Student Branch of General Sir Joh
 n Kotelawala Defece University in collaboration with the IEEEXtreme Sri La
 nka Section to enhance the knowledge of KDU undergraduates on competitive 
 programming. During this session mainly the techniques of competitive prog
 ramming such as divide and conquer\, dynamic programmig and greedy approac
 h were discussed.&lt;/p&gt;
END:VEVENT
END:VCALENDAR

