BEGIN:VCALENDAR
VERSION:2.0
PRODID:IEEE vTools.Events//EN
CALSCALE:GREGORIAN
BEGIN:VTIMEZONE
TZID:Asia/Kolkata
BEGIN:STANDARD
DTSTART:19451014T230000
TZOFFSETFROM:+0630
TZOFFSETTO:+0530
TZNAME:IST
END:STANDARD
END:VTIMEZONE
BEGIN:VEVENT
DTSTAMP:20211009T090033Z
UID:AADF648C-8100-4C5F-8E3C-A9DB950D5B40
DTSTART;TZID=Asia/Kolkata:20211007T100000
DTEND;TZID=Asia/Kolkata:20211007T130000
DESCRIPTION:Silver Oak University IEEE Student Branch brings to you an Offl
 ine Debate competition\, Wrath of Words 2.0\, on the occasion of IEEE Day 
 celebration.\nDebate is a valuable activity for students of all skill leve
 ls. You get to meet like-minded peers and build a healthy bond of competit
 ion.\n\nEvent Guidelines:\n- A team registration of minimum 3 and maximum 
 5 members are required.\n- Only the team leader has to fill the form menti
 oned below.\n- Don’t use abusive or foul language\n- The concept should 
 be Good and Genuine\n- Don’t repeat same argument\n- Speech should be fl
 uent and logical\n- Don’t use any identical argument which includes or p
 oints to the specific person\n- Don’t be aggressive with other team memb
 ers\n\nThe event is open for all the students of Silver Oak University.\n\
 nEvent Details:\nDate: 7th October\, 2021\nTime: 10:00 AM IST onwards\n\nS
 ilver Oak University\, Ahmedabad\, Gujarat\, India
LOCATION:Silver Oak University\, Ahmedabad\, Gujarat\, India
ORGANIZER:ieee.fbc@socet.edu.in
SEQUENCE:1
SUMMARY:Wrath of Words 2.0
URL;VALUE=URI:https://events.vtools.ieee.org/m/284395
X-ALT-DESC:Description: &lt;br /&gt;&lt;p&gt;&lt;strong&gt;Silver Oak University IEEE&lt;/strong
 &gt; Student &lt;strong&gt;Branch&lt;/strong&gt;&amp;nbsp\;brings to you an Offline Debate co
 mpetition\, &lt;strong&gt;Wrath of Words 2.0&lt;/strong&gt;\, on the occasion of &lt;em&gt;I
 EEE Day&lt;/em&gt; celebration.&lt;br /&gt;Debate is a valuable activity for students 
 of all skill levels. You get to meet like-minded peers and build a healthy
  bond of competition.&lt;/p&gt;\n&lt;p&gt;&lt;em&gt;&lt;strong&gt;Event Guidelines:&lt;/strong&gt;&lt;/em&gt;&lt;
 br /&gt;- A team registration of minimum 3 and maximum 5 members are required
 .&lt;br /&gt;- Only the team leader has to fill the form mentioned below.&lt;br /&gt;-
  Don&amp;rsquo\;t use abusive or foul language&lt;br /&gt;- The concept should be Go
 od and Genuine&lt;br /&gt;- Don&amp;rsquo\;t repeat same argument&lt;br /&gt;- Speech shou
 ld be fluent and logical&lt;br /&gt;- Don&amp;rsquo\;t use any identical argument wh
 ich includes or points to the specific person&lt;br /&gt;- Don&amp;rsquo\;t be aggre
 ssive with other team members&lt;/p&gt;\n&lt;p&gt;The event is open for all the studen
 ts of Silver Oak University.&amp;nbsp\;&lt;/p&gt;\n&lt;p&gt;&lt;strong&gt;Event Details:&lt;/strong
 &gt;&lt;br /&gt;&lt;em&gt;Date:&lt;/em&gt; 7th October\, 2021&lt;br /&gt;&lt;em&gt;Time:&lt;/em&gt; 10:00 AM IST 
 onwards&lt;/p&gt;
END:VEVENT
END:VCALENDAR

