BEGIN:VCALENDAR
VERSION:2.0
PRODID:IEEE vTools.Events//EN
CALSCALE:GREGORIAN
BEGIN:VTIMEZONE
TZID:Canada/Central
BEGIN:DAYLIGHT
DTSTART:20220313T030000
TZOFFSETFROM:-0600
TZOFFSETTO:-0500
RRULE:FREQ=YEARLY;BYDAY=2SU;BYMONTH=3
TZNAME:CDT
END:DAYLIGHT
BEGIN:STANDARD
DTSTART:20211107T010000
TZOFFSETFROM:-0500
TZOFFSETTO:-0600
RRULE:FREQ=YEARLY;BYDAY=1SU;BYMONTH=11
TZNAME:CST
END:STANDARD
END:VTIMEZONE
BEGIN:VEVENT
DTSTAMP:20211126T220239Z
UID:D31F693F-CA38-4BA3-AAF6-8FE13333AC83
DTSTART;TZID=Canada/Central:20211125T180000
DTEND;TZID=Canada/Central:20211125T200000
DESCRIPTION:Ever wanted to learn how to use Matlab? Look no further! UMIEE 
 and WIE Winnipeg are hosting a virtual Matlab Crash Course for beginners\,
  showing everything you need to know to get started. Our two experienced i
 nstructors will cover topics including:\n\n- an overview of Matlab&#39;s graph
 ical user interface\n\n- assigning variables\, creating arrays\, using bas
 ic math and vector operations\n\n- solving equations\n\n- creating nice-lo
 oking plots\n\n- using functions\, loops\, and conditionals\n\n- and more!
 \n\nEveryone is welcome.\n\nLimited number of spots available\, please reg
 ister in advance to ensure you receive the workshop materials.\n\nVirtual:
  https://events.vtools.ieee.org/m/284547
LOCATION:Virtual: https://events.vtools.ieee.org/m/284547
ORGANIZER:ieee@umes.mb.ca
SEQUENCE:11
SUMMARY:A MATLAB Crash Course (For Beginners!)
URL;VALUE=URI:https://events.vtools.ieee.org/m/284547
X-ALT-DESC:Description: &lt;br /&gt;&lt;p&gt;Ever wanted to learn how to use Matlab? Lo
 ok no further! UMIEE and WIE Winnipeg are hosting a virtual Matlab Crash C
 ourse for beginners\, showing everything you need to know to get started. 
 Our two experienced instructors will cover topics including:&lt;/p&gt;\n&lt;p&gt;- an 
 overview of Matlab&#39;s graphical user interface&lt;/p&gt;\n&lt;p&gt;- assigning variable
 s\, creating arrays\, using basic math and vector operations&lt;/p&gt;\n&lt;p&gt;- sol
 ving equations&lt;/p&gt;\n&lt;p&gt;- creating nice-looking plots&lt;/p&gt;\n&lt;p&gt;- using funct
 ions\, loops\, and conditionals&lt;/p&gt;\n&lt;p&gt;- and more!&lt;/p&gt;\n&lt;p&gt;Everyone is we
 lcome.&lt;/p&gt;\n&lt;p&gt;Limited number of spots available\, please register in adva
 nce to ensure you receive the workshop materials.&lt;/p&gt;
END:VEVENT
END:VCALENDAR

