BEGIN:VCALENDAR
VERSION:2.0
PRODID:IEEE vTools.Events//EN
CALSCALE:GREGORIAN
BEGIN:VTIMEZONE
TZID:US/Central
BEGIN:DAYLIGHT
DTSTART:20210314T030000
TZOFFSETFROM:-0600
TZOFFSETTO:-0500
RRULE:FREQ=YEARLY;BYDAY=2SU;BYMONTH=3
TZNAME:CDT
END:DAYLIGHT
BEGIN:STANDARD
DTSTART:20211107T010000
TZOFFSETFROM:-0500
TZOFFSETTO:-0600
RRULE:FREQ=YEARLY;BYDAY=1SU;BYMONTH=11
TZNAME:CST
END:STANDARD
END:VTIMEZONE
BEGIN:VEVENT
DTSTAMP:20221020T162016Z
UID:0C37A9A4-5922-4D8F-AE73-1300849F5F19
DTSTART;TZID=US/Central:20211021T120000
DTEND;TZID=US/Central:20211021T130000
DESCRIPTION:Founder of Studio Wyld\, brand producer Alex Ames works with in
 dividuals and companies to increase brand equity through proven marketing 
 and communication principles.\n\nAlex has built his branding agency on the
  philosophy that customers and employees are seeking out brands to associa
 te themselves with as they form their own identities. If you can communica
 te with and to your audience in a way that speaks to their brand\, the res
 ult is loyalty to your brand. Alex will be discussing the relationship bet
 ween the brand and ethics.\n\nVirtual: https://events.vtools.ieee.org/m/28
 5027
LOCATION:Virtual: https://events.vtools.ieee.org/m/285027
ORGANIZER:greg.elliott@gmail.com
SEQUENCE:2
SUMMARY:[IEEE-KC PES/IAS] Joint MPSE Brand Equity &amp; Ethics
URL;VALUE=URI:https://events.vtools.ieee.org/m/285027
X-ALT-DESC:Description: &lt;br /&gt;&lt;p style=&quot;margin: 0in 0in 10.5pt 0in\;&quot;&gt;&lt;span
  style=&quot;font-size: 12.0pt\; font-family: &#39;Arial&#39;\,sans-serif\; color: blac
 k\;&quot;&gt;Founder of Studio Wyld\, brand producer Alex Ames works with individu
 als and companies to increase brand equity through proven marketing and co
 mmunication principles.&lt;/span&gt;&lt;/p&gt;\n&lt;p style=&quot;-webkit-text-size-adjust: 10
 0%\; -ms-text-size-adjust: 100%\; margin: 0in 0in 10.5pt 0in\;&quot;&gt;&lt;span styl
 e=&quot;font-size: 12.0pt\; font-family: &#39;Arial&#39;\,sans-serif\; color: black\;&quot;&gt;
 Alex has built his branding agency on the philosophy that customers and em
 ployees are seeking out brands to associate themselves with as they form t
 heir own identities. If you can communicate with and to your audience in a
  way that speaks to their brand\, the result is loyalty to your brand. Ale
 x will be discussing the relationship between the brand and ethics.&lt;/span&gt;
 &lt;/p&gt;
END:VEVENT
END:VCALENDAR

