BEGIN:VCALENDAR
VERSION:2.0
PRODID:IEEE vTools.Events//EN
CALSCALE:GREGORIAN
BEGIN:VTIMEZONE
TZID:US/Eastern
BEGIN:DAYLIGHT
DTSTART:20210314T030000
TZOFFSETFROM:-0500
TZOFFSETTO:-0400
RRULE:FREQ=YEARLY;BYDAY=2SU;BYMONTH=3
TZNAME:EDT
END:DAYLIGHT
BEGIN:STANDARD
DTSTART:20211107T010000
TZOFFSETFROM:-0400
TZOFFSETTO:-0500
RRULE:FREQ=YEARLY;BYDAY=1SU;BYMONTH=11
TZNAME:EST
END:STANDARD
END:VTIMEZONE
BEGIN:VEVENT
DTSTAMP:20211208T115153Z
UID:108AA658-AE2E-4531-8FC2-146C5CA396A8
DTSTART;TZID=US/Eastern:20211014T183000
DTEND;TZID=US/Eastern:20211014T203000
DESCRIPTION:Hello\,\n\nPlease join us for the IEEE Buffalo Section Board Me
 eting on Thursday\, October 14th at 6:30 PM via Webex only. There will be 
 no in person meeting. Please refer to the enotice or contact me for the We
 bEx information. All IEEE members are welcome! Agenda for the May meeting 
 are attached. Draft of May minutes will be available at the meeting for re
 view and published on the website after the meeting.\n\nThank you\,\n\nPad
 ma Kasthurirangan\n\nIEEE Buffalo Section Chair\n\nBuffalo\, New York\, Un
 ited States\, Virtual: https://events.vtools.ieee.org/m/285181
LOCATION:Buffalo\, New York\, United States\, Virtual: https://events.vtool
 s.ieee.org/m/285181
ORGANIZER:pkrangan@ieee.org
SEQUENCE:2
SUMMARY:Buffalo Section ExCom Meeting
URL;VALUE=URI:https://events.vtools.ieee.org/m/285181
X-ALT-DESC:Description: &lt;br /&gt;&lt;p&gt;Hello\,&lt;/p&gt;\n&lt;p&gt;Please join us for the IEE
 E Buffalo Section Board Meeting on Thursday\, October 14th at 6:30 PM via 
 Webex only. There will be no in person meeting. Please refer to the enotic
 e or contact me for the WebEx information. All IEEE members are welcome! A
 genda for the May meeting are attached. Draft of May minutes will be avail
 able at the meeting for review and published on the website after the meet
 ing.&amp;nbsp\;&lt;/p&gt;\n&lt;p&gt;Thank you\,&lt;/p&gt;\n&lt;p&gt;Padma Kasthurirangan&lt;/p&gt;\n&lt;p&gt;IEEE 
 Buffalo Section Chair&lt;/p&gt;\n&lt;p&gt;&amp;nbsp\;&lt;/p&gt;
END:VEVENT
END:VCALENDAR

