BEGIN:VCALENDAR
VERSION:2.0
PRODID:IEEE vTools.Events//EN
CALSCALE:GREGORIAN
BEGIN:VTIMEZONE
TZID:US/Eastern
BEGIN:DAYLIGHT
DTSTART:20220313T030000
TZOFFSETFROM:-0500
TZOFFSETTO:-0400
RRULE:FREQ=YEARLY;BYDAY=2SU;BYMONTH=3
TZNAME:EDT
END:DAYLIGHT
BEGIN:STANDARD
DTSTART:20211107T010000
TZOFFSETFROM:-0400
TZOFFSETTO:-0500
RRULE:FREQ=YEARLY;BYDAY=1SU;BYMONTH=11
TZNAME:EST
END:STANDARD
END:VTIMEZONE
BEGIN:VEVENT
DTSTAMP:20211110T192641Z
UID:D0982A56-E632-421D-A209-305986706248
DTSTART;TZID=US/Eastern:20211110T130000
DTEND;TZID=US/Eastern:20211110T140000
DESCRIPTION:FREE Webinar\n\nNortheast Chapter of the ESD Association joint 
 meeting with IEEE Boston Reliability Chapter\, and IEEE Boston Young Profe
 ssionals Affinity Group\n\nANSI/ESD S20.20 industry standard for static co
 ntrol programs undergoes revisions every 7 years. The current version was 
 released in 2014 and the 2021 changes are expected to be released later th
 is year or early next year. The 2021 revisions include both editorial and 
 technical changes. During this tutorial you will learn what is new and wha
 t is missing. The changes expand the use of some test methods\, require ne
 w tests and possibly new test equipment. Anyone involved with a static con
 trol program that is either compliant or certified to S20.20 will find imp
 ortant information in this webinar.\n\nA free download of the 2014 version
  is available at www.esda.org.\n\nCo-sponsored by: NE - ESDA\n\nSpeaker(s)
 : Ted Dangelmayer\, \n\nAgenda: \n1:00 PM Technical Presentation\n\n1:45 P
 M Questions and Answers\n\n2:00 PM Adjournment\n\nVirtual: https://events.
 vtools.ieee.org/m/285392
LOCATION:Virtual: https://events.vtools.ieee.org/m/285392
ORGANIZER:michael.bannan@ieee.org
SEQUENCE:6
SUMMARY:Webinar - 2021 CHANGES TO S20.20 - WHAT’S NEW AND WHAT’S MISSIN
 G 
URL;VALUE=URI:https://events.vtools.ieee.org/m/285392
X-ALT-DESC:Description: &lt;br /&gt;&lt;p&gt;&lt;strong&gt;&lt;em&gt;FREE Webinar&lt;/em&gt;&lt;/strong&gt;&lt;/p&gt;
 \n&lt;p&gt;Northeast Chapter of the ESD Association joint meeting with IEEE Bost
 on Reliability Chapter\, and IEEE Boston Young Professionals Affinity Grou
 p&lt;/p&gt;\n&lt;p&gt;ANSI/ESD S20.20 industry standard for static control programs un
 dergoes revisions every 7 years. The current version was released in 2014 
 and the 2021 changes are expected to be released later this year or early 
 next year. The 2021 revisions include both editorial and technical changes
 . During this tutorial you will learn what is new and what is missing. The
  changes expand the use of some test methods\, require new tests and possi
 bly new test equipment. Anyone involved with a static control program that
  is either compliant or certified to S20.20 will find important informatio
 n in this webinar.&lt;/p&gt;\n&lt;p&gt;A free download of the 2014 version is availabl
 e at www.esda.org.&lt;/p&gt;\n&lt;p&gt;&amp;nbsp\;&lt;/p&gt;&lt;br /&gt;&lt;br /&gt;Agenda: &lt;br /&gt;&lt;p&gt;&amp;nbsp\;
 &lt;/p&gt;\n&lt;p&gt;&lt;strong&gt;1:00 PM&lt;/strong&gt;&amp;nbsp\;&amp;nbsp\;&amp;nbsp\;Technical Presentati
 on&lt;/p&gt;\n&lt;p&gt;&lt;strong&gt;1:45 PM&lt;/strong&gt;&amp;nbsp\;&amp;nbsp\; Questions and Answers&lt;/p
 &gt;\n&lt;p&gt;&lt;strong&gt;2:00 PM&lt;/strong&gt;&amp;nbsp\;&amp;nbsp\;&amp;nbsp\;Adjournment&lt;/p&gt;
END:VEVENT
END:VCALENDAR

