BEGIN:VCALENDAR
VERSION:2.0
PRODID:IEEE vTools.Events//EN
CALSCALE:GREGORIAN
BEGIN:VTIMEZONE
TZID:Canada/Eastern
BEGIN:DAYLIGHT
DTSTART:20210314T030000
TZOFFSETFROM:-0500
TZOFFSETTO:-0400
RRULE:FREQ=YEARLY;BYDAY=2SU;BYMONTH=3
TZNAME:EDT
END:DAYLIGHT
BEGIN:STANDARD
DTSTART:20211107T010000
TZOFFSETFROM:-0400
TZOFFSETTO:-0500
RRULE:FREQ=YEARLY;BYDAY=1SU;BYMONTH=11
TZNAME:EST
END:STANDARD
END:VTIMEZONE
BEGIN:VEVENT
DTSTAMP:20211016T123932Z
UID:5F21D829-2E29-475C-8E95-8460FE024C97
DTSTART;TZID=Canada/Eastern:20211009T090000
DTEND;TZID=Canada/Eastern:20211009T110000
DESCRIPTION:Easy circuit to transmit and receive audio through an LED\n\nWe
  are using the 555 chip to make an oscillator (Osc). Our audio signal chan
 ges the frequency of the Osc.\n\nThis signal drives a transistor with Infr
 ared LED collector load........\n\nWe think any voltage controlled oscilla
 tor circuit will do. We think so\n\nOn the receiver side\, a photodiode co
 nverts this light back to current. Circuit then followed with an I-V conve
 rter (a simple resistor).......\n\nAnd rest is audio..It works\n\nVirtual:
  https://events.vtools.ieee.org/m/285740
LOCATION:Virtual: https://events.vtools.ieee.org/m/285740
ORGANIZER:ieeehumber@gmail.com
SEQUENCE:2
SUMMARY:Fall Electronics session 2021
URL;VALUE=URI:https://events.vtools.ieee.org/m/285740
X-ALT-DESC:Description: &lt;br /&gt;&lt;p&gt;Easy circuit to transmit and receive audio
  through an LED&lt;/p&gt;\n&lt;p&gt;We are using the 555 chip to make an oscillator (O
 sc). Our audio signal changes the frequency of the Osc.&lt;/p&gt;\n&lt;p&gt;This signa
 l drives a transistor with Infrared LED collector load........&lt;/p&gt;\n&lt;p&gt;We 
 think any voltage controlled oscillator circuit will do. We think so&lt;/p&gt;\n
 &lt;p&gt;&amp;nbsp\;&lt;/p&gt;\n&lt;p&gt;On the receiver side\, a photodiode converts this light
  back to current. Circuit then followed with an I-V converter (a simple re
 sistor).......&lt;/p&gt;\n&lt;p&gt;And rest is audio..It works&lt;/p&gt;\n&lt;p&gt;&amp;nbsp\;&lt;/p&gt;\n&lt;p
 &gt;&amp;nbsp\;&lt;/p&gt;
END:VEVENT
END:VCALENDAR

