BEGIN:VCALENDAR
VERSION:2.0
PRODID:IEEE vTools.Events//EN
CALSCALE:GREGORIAN
BEGIN:VTIMEZONE
TZID:Asia/Calcutta
BEGIN:STANDARD
DTSTART:19451014T230000
TZOFFSETFROM:+0630
TZOFFSETTO:+0530
TZNAME:IST
END:STANDARD
END:VTIMEZONE
BEGIN:VEVENT
DTSTAMP:20211016T132419Z
UID:F4AFBFDD-4423-416D-A600-637358E637A3
DTSTART;TZID=Asia/Calcutta:20211030T080000
DTEND;TZID=Asia/Calcutta:20211030T150000
DESCRIPTION:Theme: Clean production and clean material\n\nVirtual: https://
 events.vtools.ieee.org/m/285915
LOCATION:Virtual: https://events.vtools.ieee.org/m/285915
ORGANIZER:jayasudhavijay@ieee.org
SEQUENCE:0
SUMMARY:WIE Global Summit IEEE Bangalore Technology conclave
URL;VALUE=URI:https://events.vtools.ieee.org/m/285915
X-ALT-DESC:Description: &lt;br /&gt;&lt;p&gt;Theme: Clean production and clean material
 &lt;/p&gt;
END:VEVENT
END:VCALENDAR

