BEGIN:VCALENDAR
VERSION:2.0
PRODID:IEEE vTools.Events//EN
CALSCALE:GREGORIAN
BEGIN:VTIMEZONE
TZID:Europe/Athens
BEGIN:DAYLIGHT
DTSTART:20220327T040000
TZOFFSETFROM:+0200
TZOFFSETTO:+0300
RRULE:FREQ=YEARLY;BYDAY=-1SU;BYMONTH=3
TZNAME:EEST
END:DAYLIGHT
BEGIN:STANDARD
DTSTART:20211031T030000
TZOFFSETFROM:+0300
TZOFFSETTO:+0200
RRULE:FREQ=YEARLY;BYDAY=-1SU;BYMONTH=10
TZNAME:EET
END:STANDARD
END:VTIMEZONE
BEGIN:VEVENT
DTSTAMP:20211129T084740Z
UID:124F53D5-7C5B-4D2E-8C81-705768C1DB82
DTSTART;TZID=Europe/Athens:20211103T180000
DTEND;TZID=Europe/Athens:20211103T200000
DESCRIPTION:After the 4G revolution which generated a plethora of new servi
 ces and business models for mobile Consumers in the past decade\, 5G and e
 dge computing is the Game Changer for Intelligent Industries!!! The combin
 ed innovation industries such as Telecommunications\, semiconductors and s
 oftware are now creating a new DNA across All the industry verticals\, cre
 ating groundbreaking use cases for production efficiencies and new connect
 ed products and services across automotive\, manufacturing\, life sciences
 \, environment\, logistics\, energy\, public safety\, smart cities and mor
 e. 5G together with Edge cloud computing power enables ‘quasi zero’ la
 tency of enabling data processing at the edge\, and avoiding unnecessary a
 ccess back and forth from the public cloud. 5G and Edge and together with 
 AI\, IoT and different connected device form factors\, unlock a panorama o
 f amazing innovations and applications as vehicles to X\, AR/VR\, factory 
 automation on the shop floor\, remote medical diagnostics or using drones 
 for search and rescue missions. Today we are only scratching the surfaces 
 for what new business models can achieve in this new exciting decade of in
 novation for better quality of life\, a greener economy and a sustainable 
 environment. The telecommunications industry itself is going through a mas
 sive software transformation as it moves to cloud. Orchestration and Autom
 ation is so important to unlock the potential of the Networks of the futur
 e to become ‘as a Service’ for both the citizens and for Enterprise Se
 rvices!\n\nVirtual: https://events.vtools.ieee.org/m/286570
LOCATION:Virtual: https://events.vtools.ieee.org/m/286570
ORGANIZER:papadopoulos@ece.upatras.gr
SEQUENCE:1
SUMMARY:5G Era of Invention: Edge Computing\, Creating new Experiences\, ne
 w Industries and Enriching Lives
URL;VALUE=URI:https://events.vtools.ieee.org/m/286570
X-ALT-DESC:Description: &lt;br /&gt;&lt;p&gt;After the 4G revolution which generated a 
 plethora of new services and business models for mobile Consumers in the p
 ast decade\, 5G and edge computing is the Game Changer for Intelligent Ind
 ustries!!! The combined&amp;nbsp\; innovation industries such as Telecommunica
 tions\, semiconductors and software are now creating a new DNA across All 
 the industry verticals\, creating groundbreaking use cases for production 
 efficiencies and new connected products and services across automotive\, m
 anufacturing\, life sciences\, environment\, logistics\, energy\, public s
 afety\, smart cities and more. 5G together with Edge cloud computing power
  enables &amp;lsquo\;quasi zero&amp;rsquo\; latency of enabling data processing at
  the edge\, and avoiding unnecessary access back and forth from the public
  cloud. 5G and&amp;nbsp\; Edge and together with AI\, IoT and different connec
 ted device form factors\,&amp;nbsp\; unlock a panorama of amazing innovations 
 and applications as vehicles to X\, AR/VR\, factory automation on the shop
  floor\, remote medical diagnostics or using drones for search and rescue 
 missions. Today we are only scratching the surfaces for what new business 
 models can achieve in this new exciting decade of innovation for better qu
 ality of life\, a greener economy and a sustainable environment. The telec
 ommunications industry itself is going through a massive software transfor
 mation as it moves to cloud. Orchestration and Automation is so important 
 to unlock the potential of the Networks of the future to become &amp;lsquo\;as
  a Service&amp;rsquo\; for both the citizens and for Enterprise Services!&lt;/p&gt;
END:VEVENT
END:VCALENDAR

