BEGIN:VCALENDAR
VERSION:2.0
PRODID:IEEE vTools.Events//EN
CALSCALE:GREGORIAN
BEGIN:VTIMEZONE
TZID:America/North_Dakota/Center
BEGIN:DAYLIGHT
DTSTART:20220313T030000
TZOFFSETFROM:-0600
TZOFFSETTO:-0500
RRULE:FREQ=YEARLY;BYDAY=2SU;BYMONTH=3
TZNAME:CDT
END:DAYLIGHT
BEGIN:STANDARD
DTSTART:20211107T010000
TZOFFSETFROM:-0500
TZOFFSETTO:-0600
RRULE:FREQ=YEARLY;BYDAY=1SU;BYMONTH=11
TZNAME:CST
END:STANDARD
END:VTIMEZONE
BEGIN:VEVENT
DTSTAMP:20211118T225302Z
UID:7EF619FA-D851-498D-9188-A918B82C858F
DTSTART;TZID=America/North_Dakota/Center:20211117T173000
DTEND;TZID=America/North_Dakota/Center:20211117T183000
DESCRIPTION:Join an panel of industry experts to discuss the wide range of 
 opportunities available to Electrical Engineers. Panelist will be asked qu
 estions ranging from engineering as a hole to specifics of each career pat
 h.\n\nIncludes panelist from Power &amp; Energy and Industrial Applications IE
 EE societies.\nPanelist\nHeather Ingerson\nZack Wineinger\nKarla Carter\nR
 on Ostendorf\n\nIn Person\, Pizza will be provided.\n\nCo-sponsored by: UN
 L IEEE Student Branch\n\nRoom: W185 Nebraska Hall\, 901 N 17th St\, Lincol
 n\, Nebraska\, United States\, 68508
LOCATION:Room: W185 Nebraska Hall\, 901 N 17th St\, Lincoln\, Nebraska\, Un
 ited States\, 68508
ORGANIZER:brian.turner@ieee.org
SEQUENCE:6
SUMMARY:Industry Overview Panel
URL;VALUE=URI:https://events.vtools.ieee.org/m/286637
X-ALT-DESC:Description: &lt;br /&gt;&lt;p&gt;Join an panel of industry experts to discu
 ss the wide range of opportunities available to Electrical Engineers. Pane
 list will be asked questions ranging from engineering as a hole to specifi
 cs of each career path.&amp;nbsp\;&lt;/p&gt;\n&lt;p&gt;&lt;br /&gt;Includes panelist from Power 
 &amp;amp\; Energy and Industrial Applications IEEE societies.&amp;nbsp\;&lt;/p&gt;\n&lt;div
 &gt;Panelist&amp;nbsp\;&lt;/div&gt;\n&lt;div&gt;Heather Ingerson&amp;nbsp\;&lt;/div&gt;\n&lt;div&gt;Zack Wine
 inger&amp;nbsp\;&lt;/div&gt;\n&lt;div&gt;Karla Carter&amp;nbsp\;&lt;/div&gt;\n&lt;div&gt;Ron Ostendorf&amp;nbs
 p\;&lt;/div&gt;\n&lt;div&gt;&amp;nbsp\;&lt;/div&gt;\n&lt;p&gt;In Person\, Pizza will be provided.&lt;/p&gt;
END:VEVENT
END:VCALENDAR

